BEGIN:VCALENDAR
VERSION:2.0
PRODID:-//Dempsey Center - ECPv6.15.15//NONSGML v1.0//EN
CALSCALE:GREGORIAN
METHOD:PUBLISH
X-WR-CALNAME:Dempsey Center
X-ORIGINAL-URL:https://www.dempseycenter.org
X-WR-CALDESC:Events for Dempsey Center
REFRESH-INTERVAL;VALUE=DURATION:PT1H
X-Robots-Tag:noindex
X-PUBLISHED-TTL:PT1H
BEGIN:VTIMEZONE
TZID:America/New_York
BEGIN:DAYLIGHT
TZOFFSETFROM:-0500
TZOFFSETTO:-0400
TZNAME:EDT
DTSTART:20250309T070000
END:DAYLIGHT
BEGIN:STANDARD
TZOFFSETFROM:-0400
TZOFFSETTO:-0500
TZNAME:EST
DTSTART:20251102T060000
END:STANDARD
BEGIN:DAYLIGHT
TZOFFSETFROM:-0500
TZOFFSETTO:-0400
TZNAME:EDT
DTSTART:20260308T070000
END:DAYLIGHT
BEGIN:STANDARD
TZOFFSETFROM:-0400
TZOFFSETTO:-0500
TZNAME:EST
DTSTART:20261101T060000
END:STANDARD
BEGIN:DAYLIGHT
TZOFFSETFROM:-0500
TZOFFSETTO:-0400
TZNAME:EDT
DTSTART:20270314T070000
END:DAYLIGHT
BEGIN:STANDARD
TZOFFSETFROM:-0400
TZOFFSETTO:-0500
TZNAME:EST
DTSTART:20271107T060000
END:STANDARD
END:VTIMEZONE
BEGIN:VEVENT
DTSTART;TZID=America/New_York:20260129T100000
DTEND;TZID=America/New_York:20260129T104500
DTSTAMP:20260422T014104
CREATED:20260216T193832Z
LAST-MODIFIED:20260216T193832Z
UID:10003268-1769680800-1769683500@www.dempseycenter.org
SUMMARY:Fitness for Life [Lewiston]
DESCRIPTION:Exercise can help fight fatigue\, boost your energy level\, support your immune system\, relieve stress and tension\, make your muscles and heart stronger\, improve balance and help you sleep better. This 45-minute class will provide you with all the fundamentals of an exercise program\, adapting it to meet the needs of varying levels of fitness with a warm-up\, aerobic activity\, core and strength training exercises\, and finishing with a cooldown/stretch. Please wear comfortable clothes and supportive shoes or sneakers and have a sturdy chair available on a non-skid surface and small handheld weights.\n\nLed by Tish Caldwell\, Dempsey Center’s Movement + Fitness Manager\, Certified Oncology Yoga Instructor\, and Livestrong Cancer Exercise Trainer.\n\nOpen to Dempsey Center clients in active treatment or post-treatment and their primary care partner.
URL:https://www.dempseycenter.org/event/fitness-for-life-lewiston-5/2026-01-29/
LOCATION:Dempsey Center – Lewiston (12 High Street)\, 12 High Street\, Lewiston\, ME\, 04240\, United States
CATEGORIES:Movement + Fitness
ATTACH;FMTTYPE=image/png:https://www.dempseycenter.org/wp-content/uploads/2025/05/Fitness-for-Life-Lew.png
END:VEVENT
BEGIN:VEVENT
DTSTART;TZID=America/New_York:20260129T100000
DTEND;TZID=America/New_York:20260129T110000
DTSTAMP:20260422T014104
CREATED:20251218T170326Z
LAST-MODIFIED:20251218T170326Z
UID:10003134-1769680800-1769684400@www.dempseycenter.org
SUMMARY:Tai Chi + Qigong for Energy + Health [Rock Row]
DESCRIPTION:No class February 26 or March 5.\n \nTai Chi is a movement therapy that promotes the flow of energy in the body to improve health. Suitable for all ages\, this class will emphasize the practice and cultivation of different exercises that provide benefits such as improved balance\, range of motion\, and core strength\, as well as pain management and decreased stress and anxiety.\n\nLed by Cal Clark\, LMT\, Polarity Therapist\, Certified Qi Gong Instructor.\n\nOpen to Dempsey Center clients in active treatment or post-treatment and their primary care partner.
URL:https://www.dempseycenter.org/event/tai-chi-qigong-for-energy-health-rock-row-3/2026-01-29/
LOCATION:Dempsey Center – Rock Row\, 11 Rock Row\, Westbrook\, ME\, 04092\, United States
CATEGORIES:Movement + Fitness
ATTACH;FMTTYPE=image/png:https://www.dempseycenter.org/wp-content/uploads/2025/05/Tai-Chi-QiGong-for-Energy-Health-Connects-3.png
END:VEVENT
BEGIN:VEVENT
DTSTART;TZID=America/New_York:20260129T100000
DTEND;TZID=America/New_York:20260129T113000
DTSTAMP:20260422T014104
CREATED:20250507T142526Z
LAST-MODIFIED:20250507T144546Z
UID:10000547-1769680800-1769686200@www.dempseycenter.org
SUMMARY:Advanced Cancer Support Group - Morning [Dempsey Connects]
DESCRIPTION:If you are living with an advanced cancer diagnosis\, this is a safe place to explore ways to cope with the challenges of living with advanced illness and continue to find meaning and hope through discussion and connection.\nLed by Kailie Sullivan\, LCSW\, OSW-C and Judi Stevens\, Volunteer Support Group Facilitator.\n\nOpen to adult Dempsey Center clients living with advanced cancer.\nParticipants must be residents of Maine\, New Hampshire\, or Massachuesetts.\n\nOnline sign up is not available for this group. A telephone consult is required before attending. Please call us at (877)336-7287 or email registration@dempseycenter.org to request your consult.
URL:https://www.dempseycenter.org/event/advanced-cancer-support-group-morning-dempsey-connects/2026-01-29/
LOCATION:Dempsey Connects
CATEGORIES:Counseling,Support Groups
ATTACH;FMTTYPE=image/png:https://www.dempseycenter.org/wp-content/uploads/2025/05/Advanced-Cancer-Support-Group-Morning-Connects.png
END:VEVENT
BEGIN:VEVENT
DTSTART;TZID=America/New_York:20260129T100000
DTEND;TZID=America/New_York:20260129T113000
DTSTAMP:20260422T014104
CREATED:20251218T160646Z
LAST-MODIFIED:20251218T160646Z
UID:10003122-1769680800-1769686200@www.dempseycenter.org
SUMMARY:Virtual Cancer Support Group [Dempsey Connects]
DESCRIPTION:Meet virtually with others impacted by a cancer diagnosis in this weekly support group. Whether you were recently diagnosed\, in the midst of treatment\, or are in remission\, this group is a place to discuss your diagnosis and its lingering impact with those who truly understand.\n\nLed by Paige Moore\, LCSW\, CAGC\, OSW-C.\n\nOpen to Dempsey Center clients with a cancer diagnosis at any stage.\nParticipants must be Maine residents.
URL:https://www.dempseycenter.org/event/virtual-cancer-support-group-dempsey-connects-2/2026-01-29/
LOCATION:Dempsey Connects
CATEGORIES:Support Groups
ATTACH;FMTTYPE=image/png:https://www.dempseycenter.org/wp-content/uploads/2025/07/General-Cancer-Support-Series-Connects.png
END:VEVENT
BEGIN:VEVENT
DTSTART;TZID=America/New_York:20260129T103000
DTEND;TZID=America/New_York:20260129T120000
DTSTAMP:20260422T014104
CREATED:20250507T135932Z
LAST-MODIFIED:20260416T190403Z
UID:10002471-1769682600-1769688000@www.dempseycenter.org
SUMMARY:Dempsey Dog Meet + Greet: Forest [Rock Row]
DESCRIPTION:Therapy dogs can help to provide emotional support\, alleviate stress\, improve moods\, and help boost confidence. We are proud to encourage the animal-human bond through our teams of Dempsey Dogs\, trained and registered by Pet Partners.\nDrop in and say “hi” to our Dempsey Dog Teams. No sign up needed!
URL:https://www.dempseycenter.org/event/dempsey-dog-meet-greet-forest-rock-row/2026-01-29/
LOCATION:Dempsey Center – Rock Row\, 11 Rock Row\, Westbrook\, ME\, 04092\, United States
CATEGORIES:Comfort + Wellbeing,Dempsey Dogs
ATTACH;FMTTYPE=image/png:https://www.dempseycenter.org/wp-content/uploads/2025/05/Demp-Dogs-Meet-Forest-RR.png
END:VEVENT
BEGIN:VEVENT
DTSTART;TZID=America/New_York:20260129T110000
DTEND;TZID=America/New_York:20260129T114500
DTSTAMP:20260422T014104
CREATED:20260216T194130Z
LAST-MODIFIED:20260313T145024Z
UID:10003503-1769684400-1769687100@www.dempseycenter.org
SUMMARY:Chair Yoga [Lewiston]
DESCRIPTION:Join us for a gentle\, accessible form of yoga\, open to all levels of experience. Chair Yoga utilizes both seated and standing poses using a chair for support to provide all the benefits of a traditional yoga practice. We will use movement\, breathing\, and mindfulness to improve muscular strength\, bone density\, immune support\, flexibility\, energy\, sleep\, and posture.\nLed by Tish Caldwell\, Dempsey Center’s Movement + Fitness Manager\, Certified Oncology Yoga Instructor.\nOpen to Dempsey Center clients in active treatment or post-treatment and their primary care partner.
URL:https://www.dempseycenter.org/event/chair-yoga-lewiston-5/2026-01-29/
LOCATION:Dempsey Center – Lewiston (12 High Street)\, 12 High Street\, Lewiston\, ME\, 04240\, United States
CATEGORIES:Movement + Fitness
ATTACH;FMTTYPE=image/png:https://www.dempseycenter.org/wp-content/uploads/2025/08/Chair-Yoga-Lew.png
END:VEVENT
BEGIN:VEVENT
DTSTART;TZID=America/New_York:20260129T160000
DTEND;TZID=America/New_York:20260129T173000
DTSTAMP:20260422T014105
CREATED:20251218T183807Z
LAST-MODIFIED:20251218T183807Z
UID:10003147-1769702400-1769707800@www.dempseycenter.org
SUMMARY:Rejuvenate: Yoga + Massage [Lewiston]
DESCRIPTION:Experience the harmonious fusion of restorative yoga and massage. You will be guided into a variety of supported yoga postures\, and while you relax into the poses and receive gentle hand\, foot\, back and neck massage from a member of our massage team. This unique combination offers a chance for profound relaxation\, comfort\, and rejuvenation.\nNo prior experience with yoga or massage is necessary.\nModifications can be made for clients who find it challenging to transition from floor to standing.\n\nLed by Liz Como.\n\nOpen to all Dempsey Center adult clients.\n \nThis program will take at 12 High St. (YMCA)
URL:https://www.dempseycenter.org/event/rejuvenate-yoga-massage-lewiston-4/
LOCATION:Dempsey Center – Lewiston (12 High Street)\, 12 High Street\, Lewiston\, ME\, 04240\, United States
CATEGORIES:Complementary Therapies
ATTACH;FMTTYPE=image/png:https://www.dempseycenter.org/wp-content/uploads/2025/05/Rejuvenate_-Yoga-Reiki-and-Massage-Lew.png
END:VEVENT
BEGIN:VEVENT
DTSTART;TZID=America/New_York:20260129T173000
DTEND;TZID=America/New_York:20260129T183000
DTSTAMP:20260422T014105
CREATED:20251211T155307Z
LAST-MODIFIED:20251211T155307Z
UID:10003069-1769707800-1769711400@www.dempseycenter.org
SUMMARY:Yoga for Cancer Care - Evening [Dempsey Connects]
DESCRIPTION:Reduce stress\, manage treatment side-effects\, and aid cancer recovery through a unique evidence-based yoga method specifically for those diagnosed with cancer. Through movement\, breathing\, and mindfulness\, this practice aims to provide benefits such as muscular strength\, bone density\, immune support\, flexibility\, and improved posture.\nLed by Heather Edgerly Certified Oncology Yoga Instructor. \nOpen to all adult Dempsey Center clients.\nPlease note that participants must be able to transition from floor to standing.
URL:https://www.dempseycenter.org/event/yoga-for-cancer-care-evening-dempsey-connects-3/2026-01-29/
LOCATION:Dempsey Connects
CATEGORIES:Movement + Fitness
ATTACH;FMTTYPE=image/png:https://www.dempseycenter.org/wp-content/uploads/2025/04/Yoga-for-Cancer-Care-Evening-Connects.png
END:VEVENT
END:VCALENDAR