BEGIN:VCALENDAR
VERSION:2.0
PRODID:-//Dempsey Center - ECPv6.15.15//NONSGML v1.0//EN
CALSCALE:GREGORIAN
METHOD:PUBLISH
X-WR-CALNAME:Dempsey Center
X-ORIGINAL-URL:https://www.dempseycenter.org
X-WR-CALDESC:Events for Dempsey Center
REFRESH-INTERVAL;VALUE=DURATION:PT1H
X-Robots-Tag:noindex
X-PUBLISHED-TTL:PT1H
BEGIN:VTIMEZONE
TZID:America/New_York
BEGIN:DAYLIGHT
TZOFFSETFROM:-0500
TZOFFSETTO:-0400
TZNAME:EDT
DTSTART:20240310T070000
END:DAYLIGHT
BEGIN:STANDARD
TZOFFSETFROM:-0400
TZOFFSETTO:-0500
TZNAME:EST
DTSTART:20241103T060000
END:STANDARD
BEGIN:DAYLIGHT
TZOFFSETFROM:-0500
TZOFFSETTO:-0400
TZNAME:EDT
DTSTART:20250309T070000
END:DAYLIGHT
BEGIN:STANDARD
TZOFFSETFROM:-0400
TZOFFSETTO:-0500
TZNAME:EST
DTSTART:20251102T060000
END:STANDARD
BEGIN:DAYLIGHT
TZOFFSETFROM:-0500
TZOFFSETTO:-0400
TZNAME:EDT
DTSTART:20260308T070000
END:DAYLIGHT
BEGIN:STANDARD
TZOFFSETFROM:-0400
TZOFFSETTO:-0500
TZNAME:EST
DTSTART:20261101T060000
END:STANDARD
END:VTIMEZONE
BEGIN:VEVENT
DTSTART;TZID=America/New_York:20250603T140000
DTEND;TZID=America/New_York:20250603T151500
DTSTAMP:20260423T052503
CREATED:20250507T180539Z
LAST-MODIFIED:20250507T180539Z
UID:10001490-1748959200-1748963700@www.dempseycenter.org
SUMMARY:Guided Meditation + Massage [Rock Row]
DESCRIPTION:Experience a serene session of guided meditation and restorative massage. Allow yourself to be guided through tranquil meditation while our massage therapists offer soothing hand\, foot\, back\, and neck massage. This distinctive blend provides an opportunity for deep relaxation\, comfort\, and rejuvenation.\n\nLed by Dempsey Center Maggie Miller\, Kelcy McNamara\, and Tricia Gilbert.\n\nOpen to Dempsey Center clients in active treatment or post-treatment.
URL:https://www.dempseycenter.org/event/guided-meditation-massage-rock-row/
LOCATION:Dempsey Center – Rock Row\, 11 Rock Row\, Westbrook\, ME\, 04092\, United States
CATEGORIES:Complementary Therapies,Mindfulness + Meditation
ATTACH;FMTTYPE=image/png:https://www.dempseycenter.org/wp-content/uploads/2025/05/Guided-Meditation-Massage-RR-2.png
END:VEVENT
BEGIN:VEVENT
DTSTART;TZID=America/New_York:20250612T130000
DTEND;TZID=America/New_York:20250612T143000
DTSTAMP:20260423T052503
CREATED:20250507T182819Z
LAST-MODIFIED:20250507T182819Z
UID:10001543-1749733200-1749738600@www.dempseycenter.org
SUMMARY:Rejuvenate: Yoga + Massage [Rock Row]
DESCRIPTION:Experience the harmonious fusion of restorative yoga and massage with our gentle yoga and massage session. You will be led into a variety of restorative yoga postures\, and while you breathe\, stretch and relax\, you’ll receive gentle hand\, foot\, back and neck massage from a member of our massage team. This unique combination offers a chance for profound relaxation\, comfort\, and rejuvenation.\n\nNo prior experience with yoga or massage is necessary\, however\, participants must be able to transition from floor to standing.\n\nLed by Maggie Miller\, Kelcy McNamara\, and Kelli DuBose. \nOpen to Dempsey Center clients.
URL:https://www.dempseycenter.org/event/rejuvenate-yoga-massage-rock-row-2/
LOCATION:Dempsey Center – Rock Row\, 11 Rock Row\, Westbrook\, ME\, 04092\, United States
CATEGORIES:Complementary Therapies
ATTACH;FMTTYPE=image/png:https://www.dempseycenter.org/wp-content/uploads/2025/05/Rejuvenate_-Yoga-Reiki-and-Massage-Lew-2-1.png
END:VEVENT
END:VCALENDAR