BEGIN:VCALENDAR
VERSION:2.0
PRODID:-//Dempsey Center - ECPv6.15.15//NONSGML v1.0//EN
CALSCALE:GREGORIAN
METHOD:PUBLISH
X-WR-CALNAME:Dempsey Center
X-ORIGINAL-URL:https://www.dempseycenter.org
X-WR-CALDESC:Events for Dempsey Center
REFRESH-INTERVAL;VALUE=DURATION:PT1H
X-Robots-Tag:noindex
X-PUBLISHED-TTL:PT1H
BEGIN:VTIMEZONE
TZID:America/New_York
BEGIN:DAYLIGHT
TZOFFSETFROM:-0500
TZOFFSETTO:-0400
TZNAME:EDT
DTSTART:20250309T070000
END:DAYLIGHT
BEGIN:STANDARD
TZOFFSETFROM:-0400
TZOFFSETTO:-0500
TZNAME:EST
DTSTART:20251102T060000
END:STANDARD
BEGIN:DAYLIGHT
TZOFFSETFROM:-0500
TZOFFSETTO:-0400
TZNAME:EDT
DTSTART:20260308T070000
END:DAYLIGHT
BEGIN:STANDARD
TZOFFSETFROM:-0400
TZOFFSETTO:-0500
TZNAME:EST
DTSTART:20261101T060000
END:STANDARD
BEGIN:DAYLIGHT
TZOFFSETFROM:-0500
TZOFFSETTO:-0400
TZNAME:EDT
DTSTART:20270314T070000
END:DAYLIGHT
BEGIN:STANDARD
TZOFFSETFROM:-0400
TZOFFSETTO:-0500
TZNAME:EST
DTSTART:20271107T060000
END:STANDARD
END:VTIMEZONE
BEGIN:VEVENT
DTSTART;TZID=America/New_York:20261102T100000
DTEND;TZID=America/New_York:20261102T113000
DTSTAMP:20260423T070918
CREATED:20251031T181359Z
LAST-MODIFIED:20251031T181400Z
UID:10002633-1793613600-1793619000@www.dempseycenter.org
SUMMARY:Dempsey Dog Meet + Greet: Louise Cheese [Lewiston]
DESCRIPTION:Therapy dogs can help to provide emotional support\, alleviate stress\, improve moods\, and help boost confidence. We are proud to encourage the animal-human bond through our teams of Dempsey Dogs\, trained and registered by Pet Partners.\n\nDrop in and say “hi” to our Dempsey Dog Teams. No sign up needed!\n\n\n\n\nInterested in spending some time with one of our Dempsey Dogs teams individually? Call 877-336-7287 to schedule your private Paws Together appointment with one of our therapy dog teams.
URL:https://www.dempseycenter.org/event/dempsey-dog-meet-greet-louise-cheese-2/2026-11-02/
LOCATION:Dempsey Center – Lewiston (17 High Street)\, 17 High Street\, Lewiston\, ME\, 04240\, United States
CATEGORIES:Comfort + Wellbeing,Dempsey Dogs
ATTACH;FMTTYPE=image/png:https://www.dempseycenter.org/wp-content/uploads/2025/05/Demp-Dogs-Meet-Louise-Lew.png
END:VEVENT
BEGIN:VEVENT
DTSTART;TZID=America/New_York:20261102T100000
DTEND;TZID=America/New_York:20261102T113000
DTSTAMP:20260423T070918
CREATED:20260417T152250Z
LAST-MODIFIED:20260417T152250Z
UID:10004154-1793613600-1793619000@www.dempseycenter.org
SUMMARY:Dempsey Dog Meet + Greet: Louise Cheese [Lewiston]
DESCRIPTION:Therapy dogs can help to provide emotional support\, alleviate stress\, improve moods\, and help boost confidence. We are proud to encourage the animal-human bond through our teams of Dempsey Dogs\, trained and registered by Pet Partners.\n \nDrop in and say “hi” to our Dempsey Dog Teams. No sign up needed!\n \nLouise Cheese is expected most 1st + 3rd Mondays\, 10:00-11:30AM.
URL:https://www.dempseycenter.org/event/dempsey-dog-meet-greet-louise-cheese-lewiston/2026-11-02/
LOCATION:Dempsey Center – Lewiston (17 High Street)\, 17 High Street\, Lewiston\, ME\, 04240\, United States
CATEGORIES:Dempsey Dogs
ATTACH;FMTTYPE=image/png:https://www.dempseycenter.org/wp-content/uploads/2025/05/Demp-Dogs-Meet-Louise-Lew.png
END:VEVENT
BEGIN:VEVENT
DTSTART;TZID=America/New_York:20261103T160000
DTEND;TZID=America/New_York:20261103T170000
DTSTAMP:20260423T070918
CREATED:20260416T193751Z
LAST-MODIFIED:20260416T193751Z
UID:10004120-1793721600-1793725200@www.dempseycenter.org
SUMMARY:Dempsey Dog Meet + Greet: Lilo [Lewiston]
DESCRIPTION:Therapy dogs can help to provide emotional support\, alleviate stress\, improve moods\, and help boost confidence. We are proud to encourage the animal-human bond through our teams of Dempsey Dogs\, trained and registered by Pet Partners.\n\nDrop in and say “hi” to our Dempsey Dog Teams. No sign up needed! \n\nLilo is expected the first and 1st + 3rd Tuesday monthly.
URL:https://www.dempseycenter.org/event/dempsey-dog-meet-greet-lilo-lewiston-2/2026-11-03/
LOCATION:Dempsey Center – Lewiston (12 High Street)\, 12 High Street\, Lewiston\, ME\, 04240\, United States
CATEGORIES:Dempsey Dogs
END:VEVENT
BEGIN:VEVENT
DTSTART;TZID=America/New_York:20261104T090000
DTEND;TZID=America/New_York:20261104T103000
DTSTAMP:20260423T070918
CREATED:20260417T144501Z
LAST-MODIFIED:20260417T144501Z
UID:10004145-1793782800-1793788200@www.dempseycenter.org
SUMMARY:Dempsey Dog Meet + Greet: Louise Cheese [Rock Row]
DESCRIPTION:Therapy dogs can help to provide emotional support\, alleviate stress\, improve moods\, and help boost confidence. We are proud to encourage the animal-human bond through our teams of Dempsey Dogs\, trained and registered by Pet Partners.\nDrop into our Rock Row center and say “hi” to our Dempsey Dog Teams. No sign up needed!\n\nLouise Cheese is expected most Wednesdays\, 9:00-10:30AM
URL:https://www.dempseycenter.org/event/dempsey-dog-meet-greet-louise-cheese-rock-row-3/2026-11-04/
LOCATION:Dempsey Center – Rock Row\, 11 Rock Row\, Westbrook\, ME\, 04092\, United States
CATEGORIES:Dempsey Dogs
ATTACH;FMTTYPE=image/png:https://www.dempseycenter.org/wp-content/uploads/2025/05/Demp-Dogs-Meet-Louise-RR.png
END:VEVENT
BEGIN:VEVENT
DTSTART;TZID=America/New_York:20261104T140000
DTEND;TZID=America/New_York:20261104T160000
DTSTAMP:20260423T070918
CREATED:20260420T175658Z
LAST-MODIFIED:20260420T175658Z
UID:10004191-1793800800-1793808000@www.dempseycenter.org
SUMMARY:Dempsey Dog Meet + Greet: Rudy [Rock Row]
DESCRIPTION:Therapy dogs can help to provide emotional support\, alleviate stress\, improve moods\, and help boost confidence. We are proud to encourage the animal-human bond through our teams of Dempsey Dogs\, trained and registered by Pet Partners.\n\nDrop in and say “hi” to our Dempsey Dog Teams. No sign up needed!\n \nRudy is expected most Wednesdays\, 2:00-4:00PM.
URL:https://www.dempseycenter.org/event/dempsey-dog-meet-greet-rudy-rock-row-2/2026-11-04/
LOCATION:Dempsey Center – Rock Row\, 11 Rock Row\, Westbrook\, ME\, 04092\, United States
CATEGORIES:Dempsey Dogs
ATTACH;FMTTYPE=image/png:https://www.dempseycenter.org/wp-content/uploads/2025/07/Demp-Dogs-Meet-Rudy-RR.png
END:VEVENT
BEGIN:VEVENT
DTSTART;TZID=America/New_York:20261105T103000
DTEND;TZID=America/New_York:20261105T120000
DTSTAMP:20260423T070918
CREATED:20260416T191246Z
LAST-MODIFIED:20260416T191246Z
UID:10004110-1793874600-1793880000@www.dempseycenter.org
SUMMARY:Dempsey Dog Meet + Greet: Forest [Rock Row]
DESCRIPTION:Therapy dogs can help to provide emotional support\, alleviate stress\, improve moods\, and help boost confidence. We are proud to encourage the animal-human bond through our teams of Dempsey Dogs\, trained and registered by Pet Partners.
URL:https://www.dempseycenter.org/event/dempsey-dog-meet-greet-forest-rock-row-2/2026-11-05/
LOCATION:Dempsey Center – Rock Row\, 11 Rock Row\, Westbrook\, ME\, 04092\, United States
CATEGORIES:Dempsey Dogs
ATTACH;FMTTYPE=image/png:https://www.dempseycenter.org/wp-content/uploads/2026/04/Demp-Dogs-Meet-Forest-RR.png
END:VEVENT
BEGIN:VEVENT
DTSTART;TZID=America/New_York:20261105T170000
DTEND;TZID=America/New_York:20261105T180000
DTSTAMP:20260423T070918
CREATED:20260416T185921Z
LAST-MODIFIED:20260416T190030Z
UID:10004091-1793898000-1793901600@www.dempseycenter.org
SUMMARY:Dempsey Dog Meet + Greet: Bruce [Rock Row]
DESCRIPTION:Therapy dogs can help to provide emotional support\, alleviate stress\, improve moods\, and help boost confidence. We are proud to encourage the animal-human bond through our teams of Dempsey Dogs\, trained and registered by Pet Partners.\nDrop in and say “hi” to our Dempsey Dog Teams. No sign up needed!\n\nBruce is expected the 1st Thursday of every month.
URL:https://www.dempseycenter.org/event/dempsey-dog-meet-greet-bruce-rock-row/2026-11-05/
LOCATION:Dempsey Center – Rock Row\, 11 Rock Row\, Westbrook\, ME\, 04092\, United States
CATEGORIES:Dempsey Dogs
ATTACH;FMTTYPE=image/png:https://www.dempseycenter.org/wp-content/uploads/2025/05/Demp-Dogs-Meet-Bruce-RR.png
END:VEVENT
BEGIN:VEVENT
DTSTART;TZID=America/New_York:20261110T160000
DTEND;TZID=America/New_York:20261110T170000
DTSTAMP:20260423T070918
CREATED:20250507T134654Z
LAST-MODIFIED:20251031T181603Z
UID:10002696-1794326400-1794330000@www.dempseycenter.org
SUMMARY:Dempsey Dog Meet + Greet: Meadow [Lewiston]
DESCRIPTION:Therapy dogs can help to provide emotional support\, alleviate stress\, improve moods\, and help boost confidence. We are proud to encourage the animal-human bond through our teams of Dempsey Dogs\, trained and registered by Pet Partners. \nDrop in and say “hi” to our Dempsey Dog Teams. No sign-up needed!\n\nInterested in spending some time with one of our Dempsey Dogs teams individually? Call 877-336-7287 to schedule your private Paws Together appointment with one of our therapy dog teams.
URL:https://www.dempseycenter.org/event/dempsey-dog-meet-greet-meadow-lewiston/2026-11-10/
LOCATION:Dempsey Center – Lewiston (17 High Street)\, 17 High Street\, Lewiston\, ME\, 04240\, United States
CATEGORIES:Comfort + Wellbeing,Dempsey Dogs
ATTACH;FMTTYPE=image/png:https://www.dempseycenter.org/wp-content/uploads/2025/05/Demp-Dogs-Meet-Meadow-Lew.png
END:VEVENT
BEGIN:VEVENT
DTSTART;TZID=America/New_York:20261110T160000
DTEND;TZID=America/New_York:20261110T170000
DTSTAMP:20260423T070918
CREATED:20260420T162059Z
LAST-MODIFIED:20260420T162059Z
UID:10004166-1794326400-1794330000@www.dempseycenter.org
SUMMARY:Dempsey Dog Meet + Greet: Meadow [Lewiston]
DESCRIPTION:Therapy dogs can help to provide emotional support\, alleviate stress\, improve moods\, and help boost confidence. We are proud to encourage the animal-human bond through our teams of Dempsey Dogs\, trained and registered by Pet Partners.\n\nDrop in and say “hi” to our Dempsey Dog Teams. No sign up needed!\n\nMeadow is expected most 2nd & 4th Tuesdays monthly.
URL:https://www.dempseycenter.org/event/dempsey-dog-meet-greet-meadow-lewiston-2/2026-11-10/
LOCATION:Dempsey Center – Lewiston (17 High Street)\, 17 High Street\, Lewiston\, ME\, 04240\, United States
CATEGORIES:Dempsey Dogs
ATTACH;FMTTYPE=image/png:https://www.dempseycenter.org/wp-content/uploads/2025/05/Demp-Dogs-Meet-Meadow-Lew.png
END:VEVENT
BEGIN:VEVENT
DTSTART;TZID=America/New_York:20261112T103000
DTEND;TZID=America/New_York:20261112T120000
DTSTAMP:20260423T070918
CREATED:20260416T191246Z
LAST-MODIFIED:20260416T191246Z
UID:10004111-1794479400-1794484800@www.dempseycenter.org
SUMMARY:Dempsey Dog Meet + Greet: Forest [Rock Row]
DESCRIPTION:Therapy dogs can help to provide emotional support\, alleviate stress\, improve moods\, and help boost confidence. We are proud to encourage the animal-human bond through our teams of Dempsey Dogs\, trained and registered by Pet Partners.
URL:https://www.dempseycenter.org/event/dempsey-dog-meet-greet-forest-rock-row-2/2026-11-12/
LOCATION:Dempsey Center – Rock Row\, 11 Rock Row\, Westbrook\, ME\, 04092\, United States
CATEGORIES:Dempsey Dogs
ATTACH;FMTTYPE=image/png:https://www.dempseycenter.org/wp-content/uploads/2026/04/Demp-Dogs-Meet-Forest-RR.png
END:VEVENT
BEGIN:VEVENT
DTSTART;TZID=America/New_York:20261116T100000
DTEND;TZID=America/New_York:20261116T113000
DTSTAMP:20260423T070918
CREATED:20260417T153029Z
LAST-MODIFIED:20260417T153029Z
UID:10004160-1794823200-1794828600@www.dempseycenter.org
SUMMARY:Dempsey Dog Meet + Greet: Louise Cheese [Lewiston]
DESCRIPTION:Therapy dogs can help to provide emotional support\, alleviate stress\, improve moods\, and help boost confidence. We are proud to encourage the animal-human bond through our teams of Dempsey Dogs\, trained and registered by Pet Partners.\n \nDrop in and say “hi” to our Dempsey Dog Teams. No sign up needed!\n \nLouise Cheese is expected most 1st + 3rd Mondays\, 10:00-11:30AM.
URL:https://www.dempseycenter.org/event/dempsey-dog-meet-greet-louise-cheese-lewiston-2/2026-11-16/
LOCATION:Dempsey Center – Lewiston (17 High Street)\, 17 High Street\, Lewiston\, ME\, 04240\, United States
CATEGORIES:Dempsey Dogs
ATTACH;FMTTYPE=image/png:https://www.dempseycenter.org/wp-content/uploads/2025/05/Demp-Dogs-Meet-Louise-Lew.png
END:VEVENT
BEGIN:VEVENT
DTSTART;TZID=America/New_York:20261117T100000
DTEND;TZID=America/New_York:20261117T113000
DTSTAMP:20260423T070918
CREATED:20250507T140457Z
LAST-MODIFIED:20251031T182752Z
UID:10002821-1794909600-1794915000@www.dempseycenter.org
SUMMARY:Dempsey Dog Meet + Greet: Louise Cheese [Lewiston]
DESCRIPTION:Therapy dogs can help to provide emotional support\, alleviate stress\, improve moods\, and help boost confidence. We are proud to encourage the animal-human bond through our teams of Dempsey Dogs\, trained and registered by Pet Partners.\n\nDrop in and say “hi” to our Dempsey Dog Teams. No sign up needed!\n\n\n\n\nInterested in spending some time with one of our Dempsey Dogs teams individually? Call 877-336-7287 to schedule your private Paws Together appointment with one of our therapy dog teams.
URL:https://www.dempseycenter.org/event/dempsey-dog-meet-greet-louise-cheese/2026-11-17/
LOCATION:Dempsey Center – Lewiston (17 High Street)\, 17 High Street\, Lewiston\, ME\, 04240\, United States
CATEGORIES:Comfort + Wellbeing,Dempsey Dogs
ATTACH;FMTTYPE=image/png:https://www.dempseycenter.org/wp-content/uploads/2025/05/Demp-Dogs-Meet-Louise-Lew.png
END:VEVENT
BEGIN:VEVENT
DTSTART;TZID=America/New_York:20261117T160000
DTEND;TZID=America/New_York:20261117T170000
DTSTAMP:20260423T070918
CREATED:20260416T194643Z
LAST-MODIFIED:20260416T194643Z
UID:10004126-1794931200-1794934800@www.dempseycenter.org
SUMMARY:Dempsey Dog Meet + Greet: Lilo [Lewiston]
DESCRIPTION:Therapy dogs can help to provide emotional support\, alleviate stress\, improve moods\, and help boost confidence. We are proud to encourage the animal-human bond through our teams of Dempsey Dogs\, trained and registered by Pet Partners.\nDrop in and say “hi” to our Dempsey Dog Teams. No sign up needed!\nLilo is expected the first and 1st + 3rd Tuesday monthly.lilo
URL:https://www.dempseycenter.org/event/dempsey-dog-meet-greet-lilo-lewiston-3/2026-11-17/
LOCATION:Dempsey Center – Lewiston (17 High Street)\, 17 High Street\, Lewiston\, ME\, 04240\, United States
CATEGORIES:Dempsey Dogs
ATTACH;FMTTYPE=image/png:https://www.dempseycenter.org/wp-content/uploads/2026/04/Dempsey-Doga-Lilo-Kat-Lew.png
END:VEVENT
BEGIN:VEVENT
DTSTART;TZID=America/New_York:20261118T090000
DTEND;TZID=America/New_York:20261118T103000
DTSTAMP:20260423T070918
CREATED:20260417T144501Z
LAST-MODIFIED:20260417T144501Z
UID:10004146-1794992400-1794997800@www.dempseycenter.org
SUMMARY:Dempsey Dog Meet + Greet: Louise Cheese [Rock Row]
DESCRIPTION:Therapy dogs can help to provide emotional support\, alleviate stress\, improve moods\, and help boost confidence. We are proud to encourage the animal-human bond through our teams of Dempsey Dogs\, trained and registered by Pet Partners.\nDrop into our Rock Row center and say “hi” to our Dempsey Dog Teams. No sign up needed!\n\nLouise Cheese is expected most Wednesdays\, 9:00-10:30AM
URL:https://www.dempseycenter.org/event/dempsey-dog-meet-greet-louise-cheese-rock-row-3/2026-11-18/
LOCATION:Dempsey Center – Rock Row\, 11 Rock Row\, Westbrook\, ME\, 04092\, United States
CATEGORIES:Dempsey Dogs
ATTACH;FMTTYPE=image/png:https://www.dempseycenter.org/wp-content/uploads/2025/05/Demp-Dogs-Meet-Louise-RR.png
END:VEVENT
BEGIN:VEVENT
DTSTART;TZID=America/New_York:20261118T140000
DTEND;TZID=America/New_York:20261118T160000
DTSTAMP:20260423T070918
CREATED:20260420T175658Z
LAST-MODIFIED:20260420T175658Z
UID:10004192-1795010400-1795017600@www.dempseycenter.org
SUMMARY:Dempsey Dog Meet + Greet: Rudy [Rock Row]
DESCRIPTION:Therapy dogs can help to provide emotional support\, alleviate stress\, improve moods\, and help boost confidence. We are proud to encourage the animal-human bond through our teams of Dempsey Dogs\, trained and registered by Pet Partners.\n\nDrop in and say “hi” to our Dempsey Dog Teams. No sign up needed!\n \nRudy is expected most Wednesdays\, 2:00-4:00PM.
URL:https://www.dempseycenter.org/event/dempsey-dog-meet-greet-rudy-rock-row-2/2026-11-18/
LOCATION:Dempsey Center – Rock Row\, 11 Rock Row\, Westbrook\, ME\, 04092\, United States
CATEGORIES:Dempsey Dogs
ATTACH;FMTTYPE=image/png:https://www.dempseycenter.org/wp-content/uploads/2025/07/Demp-Dogs-Meet-Rudy-RR.png
END:VEVENT
BEGIN:VEVENT
DTSTART;TZID=America/New_York:20261119T103000
DTEND;TZID=America/New_York:20261119T120000
DTSTAMP:20260423T070918
CREATED:20260416T191246Z
LAST-MODIFIED:20260416T191246Z
UID:10004112-1795084200-1795089600@www.dempseycenter.org
SUMMARY:Dempsey Dog Meet + Greet: Forest [Rock Row]
DESCRIPTION:Therapy dogs can help to provide emotional support\, alleviate stress\, improve moods\, and help boost confidence. We are proud to encourage the animal-human bond through our teams of Dempsey Dogs\, trained and registered by Pet Partners.
URL:https://www.dempseycenter.org/event/dempsey-dog-meet-greet-forest-rock-row-2/2026-11-19/
LOCATION:Dempsey Center – Rock Row\, 11 Rock Row\, Westbrook\, ME\, 04092\, United States
CATEGORIES:Dempsey Dogs
ATTACH;FMTTYPE=image/png:https://www.dempseycenter.org/wp-content/uploads/2026/04/Demp-Dogs-Meet-Forest-RR.png
END:VEVENT
BEGIN:VEVENT
DTSTART;TZID=America/New_York:20261124T160000
DTEND;TZID=America/New_York:20261124T170000
DTSTAMP:20260423T070918
CREATED:20251031T182147Z
LAST-MODIFIED:20251031T182416Z
UID:10002761-1795536000-1795539600@www.dempseycenter.org
SUMMARY:Dempsey Dog Meet + Greet: Meadow [Lewiston]
DESCRIPTION:Therapy dogs can help to provide emotional support\, alleviate stress\, improve moods\, and help boost confidence. We are proud to encourage the animal-human bond through our teams of Dempsey Dogs\, trained and registered by Pet Partners. \nDrop in and say “hi” to our Dempsey Dog Teams. No sign-up needed!\n\nInterested in spending some time with one of our Dempsey Dogs teams individually? Call 877-336-7287 to schedule your private Paws Together appointment with one of our therapy dog teams.
URL:https://www.dempseycenter.org/event/dempsey-dog-meet-greet-meadow-lewiston-copy/2026-11-24/
LOCATION:Dempsey Center – Lewiston (17 High Street)\, 17 High Street\, Lewiston\, ME\, 04240\, United States
CATEGORIES:Comfort + Wellbeing,Dempsey Dogs
ATTACH;FMTTYPE=image/png:https://www.dempseycenter.org/wp-content/uploads/2025/05/Demp-Dogs-Meet-Meadow-Lew.png
END:VEVENT
BEGIN:VEVENT
DTSTART;TZID=America/New_York:20261124T160000
DTEND;TZID=America/New_York:20261124T170000
DTSTAMP:20260423T070918
CREATED:20260420T163020Z
LAST-MODIFIED:20260420T163020Z
UID:10004172-1795536000-1795539600@www.dempseycenter.org
SUMMARY:Dempsey Dog Meet + Greet: Meadow [Lewiston]
DESCRIPTION:Therapy dogs can help to provide emotional support\, alleviate stress\, improve moods\, and help boost confidence. We are proud to encourage the animal-human bond through our teams of Dempsey Dogs\, trained and registered by Pet Partners. \nDrop in and say “hi” to our Dempsey Dog Teams. No sign up needed! \nMeadow is expected most 2nd & 4th Tuesdays monthly.
URL:https://www.dempseycenter.org/event/dempsey-dog-meet-greet-meadow-lewiston-3/2026-11-24/
LOCATION:Dempsey Center – Lewiston (17 High Street)\, 17 High Street\, Lewiston\, ME\, 04240\, United States
CATEGORIES:Dempsey Dogs
ATTACH;FMTTYPE=image/png:https://www.dempseycenter.org/wp-content/uploads/2025/05/Demp-Dogs-Meet-Meadow-Lew.png
END:VEVENT
END:VCALENDAR