BEGIN:VCALENDAR
VERSION:2.0
PRODID:-//Dempsey Center - ECPv6.15.15//NONSGML v1.0//EN
CALSCALE:GREGORIAN
METHOD:PUBLISH
X-WR-CALNAME:Dempsey Center
X-ORIGINAL-URL:https://www.dempseycenter.org
X-WR-CALDESC:Events for Dempsey Center
REFRESH-INTERVAL;VALUE=DURATION:PT1H
X-Robots-Tag:noindex
X-PUBLISHED-TTL:PT1H
BEGIN:VTIMEZONE
TZID:America/New_York
BEGIN:DAYLIGHT
TZOFFSETFROM:-0500
TZOFFSETTO:-0400
TZNAME:EDT
DTSTART:20250309T070000
END:DAYLIGHT
BEGIN:STANDARD
TZOFFSETFROM:-0400
TZOFFSETTO:-0500
TZNAME:EST
DTSTART:20251102T060000
END:STANDARD
BEGIN:DAYLIGHT
TZOFFSETFROM:-0500
TZOFFSETTO:-0400
TZNAME:EDT
DTSTART:20260308T070000
END:DAYLIGHT
BEGIN:STANDARD
TZOFFSETFROM:-0400
TZOFFSETTO:-0500
TZNAME:EST
DTSTART:20261101T060000
END:STANDARD
BEGIN:DAYLIGHT
TZOFFSETFROM:-0500
TZOFFSETTO:-0400
TZNAME:EDT
DTSTART:20270314T070000
END:DAYLIGHT
BEGIN:STANDARD
TZOFFSETFROM:-0400
TZOFFSETTO:-0500
TZNAME:EST
DTSTART:20271107T060000
END:STANDARD
END:VTIMEZONE
BEGIN:VEVENT
DTSTART;TZID=America/New_York:20260505T150000
DTEND;TZID=America/New_York:20260505T160000
DTSTAMP:20260424T023318
CREATED:20260318T184803Z
LAST-MODIFIED:20260318T184815Z
UID:10003592-1777993200-1777996800@www.dempseycenter.org
SUMMARY:Good Vibes Sound Bath [Rock Row]
DESCRIPTION:Relax into an age-old healing modality\, known today as a sound bath! In this vibrational sound immersion\, we will bask in the power of music and frequency – shown to reach deep into the brain to induce theta-wave meditation—to soothe\, de-stress\, and receive a myriad of other health benefits. Enjoy Tibetan and Chakra tuned Crystal Singing Bowls\, Native American Flute\, Solfeggio Chimes\, and more!\nLed by Rev. Myra Robinson\, Interfaith Chaplain and Sound Healer\, who is a Cancer survivor and former client of the Dempsey Center.\nOpen to all Dempsey Center Clients.sou
URL:https://www.dempseycenter.org/event/good-vibes-sound-bath/
LOCATION:Dempsey Center – Rock Row\, 11 Rock Row\, Westbrook\, ME\, 04092\, United States
CATEGORIES:Expressive Arts
ATTACH;FMTTYPE=image/png:https://www.dempseycenter.org/wp-content/uploads/2025/05/Good-Vibes-Sound-Bath-RR.png
END:VEVENT
BEGIN:VEVENT
DTSTART;TZID=America/New_York:20260507T080000
DTEND;TZID=America/New_York:20260507T170000
DTSTAMP:20260424T023318
CREATED:20260406T142008Z
LAST-MODIFIED:20260406T142008Z
UID:10003750-1778140800-1778173200@www.dempseycenter.org
SUMMARY:Gathering Our Stories: Legacy\, Meaning + Connection [Rock Row]
DESCRIPTION:No group July 2.\n\nJoin us for a 10-week expressive arts-based reflective group centered around exploring what we value most\, how we want our stories told\, and the legacy we leave behind. Participants will have the opportunity to work on a legacy project of their choosing – basic arts/journaling materials will be provided. No artistic or writing experience required.\n\nLed by Erin King\, LCSW\, OSW-C\, CGP and Allison Burt\, LCSW\, OSW-C.\n\n\nOpen to adult clients who are living with cancer.\n\nOnline sign up is not available for this group. A telephone consult is required before attending. Please call us at (877)336-7287 or email registration@dempseycenter.org  to request your consult.
URL:https://www.dempseycenter.org/event/gathering-our-stories-legacy-meaning-connection-rock-row/2026-05-07/1/
LOCATION:Dempsey Center – Rock Row\, 11 Rock Row\, Westbrook\, ME\, 04092\, United States
CATEGORIES:Expressive Arts
ATTACH;FMTTYPE=image/png:https://www.dempseycenter.org/wp-content/uploads/2026/04/Gathering-Our-Stories-RR.png
END:VEVENT
BEGIN:VEVENT
DTSTART;TZID=America/New_York:20260507T100000
DTEND;TZID=America/New_York:20260507T113000
DTSTAMP:20260424T023318
CREATED:20260406T142008Z
LAST-MODIFIED:20260406T142008Z
UID:10003751-1778148000-1778153400@www.dempseycenter.org
SUMMARY:Gathering Our Stories: Legacy\, Meaning + Connection [Rock Row]
DESCRIPTION:No group July 2.\n\nJoin us for a 10-week expressive arts-based reflective group centered around exploring what we value most\, how we want our stories told\, and the legacy we leave behind. Participants will have the opportunity to work on a legacy project of their choosing – basic arts/journaling materials will be provided. No artistic or writing experience required.\n\nLed by Erin King\, LCSW\, OSW-C\, CGP and Allison Burt\, LCSW\, OSW-C.\n\n\nOpen to adult clients who are living with cancer.\n\nOnline sign up is not available for this group. A telephone consult is required before attending. Please call us at (877)336-7287 or email registration@dempseycenter.org  to request your consult.
URL:https://www.dempseycenter.org/event/gathering-our-stories-legacy-meaning-connection-rock-row/2026-05-07/2/
LOCATION:Dempsey Center – Rock Row\, 11 Rock Row\, Westbrook\, ME\, 04092\, United States
CATEGORIES:Expressive Arts
ATTACH;FMTTYPE=image/png:https://www.dempseycenter.org/wp-content/uploads/2026/04/Gathering-Our-Stories-RR.png
END:VEVENT
BEGIN:VEVENT
DTSTART;TZID=America/New_York:20260512T150000
DTEND;TZID=America/New_York:20260512T160000
DTSTAMP:20260424T023318
CREATED:20260226T165454Z
LAST-MODIFIED:20260226T165454Z
UID:10003340-1778598000-1778601600@www.dempseycenter.org
SUMMARY:Writing from the Heart II [Dempsey Connects]
DESCRIPTION:Research has shown that expressive writing can help improve quality of life for people living with cancer\, and doing so in a supportive community with others further enhances coping and resilience. Using therapeutic writing prompts we will explore journaling with the opportunity to share your writing with others through reading a selected piece. No writing experience is required to join this 8-week series.\n \nWriting from the Heart II is appropriate both for those who have previously participated in “Writing from the Heart” and those who have not. The content and prompts are new and distinct from those offered in “Writing from the Heart I.\n \nLed by Kerry Irish\, LCSW\,  OSW-C\, FAOSW.\n\nOpen to adult Dempsey Center clients with a cancer diagnosis at any stage.
URL:https://www.dempseycenter.org/event/writing-from-the-heart-ii-dempsey-connects/2026-05-12/
LOCATION:Dempsey Connects
CATEGORIES:Expressive Arts
ATTACH;FMTTYPE=image/png:https://www.dempseycenter.org/wp-content/uploads/2025/05/Writing-from-the-Heart-Connects.png
END:VEVENT
BEGIN:VEVENT
DTSTART;TZID=America/New_York:20260514T100000
DTEND;TZID=America/New_York:20260514T113000
DTSTAMP:20260424T023318
CREATED:20260406T142008Z
LAST-MODIFIED:20260406T142008Z
UID:10003752-1778752800-1778758200@www.dempseycenter.org
SUMMARY:Gathering Our Stories: Legacy\, Meaning + Connection [Rock Row]
DESCRIPTION:No group July 2.\n\nJoin us for a 10-week expressive arts-based reflective group centered around exploring what we value most\, how we want our stories told\, and the legacy we leave behind. Participants will have the opportunity to work on a legacy project of their choosing – basic arts/journaling materials will be provided. No artistic or writing experience required.\n\nLed by Erin King\, LCSW\, OSW-C\, CGP and Allison Burt\, LCSW\, OSW-C.\n\n\nOpen to adult clients who are living with cancer.\n\nOnline sign up is not available for this group. A telephone consult is required before attending. Please call us at (877)336-7287 or email registration@dempseycenter.org  to request your consult.
URL:https://www.dempseycenter.org/event/gathering-our-stories-legacy-meaning-connection-rock-row/2026-05-14/
LOCATION:Dempsey Center – Rock Row\, 11 Rock Row\, Westbrook\, ME\, 04092\, United States
CATEGORIES:Expressive Arts
ATTACH;FMTTYPE=image/png:https://www.dempseycenter.org/wp-content/uploads/2026/04/Gathering-Our-Stories-RR.png
END:VEVENT
BEGIN:VEVENT
DTSTART;TZID=America/New_York:20260521T100000
DTEND;TZID=America/New_York:20260521T113000
DTSTAMP:20260424T023318
CREATED:20260406T142008Z
LAST-MODIFIED:20260406T142008Z
UID:10003753-1779357600-1779363000@www.dempseycenter.org
SUMMARY:Gathering Our Stories: Legacy\, Meaning + Connection [Rock Row]
DESCRIPTION:No group July 2.\n\nJoin us for a 10-week expressive arts-based reflective group centered around exploring what we value most\, how we want our stories told\, and the legacy we leave behind. Participants will have the opportunity to work on a legacy project of their choosing – basic arts/journaling materials will be provided. No artistic or writing experience required.\n\nLed by Erin King\, LCSW\, OSW-C\, CGP and Allison Burt\, LCSW\, OSW-C.\n\n\nOpen to adult clients who are living with cancer.\n\nOnline sign up is not available for this group. A telephone consult is required before attending. Please call us at (877)336-7287 or email registration@dempseycenter.org  to request your consult.
URL:https://www.dempseycenter.org/event/gathering-our-stories-legacy-meaning-connection-rock-row/2026-05-21/
LOCATION:Dempsey Center – Rock Row\, 11 Rock Row\, Westbrook\, ME\, 04092\, United States
CATEGORIES:Expressive Arts
ATTACH;FMTTYPE=image/png:https://www.dempseycenter.org/wp-content/uploads/2026/04/Gathering-Our-Stories-RR.png
END:VEVENT
BEGIN:VEVENT
DTSTART;TZID=America/New_York:20260528T100000
DTEND;TZID=America/New_York:20260528T113000
DTSTAMP:20260424T023318
CREATED:20260406T142008Z
LAST-MODIFIED:20260406T142008Z
UID:10003754-1779962400-1779967800@www.dempseycenter.org
SUMMARY:Gathering Our Stories: Legacy\, Meaning + Connection [Rock Row]
DESCRIPTION:No group July 2.\n\nJoin us for a 10-week expressive arts-based reflective group centered around exploring what we value most\, how we want our stories told\, and the legacy we leave behind. Participants will have the opportunity to work on a legacy project of their choosing – basic arts/journaling materials will be provided. No artistic or writing experience required.\n\nLed by Erin King\, LCSW\, OSW-C\, CGP and Allison Burt\, LCSW\, OSW-C.\n\n\nOpen to adult clients who are living with cancer.\n\nOnline sign up is not available for this group. A telephone consult is required before attending. Please call us at (877)336-7287 or email registration@dempseycenter.org  to request your consult.
URL:https://www.dempseycenter.org/event/gathering-our-stories-legacy-meaning-connection-rock-row/2026-05-28/
LOCATION:Dempsey Center – Rock Row\, 11 Rock Row\, Westbrook\, ME\, 04092\, United States
CATEGORIES:Expressive Arts
ATTACH;FMTTYPE=image/png:https://www.dempseycenter.org/wp-content/uploads/2026/04/Gathering-Our-Stories-RR.png
END:VEVENT
BEGIN:VEVENT
DTSTART;TZID=America/New_York:20260602T123000
DTEND;TZID=America/New_York:20260602T133000
DTSTAMP:20260424T023318
CREATED:20260423T165445Z
LAST-MODIFIED:20260423T165445Z
UID:10004208-1780403400-1780407000@www.dempseycenter.org
SUMMARY:Good Vibes Sound Bath [Lewiston]
DESCRIPTION:Relax into an age-old healing modality\, known today as a sound bath! In this vibrational sound immersion\, we will bask in the power of music and frequency – shown to reach deep into the brain to induce theta-wave meditation—to soothe\, de-stress\, and receive a myriad of other health benefits. Enjoy Tibetan and Chakra tuned Crystal Singing Bowls\, Native American Flute\, Solfeggio Chimes\, and more!\nLed by Rev. Myra Robinson\, Interfaith Chaplain and Sound Healer\, who is a Cancer survivor and former client of the Dempsey Center.\nOpen to all Dempsey Center Clients.
URL:https://www.dempseycenter.org/event/good-vibes-sound-bath-lewiston-3/
LOCATION:Dempsey Center – Lewiston (17 High Street)\, 17 High Street\, Lewiston\, ME\, 04240\, United States
CATEGORIES:Expressive Arts
ATTACH;FMTTYPE=image/png:https://www.dempseycenter.org/wp-content/uploads/2025/07/Good-Vibes-Sound-Bath-Lew.png
END:VEVENT
BEGIN:VEVENT
DTSTART;TZID=America/New_York:20260602T150000
DTEND;TZID=America/New_York:20260602T160000
DTSTAMP:20260424T023318
CREATED:20260423T201254Z
LAST-MODIFIED:20260423T202312Z
UID:10004221-1780412400-1780416000@www.dempseycenter.org
SUMMARY:Gong Meditation [Rock Row]
DESCRIPTION:Step into a steeping of sound and allow the resonance of the gongs wash over you. This gong wash offers a deeply meditative experience as the vibrations of the gong work beyond the mind\, gently guiding the nervous system into a state of balance and restoration. As the sound flows through the body\, many experience:\n• Deep relaxation and stress release\n• Support for emotional release and energetic clearing\n• Improved sleep and mental clarity\n• Activation of the body’s natural healing response\n• A sense of grounding\, peace and expanded awareness\nNo effort is required – simply sit or lie down\, breathe\, and receive. The sound will meet you exactly where you are.\n\nOpen to adult Dempsey Center clients.\n\nLed by Doris Hall\, Sound Healing Practitioner. 
URL:https://www.dempseycenter.org/event/gong-meditation-rock-row/
LOCATION:Dempsey Center – Rock Row\, 11 Rock Row\, Westbrook\, ME\, 04092\, United States
CATEGORIES:Expressive Arts
ATTACH;FMTTYPE=image/png:https://www.dempseycenter.org/wp-content/uploads/2026/04/Gong-Meditation-RR.png
END:VEVENT
BEGIN:VEVENT
DTSTART;TZID=America/New_York:20260602T173000
DTEND;TZID=America/New_York:20260602T183000
DTSTAMP:20260424T023318
CREATED:20260423T172733Z
LAST-MODIFIED:20260423T173806Z
UID:10004209-1780421400-1780425000@www.dempseycenter.org
SUMMARY:Softening Grief:  Expressive Arts for Healing [Dempsey Connects]
DESCRIPTION:Losing a loved one to cancer is one of the most challenging experiences one can face. In this virtual workshop\, we’ll explore the power of expressive arts to promote healing in grief. Through discussion\, writing\, and drawing\, participants will have the opportunity to navigate their emotions and experience in a supportive environment. No prior art or writing experience is necessary. Please come prepared with writing and drawing utensils\, as well as paper.\n\nLed by Erin King\, LCSW\, APHSW-C\, OSW-C.\n\nOpen to adult Dempsey Center clients who have experienced the loss of a loved one to cancer.\n \nParticipants must be residents of ME\, NH or MA.
URL:https://www.dempseycenter.org/event/softening-grief-expressive-arts-for-healing-dempsey-connects/
LOCATION:Dempsey Connects
CATEGORIES:Grief + Bereavement,Expressive Arts
ATTACH;FMTTYPE=image/png:https://www.dempseycenter.org/wp-content/uploads/2026/04/Softening-grief_-Expressive-arts-for-healing-Connects.png
END:VEVENT
BEGIN:VEVENT
DTSTART;TZID=America/New_York:20260604T100000
DTEND;TZID=America/New_York:20260604T113000
DTSTAMP:20260424T023319
CREATED:20260406T142008Z
LAST-MODIFIED:20260406T142008Z
UID:10003755-1780567200-1780572600@www.dempseycenter.org
SUMMARY:Gathering Our Stories: Legacy\, Meaning + Connection [Rock Row]
DESCRIPTION:No group July 2.\n\nJoin us for a 10-week expressive arts-based reflective group centered around exploring what we value most\, how we want our stories told\, and the legacy we leave behind. Participants will have the opportunity to work on a legacy project of their choosing – basic arts/journaling materials will be provided. No artistic or writing experience required.\n\nLed by Erin King\, LCSW\, OSW-C\, CGP and Allison Burt\, LCSW\, OSW-C.\n\n\nOpen to adult clients who are living with cancer.\n\nOnline sign up is not available for this group. A telephone consult is required before attending. Please call us at (877)336-7287 or email registration@dempseycenter.org  to request your consult.
URL:https://www.dempseycenter.org/event/gathering-our-stories-legacy-meaning-connection-rock-row/2026-06-04/
LOCATION:Dempsey Center – Rock Row\, 11 Rock Row\, Westbrook\, ME\, 04092\, United States
CATEGORIES:Expressive Arts
ATTACH;FMTTYPE=image/png:https://www.dempseycenter.org/wp-content/uploads/2026/04/Gathering-Our-Stories-RR.png
END:VEVENT
BEGIN:VEVENT
DTSTART;TZID=America/New_York:20260604T160000
DTEND;TZID=America/New_York:20260604T170000
DTSTAMP:20260424T023319
CREATED:20260423T184140Z
LAST-MODIFIED:20260423T185648Z
UID:10004219-1780588800-1780592400@www.dempseycenter.org
SUMMARY:Drumming Together: Connecting Through Sound [Rock Row]
DESCRIPTION:Discover the joy of rhythm and connection at our Rock Row drum circle—where beats unite hearts and spirits. Experience the healing power of rhythm in a safe\, supportive space. Our drumming circle offers percussion expression\, shared energy\, and emotional release—no musical experience needed. Join us to connect\, uplift\, and restore through the beat of community.\n \nOpen to adult Dempsey Center clients.\nLed by Reiki Drumming and Sound Healing Practitioner\, Doris Hall.
URL:https://www.dempseycenter.org/event/drumming-together-connecting-through-sound-rock-row-3/
LOCATION:Dempsey Center – Rock Row\, 11 Rock Row\, Westbrook\, ME\, 04092\, United States
CATEGORIES:Expressive Arts
ATTACH;FMTTYPE=image/png:https://www.dempseycenter.org/wp-content/uploads/2025/12/Drumming-Rock-Row.png
END:VEVENT
BEGIN:VEVENT
DTSTART;TZID=America/New_York:20260611T100000
DTEND;TZID=America/New_York:20260611T113000
DTSTAMP:20260424T023319
CREATED:20260406T142008Z
LAST-MODIFIED:20260406T142008Z
UID:10003756-1781172000-1781177400@www.dempseycenter.org
SUMMARY:Gathering Our Stories: Legacy\, Meaning + Connection [Rock Row]
DESCRIPTION:No group July 2.\n\nJoin us for a 10-week expressive arts-based reflective group centered around exploring what we value most\, how we want our stories told\, and the legacy we leave behind. Participants will have the opportunity to work on a legacy project of their choosing – basic arts/journaling materials will be provided. No artistic or writing experience required.\n\nLed by Erin King\, LCSW\, OSW-C\, CGP and Allison Burt\, LCSW\, OSW-C.\n\n\nOpen to adult clients who are living with cancer.\n\nOnline sign up is not available for this group. A telephone consult is required before attending. Please call us at (877)336-7287 or email registration@dempseycenter.org  to request your consult.
URL:https://www.dempseycenter.org/event/gathering-our-stories-legacy-meaning-connection-rock-row/2026-06-11/
LOCATION:Dempsey Center – Rock Row\, 11 Rock Row\, Westbrook\, ME\, 04092\, United States
CATEGORIES:Expressive Arts
ATTACH;FMTTYPE=image/png:https://www.dempseycenter.org/wp-content/uploads/2026/04/Gathering-Our-Stories-RR.png
END:VEVENT
BEGIN:VEVENT
DTSTART;TZID=America/New_York:20260618T100000
DTEND;TZID=America/New_York:20260618T113000
DTSTAMP:20260424T023319
CREATED:20260406T142008Z
LAST-MODIFIED:20260406T142008Z
UID:10003757-1781776800-1781782200@www.dempseycenter.org
SUMMARY:Gathering Our Stories: Legacy\, Meaning + Connection [Rock Row]
DESCRIPTION:No group July 2.\n\nJoin us for a 10-week expressive arts-based reflective group centered around exploring what we value most\, how we want our stories told\, and the legacy we leave behind. Participants will have the opportunity to work on a legacy project of their choosing – basic arts/journaling materials will be provided. No artistic or writing experience required.\n\nLed by Erin King\, LCSW\, OSW-C\, CGP and Allison Burt\, LCSW\, OSW-C.\n\n\nOpen to adult clients who are living with cancer.\n\nOnline sign up is not available for this group. A telephone consult is required before attending. Please call us at (877)336-7287 or email registration@dempseycenter.org  to request your consult.
URL:https://www.dempseycenter.org/event/gathering-our-stories-legacy-meaning-connection-rock-row/2026-06-18/
LOCATION:Dempsey Center – Rock Row\, 11 Rock Row\, Westbrook\, ME\, 04092\, United States
CATEGORIES:Expressive Arts
ATTACH;FMTTYPE=image/png:https://www.dempseycenter.org/wp-content/uploads/2026/04/Gathering-Our-Stories-RR.png
END:VEVENT
BEGIN:VEVENT
DTSTART;TZID=America/New_York:20260625T100000
DTEND;TZID=America/New_York:20260625T113000
DTSTAMP:20260424T023319
CREATED:20260406T142008Z
LAST-MODIFIED:20260406T142008Z
UID:10003758-1782381600-1782387000@www.dempseycenter.org
SUMMARY:Gathering Our Stories: Legacy\, Meaning + Connection [Rock Row]
DESCRIPTION:No group July 2.\n\nJoin us for a 10-week expressive arts-based reflective group centered around exploring what we value most\, how we want our stories told\, and the legacy we leave behind. Participants will have the opportunity to work on a legacy project of their choosing – basic arts/journaling materials will be provided. No artistic or writing experience required.\n\nLed by Erin King\, LCSW\, OSW-C\, CGP and Allison Burt\, LCSW\, OSW-C.\n\n\nOpen to adult clients who are living with cancer.\n\nOnline sign up is not available for this group. A telephone consult is required before attending. Please call us at (877)336-7287 or email registration@dempseycenter.org  to request your consult.
URL:https://www.dempseycenter.org/event/gathering-our-stories-legacy-meaning-connection-rock-row/2026-06-25/
LOCATION:Dempsey Center – Rock Row\, 11 Rock Row\, Westbrook\, ME\, 04092\, United States
CATEGORIES:Expressive Arts
ATTACH;FMTTYPE=image/png:https://www.dempseycenter.org/wp-content/uploads/2026/04/Gathering-Our-Stories-RR.png
END:VEVENT
BEGIN:VEVENT
DTSTART;TZID=America/New_York:20260709T100000
DTEND;TZID=America/New_York:20260709T113000
DTSTAMP:20260424T023319
CREATED:20260406T142008Z
LAST-MODIFIED:20260406T142008Z
UID:10003759-1783591200-1783596600@www.dempseycenter.org
SUMMARY:Gathering Our Stories: Legacy\, Meaning + Connection [Rock Row]
DESCRIPTION:No group July 2.\n\nJoin us for a 10-week expressive arts-based reflective group centered around exploring what we value most\, how we want our stories told\, and the legacy we leave behind. Participants will have the opportunity to work on a legacy project of their choosing – basic arts/journaling materials will be provided. No artistic or writing experience required.\n\nLed by Erin King\, LCSW\, OSW-C\, CGP and Allison Burt\, LCSW\, OSW-C.\n\n\nOpen to adult clients who are living with cancer.\n\nOnline sign up is not available for this group. A telephone consult is required before attending. Please call us at (877)336-7287 or email registration@dempseycenter.org  to request your consult.
URL:https://www.dempseycenter.org/event/gathering-our-stories-legacy-meaning-connection-rock-row/2026-07-09/
LOCATION:Dempsey Center – Rock Row\, 11 Rock Row\, Westbrook\, ME\, 04092\, United States
CATEGORIES:Expressive Arts
ATTACH;FMTTYPE=image/png:https://www.dempseycenter.org/wp-content/uploads/2026/04/Gathering-Our-Stories-RR.png
END:VEVENT
BEGIN:VEVENT
DTSTART;TZID=America/New_York:20260716T100000
DTEND;TZID=America/New_York:20260716T113000
DTSTAMP:20260424T023319
CREATED:20260406T142008Z
LAST-MODIFIED:20260406T142008Z
UID:10003760-1784196000-1784201400@www.dempseycenter.org
SUMMARY:Gathering Our Stories: Legacy\, Meaning + Connection [Rock Row]
DESCRIPTION:No group July 2.\n\nJoin us for a 10-week expressive arts-based reflective group centered around exploring what we value most\, how we want our stories told\, and the legacy we leave behind. Participants will have the opportunity to work on a legacy project of their choosing – basic arts/journaling materials will be provided. No artistic or writing experience required.\n\nLed by Erin King\, LCSW\, OSW-C\, CGP and Allison Burt\, LCSW\, OSW-C.\n\n\nOpen to adult clients who are living with cancer.\n\nOnline sign up is not available for this group. A telephone consult is required before attending. Please call us at (877)336-7287 or email registration@dempseycenter.org  to request your consult.
URL:https://www.dempseycenter.org/event/gathering-our-stories-legacy-meaning-connection-rock-row/2026-07-16/
LOCATION:Dempsey Center – Rock Row\, 11 Rock Row\, Westbrook\, ME\, 04092\, United States
CATEGORIES:Expressive Arts
ATTACH;FMTTYPE=image/png:https://www.dempseycenter.org/wp-content/uploads/2026/04/Gathering-Our-Stories-RR.png
END:VEVENT
END:VCALENDAR