BEGIN:VCALENDAR
VERSION:2.0
PRODID:-//Dempsey Center - ECPv6.15.15//NONSGML v1.0//EN
CALSCALE:GREGORIAN
METHOD:PUBLISH
X-ORIGINAL-URL:https://www.dempseycenter.org
X-WR-CALDESC:Events for Dempsey Center
REFRESH-INTERVAL;VALUE=DURATION:PT1H
X-Robots-Tag:noindex
X-PUBLISHED-TTL:PT1H
BEGIN:VTIMEZONE
TZID:America/New_York
BEGIN:DAYLIGHT
TZOFFSETFROM:-0500
TZOFFSETTO:-0400
TZNAME:EDT
DTSTART:20250309T070000
END:DAYLIGHT
BEGIN:STANDARD
TZOFFSETFROM:-0400
TZOFFSETTO:-0500
TZNAME:EST
DTSTART:20251102T060000
END:STANDARD
BEGIN:DAYLIGHT
TZOFFSETFROM:-0500
TZOFFSETTO:-0400
TZNAME:EDT
DTSTART:20260308T070000
END:DAYLIGHT
BEGIN:STANDARD
TZOFFSETFROM:-0400
TZOFFSETTO:-0500
TZNAME:EST
DTSTART:20261101T060000
END:STANDARD
BEGIN:DAYLIGHT
TZOFFSETFROM:-0500
TZOFFSETTO:-0400
TZNAME:EDT
DTSTART:20270314T070000
END:DAYLIGHT
BEGIN:STANDARD
TZOFFSETFROM:-0400
TZOFFSETTO:-0500
TZNAME:EST
DTSTART:20271107T060000
END:STANDARD
END:VTIMEZONE
BEGIN:VEVENT
DTSTART;TZID=America/New_York:20260317T173000
DTEND;TZID=America/New_York:20260317T183000
DTSTAMP:20260423T101706
CREATED:20251218T204018Z
LAST-MODIFIED:20251218T204018Z
UID:10003155-1773768600-1773772200@www.dempseycenter.org
SUMMARY:Expressions of Loss: Writing + Community [Dempsey Connects]
DESCRIPTION:This 8-week series combines peer support and expressive arts to help individuals navigate grief after the loss of a loved one. Through therapeutic writing and drawing prompts\, participants will explore their emotions and share their work in a supportive group environment (sharing is encouraged but optional).\nPlease have writing utensils and paper; no prior writing experience is necessary to join.\n\nLed by Erin King\, LCSW\, APHSW-C\, OSW-C.\n\nOpen to adult Dempsey Center clients who have experienced loss of a loved one to cancer.\nParticipants must be residents of Maine\, New Hampshire\, or Massachusetts.
URL:https://www.dempseycenter.org/event/expressions-of-loss-writing-community-dempsey-connects/2026-03-17/
LOCATION:Dempsey Connects
CATEGORIES:Grief + Bereavement,Expressive Arts,Counseling
ATTACH;FMTTYPE=image/png:https://www.dempseycenter.org/wp-content/uploads/2025/12/Expressions-of-Loss_-Writing-Community-Connects.png
END:VEVENT
BEGIN:VEVENT
DTSTART;TZID=America/New_York:20260318T130000
DTEND;TZID=America/New_York:20260318T150000
DTSTAMP:20260423T101706
CREATED:20260205T182333Z
LAST-MODIFIED:20260205T182333Z
UID:10003215-1773838800-1773846000@www.dempseycenter.org
SUMMARY:Knitting Group [Rock Row]
DESCRIPTION:Join our group of survivor and care partner volunteers who gather to replenish our knitted and crocheted comfort item inventory\, including such items as pocketed wraps\, hats\, and knitted knockers.\n\nLed by Michelle Small.\n\nOpen to all adult Dempsey Center clients.\n \nDo you prefer to volunteer knit or crochet from home? Please call Michelle Small at 207-376-9669 or email msmall@dempseycenter.org.
URL:https://www.dempseycenter.org/event/knitting-group-rock-row-7/
LOCATION:Dempsey Center – Rock Row\, 11 Rock Row\, Westbrook\, ME\, 04092\, United States
CATEGORIES:Comfort + Wellbeing,Expressive Arts
ATTACH;FMTTYPE=image/png:https://www.dempseycenter.org/wp-content/uploads/2025/10/Knitting-Group-RR.png
END:VEVENT
BEGIN:VEVENT
DTSTART;TZID=America/New_York:20260318T150000
DTEND;TZID=America/New_York:20260318T153000
DTSTAMP:20260423T101706
CREATED:20260212T195939Z
LAST-MODIFIED:20260212T195939Z
UID:10003252-1773846000-1773847800@www.dempseycenter.org
SUMMARY:Connect + Experience: Watercolor Basics [Rock Row]
DESCRIPTION:Sip tea\, unwind\, and explore watercolor! This beginner-friendly workshop offers a cozy space to learn simple techniques and express your creativity. No experience needed -all supplies are provided\, including charming farm animal outlines.\n \nLed by Michelle Small.\n \nOpen to the public. Public sign up at https://www.dempseycenter.org/services/classes-workshops/public/. 
URL:https://www.dempseycenter.org/event/connect-experience-watercolor-basics-rock-row/
LOCATION:Dempsey Center – Rock Row\, 11 Rock Row\, Westbrook\, ME\, 04092\, United States
CATEGORIES:Comfort + Wellbeing,Expressive Arts
ATTACH;FMTTYPE=image/png:https://www.dempseycenter.org/wp-content/uploads/2026/02/Connect-Experience-Watercolor-Basics-RR.png
END:VEVENT
BEGIN:VEVENT
DTSTART;TZID=America/New_York:20260318T150000
DTEND;TZID=America/New_York:20260318T161500
DTSTAMP:20260423T101706
CREATED:20251219T163608Z
LAST-MODIFIED:20251219T163608Z
UID:10003168-1773846000-1773850500@www.dempseycenter.org
SUMMARY:Sojourn: A Spiritual Care Series [Dempsey Connects]
DESCRIPTION:Cancer can be a powerful force in our exploration and living into the deep questions of what it means to be human and mortal. For those looking to deepen this understanding in relationship\, we invite you to join us for Sojourn\, a new 8-week spiritual care series. The word Sojourn means a temporary stay. In this context\, Sojourn offers a pause for rest and renewal within the cancer experience —a reflective space that aims to create and provide space to question\, wonder\, identify\, and express through peer support\, expressive arts activities\, and meaningful discussion.\n\n“You will be graced with the necessary catastrophes. They will take away your hiding places and reveal unbelievable beauty.” — Andrew Harvey.\n\nLed by Kerry Irish\, LCSW\, OSW-C\, FAOSW and Rev. Abby Pettee\n \nOpen to adult Dempsey Center clients.\nParticipants must be a Maine state resident. 
URL:https://www.dempseycenter.org/event/sojourn-a-spiritual-care-series-dempsey-connects/2026-03-18/
LOCATION:Dempsey Connects
CATEGORIES:Expressive Arts,Counseling,Support Groups,Connect + Experience
ATTACH;FMTTYPE=image/png:https://www.dempseycenter.org/wp-content/uploads/2025/12/Sojurn.png
END:VEVENT
BEGIN:VEVENT
DTSTART;TZID=America/New_York:20260319T160000
DTEND;TZID=America/New_York:20260319T170000
DTSTAMP:20260423T101706
CREATED:20260205T190931Z
LAST-MODIFIED:20260205T190931Z
UID:10003238-1773936000-1773939600@www.dempseycenter.org
SUMMARY:Drumming Together: Connecting Through Sound [Rock Row]
DESCRIPTION:Discover the joy of rhythm and connection at our Rock Row drum circle—where beats unite hearts and spirits. Experience the healing power of rhythm in a safe\, supportive space. Our drumming circle offers percussion expression\, shared energy\, and emotional release—no musical experience needed. Join us to connect\, uplift\, and restore through the beat of community.\n\nOpen to adult Dempsey Center clients.\n\nLed by Reiki Drumming and Sound Healing Practitioner\, Doris Hall.
URL:https://www.dempseycenter.org/event/drumming-together-connecting-through-sound-rock-row-2/
LOCATION:Dempsey Center – Rock Row\, 11 Rock Row\, Westbrook\, ME\, 04092\, United States
CATEGORIES:Expressive Arts
ATTACH;FMTTYPE=image/png:https://www.dempseycenter.org/wp-content/uploads/2025/12/Drumming-Rock-Row.png
END:VEVENT
END:VCALENDAR