BEGIN:VCALENDAR
VERSION:2.0
PRODID:-//Dempsey Center - ECPv6.15.15//NONSGML v1.0//EN
CALSCALE:GREGORIAN
METHOD:PUBLISH
X-WR-CALNAME:Dempsey Center
X-ORIGINAL-URL:https://www.dempseycenter.org
X-WR-CALDESC:Events for Dempsey Center
REFRESH-INTERVAL;VALUE=DURATION:PT1H
X-Robots-Tag:noindex
X-PUBLISHED-TTL:PT1H
BEGIN:VTIMEZONE
TZID:America/New_York
BEGIN:DAYLIGHT
TZOFFSETFROM:-0500
TZOFFSETTO:-0400
TZNAME:EDT
DTSTART:20250309T070000
END:DAYLIGHT
BEGIN:STANDARD
TZOFFSETFROM:-0400
TZOFFSETTO:-0500
TZNAME:EST
DTSTART:20251102T060000
END:STANDARD
BEGIN:DAYLIGHT
TZOFFSETFROM:-0500
TZOFFSETTO:-0400
TZNAME:EDT
DTSTART:20260308T070000
END:DAYLIGHT
BEGIN:STANDARD
TZOFFSETFROM:-0400
TZOFFSETTO:-0500
TZNAME:EST
DTSTART:20261101T060000
END:STANDARD
BEGIN:DAYLIGHT
TZOFFSETFROM:-0500
TZOFFSETTO:-0400
TZNAME:EDT
DTSTART:20270314T070000
END:DAYLIGHT
BEGIN:STANDARD
TZOFFSETFROM:-0400
TZOFFSETTO:-0500
TZNAME:EST
DTSTART:20271107T060000
END:STANDARD
END:VTIMEZONE
BEGIN:VEVENT
DTSTART;TZID=America/New_York:20260709T103000
DTEND;TZID=America/New_York:20260709T120000
DTSTAMP:20260419T233039
CREATED:20260416T191246Z
LAST-MODIFIED:20260416T191246Z
UID:10004093-1783593000-1783598400@www.dempseycenter.org
SUMMARY:Dempsey Dog Meet + Greet: Forest [Rock Row]
DESCRIPTION:Therapy dogs can help to provide emotional support\, alleviate stress\, improve moods\, and help boost confidence. We are proud to encourage the animal-human bond through our teams of Dempsey Dogs\, trained and registered by Pet Partners.
URL:https://www.dempseycenter.org/event/dempsey-dog-meet-greet-forest-rock-row-2/2026-07-09/
LOCATION:Dempsey Center – Rock Row\, 11 Rock Row\, Westbrook\, ME\, 04092\, United States
CATEGORIES:Dempsey Dogs
ATTACH;FMTTYPE=image/png:https://www.dempseycenter.org/wp-content/uploads/2026/04/Demp-Dogs-Meet-Forest-RR.png
END:VEVENT
BEGIN:VEVENT
DTSTART;TZID=America/New_York:20260716T103000
DTEND;TZID=America/New_York:20260716T120000
DTSTAMP:20260419T233039
CREATED:20260416T191246Z
LAST-MODIFIED:20260416T191246Z
UID:10004094-1784197800-1784203200@www.dempseycenter.org
SUMMARY:Dempsey Dog Meet + Greet: Forest [Rock Row]
DESCRIPTION:Therapy dogs can help to provide emotional support\, alleviate stress\, improve moods\, and help boost confidence. We are proud to encourage the animal-human bond through our teams of Dempsey Dogs\, trained and registered by Pet Partners.
URL:https://www.dempseycenter.org/event/dempsey-dog-meet-greet-forest-rock-row-2/2026-07-16/
LOCATION:Dempsey Center – Rock Row\, 11 Rock Row\, Westbrook\, ME\, 04092\, United States
CATEGORIES:Dempsey Dogs
ATTACH;FMTTYPE=image/png:https://www.dempseycenter.org/wp-content/uploads/2026/04/Demp-Dogs-Meet-Forest-RR.png
END:VEVENT
BEGIN:VEVENT
DTSTART;TZID=America/New_York:20260723T103000
DTEND;TZID=America/New_York:20260723T120000
DTSTAMP:20260419T233039
CREATED:20260416T191246Z
LAST-MODIFIED:20260416T191246Z
UID:10004095-1784802600-1784808000@www.dempseycenter.org
SUMMARY:Dempsey Dog Meet + Greet: Forest [Rock Row]
DESCRIPTION:Therapy dogs can help to provide emotional support\, alleviate stress\, improve moods\, and help boost confidence. We are proud to encourage the animal-human bond through our teams of Dempsey Dogs\, trained and registered by Pet Partners.
URL:https://www.dempseycenter.org/event/dempsey-dog-meet-greet-forest-rock-row-2/2026-07-23/
LOCATION:Dempsey Center – Rock Row\, 11 Rock Row\, Westbrook\, ME\, 04092\, United States
CATEGORIES:Dempsey Dogs
ATTACH;FMTTYPE=image/png:https://www.dempseycenter.org/wp-content/uploads/2026/04/Demp-Dogs-Meet-Forest-RR.png
END:VEVENT
BEGIN:VEVENT
DTSTART;TZID=America/New_York:20260730T103000
DTEND;TZID=America/New_York:20260730T120000
DTSTAMP:20260419T233039
CREATED:20260416T191246Z
LAST-MODIFIED:20260416T191246Z
UID:10004096-1785407400-1785412800@www.dempseycenter.org
SUMMARY:Dempsey Dog Meet + Greet: Forest [Rock Row]
DESCRIPTION:Therapy dogs can help to provide emotional support\, alleviate stress\, improve moods\, and help boost confidence. We are proud to encourage the animal-human bond through our teams of Dempsey Dogs\, trained and registered by Pet Partners.
URL:https://www.dempseycenter.org/event/dempsey-dog-meet-greet-forest-rock-row-2/2026-07-30/
LOCATION:Dempsey Center – Rock Row\, 11 Rock Row\, Westbrook\, ME\, 04092\, United States
CATEGORIES:Dempsey Dogs
ATTACH;FMTTYPE=image/png:https://www.dempseycenter.org/wp-content/uploads/2026/04/Demp-Dogs-Meet-Forest-RR.png
END:VEVENT
BEGIN:VEVENT
DTSTART;TZID=America/New_York:20260806T103000
DTEND;TZID=America/New_York:20260806T120000
DTSTAMP:20260419T233039
CREATED:20260416T191246Z
LAST-MODIFIED:20260416T191246Z
UID:10004097-1786012200-1786017600@www.dempseycenter.org
SUMMARY:Dempsey Dog Meet + Greet: Forest [Rock Row]
DESCRIPTION:Therapy dogs can help to provide emotional support\, alleviate stress\, improve moods\, and help boost confidence. We are proud to encourage the animal-human bond through our teams of Dempsey Dogs\, trained and registered by Pet Partners.
URL:https://www.dempseycenter.org/event/dempsey-dog-meet-greet-forest-rock-row-2/2026-08-06/
LOCATION:Dempsey Center – Rock Row\, 11 Rock Row\, Westbrook\, ME\, 04092\, United States
CATEGORIES:Dempsey Dogs
ATTACH;FMTTYPE=image/png:https://www.dempseycenter.org/wp-content/uploads/2026/04/Demp-Dogs-Meet-Forest-RR.png
END:VEVENT
BEGIN:VEVENT
DTSTART;TZID=America/New_York:20260813T103000
DTEND;TZID=America/New_York:20260813T120000
DTSTAMP:20260419T233039
CREATED:20260416T191246Z
LAST-MODIFIED:20260416T191246Z
UID:10004098-1786617000-1786622400@www.dempseycenter.org
SUMMARY:Dempsey Dog Meet + Greet: Forest [Rock Row]
DESCRIPTION:Therapy dogs can help to provide emotional support\, alleviate stress\, improve moods\, and help boost confidence. We are proud to encourage the animal-human bond through our teams of Dempsey Dogs\, trained and registered by Pet Partners.
URL:https://www.dempseycenter.org/event/dempsey-dog-meet-greet-forest-rock-row-2/2026-08-13/
LOCATION:Dempsey Center – Rock Row\, 11 Rock Row\, Westbrook\, ME\, 04092\, United States
CATEGORIES:Dempsey Dogs
ATTACH;FMTTYPE=image/png:https://www.dempseycenter.org/wp-content/uploads/2026/04/Demp-Dogs-Meet-Forest-RR.png
END:VEVENT
BEGIN:VEVENT
DTSTART;TZID=America/New_York:20260820T103000
DTEND;TZID=America/New_York:20260820T120000
DTSTAMP:20260419T233039
CREATED:20260416T191246Z
LAST-MODIFIED:20260416T191246Z
UID:10004099-1787221800-1787227200@www.dempseycenter.org
SUMMARY:Dempsey Dog Meet + Greet: Forest [Rock Row]
DESCRIPTION:Therapy dogs can help to provide emotional support\, alleviate stress\, improve moods\, and help boost confidence. We are proud to encourage the animal-human bond through our teams of Dempsey Dogs\, trained and registered by Pet Partners.
URL:https://www.dempseycenter.org/event/dempsey-dog-meet-greet-forest-rock-row-2/2026-08-20/
LOCATION:Dempsey Center – Rock Row\, 11 Rock Row\, Westbrook\, ME\, 04092\, United States
CATEGORIES:Dempsey Dogs
ATTACH;FMTTYPE=image/png:https://www.dempseycenter.org/wp-content/uploads/2026/04/Demp-Dogs-Meet-Forest-RR.png
END:VEVENT
BEGIN:VEVENT
DTSTART;TZID=America/New_York:20260827T103000
DTEND;TZID=America/New_York:20260827T120000
DTSTAMP:20260419T233039
CREATED:20260416T191246Z
LAST-MODIFIED:20260416T191246Z
UID:10004100-1787826600-1787832000@www.dempseycenter.org
SUMMARY:Dempsey Dog Meet + Greet: Forest [Rock Row]
DESCRIPTION:Therapy dogs can help to provide emotional support\, alleviate stress\, improve moods\, and help boost confidence. We are proud to encourage the animal-human bond through our teams of Dempsey Dogs\, trained and registered by Pet Partners.
URL:https://www.dempseycenter.org/event/dempsey-dog-meet-greet-forest-rock-row-2/2026-08-27/
LOCATION:Dempsey Center – Rock Row\, 11 Rock Row\, Westbrook\, ME\, 04092\, United States
CATEGORIES:Dempsey Dogs
ATTACH;FMTTYPE=image/png:https://www.dempseycenter.org/wp-content/uploads/2026/04/Demp-Dogs-Meet-Forest-RR.png
END:VEVENT
BEGIN:VEVENT
DTSTART;TZID=America/New_York:20260903T103000
DTEND;TZID=America/New_York:20260903T120000
DTSTAMP:20260419T233039
CREATED:20260416T191246Z
LAST-MODIFIED:20260416T191246Z
UID:10004101-1788431400-1788436800@www.dempseycenter.org
SUMMARY:Dempsey Dog Meet + Greet: Forest [Rock Row]
DESCRIPTION:Therapy dogs can help to provide emotional support\, alleviate stress\, improve moods\, and help boost confidence. We are proud to encourage the animal-human bond through our teams of Dempsey Dogs\, trained and registered by Pet Partners.
URL:https://www.dempseycenter.org/event/dempsey-dog-meet-greet-forest-rock-row-2/2026-09-03/
LOCATION:Dempsey Center – Rock Row\, 11 Rock Row\, Westbrook\, ME\, 04092\, United States
CATEGORIES:Dempsey Dogs
ATTACH;FMTTYPE=image/png:https://www.dempseycenter.org/wp-content/uploads/2026/04/Demp-Dogs-Meet-Forest-RR.png
END:VEVENT
BEGIN:VEVENT
DTSTART;TZID=America/New_York:20260910T103000
DTEND;TZID=America/New_York:20260910T120000
DTSTAMP:20260419T233039
CREATED:20260416T191246Z
LAST-MODIFIED:20260416T191246Z
UID:10004102-1789036200-1789041600@www.dempseycenter.org
SUMMARY:Dempsey Dog Meet + Greet: Forest [Rock Row]
DESCRIPTION:Therapy dogs can help to provide emotional support\, alleviate stress\, improve moods\, and help boost confidence. We are proud to encourage the animal-human bond through our teams of Dempsey Dogs\, trained and registered by Pet Partners.
URL:https://www.dempseycenter.org/event/dempsey-dog-meet-greet-forest-rock-row-2/2026-09-10/
LOCATION:Dempsey Center – Rock Row\, 11 Rock Row\, Westbrook\, ME\, 04092\, United States
CATEGORIES:Dempsey Dogs
ATTACH;FMTTYPE=image/png:https://www.dempseycenter.org/wp-content/uploads/2026/04/Demp-Dogs-Meet-Forest-RR.png
END:VEVENT
BEGIN:VEVENT
DTSTART;TZID=America/New_York:20260917T103000
DTEND;TZID=America/New_York:20260917T120000
DTSTAMP:20260419T233039
CREATED:20260416T191246Z
LAST-MODIFIED:20260416T191246Z
UID:10004103-1789641000-1789646400@www.dempseycenter.org
SUMMARY:Dempsey Dog Meet + Greet: Forest [Rock Row]
DESCRIPTION:Therapy dogs can help to provide emotional support\, alleviate stress\, improve moods\, and help boost confidence. We are proud to encourage the animal-human bond through our teams of Dempsey Dogs\, trained and registered by Pet Partners.
URL:https://www.dempseycenter.org/event/dempsey-dog-meet-greet-forest-rock-row-2/2026-09-17/
LOCATION:Dempsey Center – Rock Row\, 11 Rock Row\, Westbrook\, ME\, 04092\, United States
CATEGORIES:Dempsey Dogs
ATTACH;FMTTYPE=image/png:https://www.dempseycenter.org/wp-content/uploads/2026/04/Demp-Dogs-Meet-Forest-RR.png
END:VEVENT
BEGIN:VEVENT
DTSTART;TZID=America/New_York:20260924T103000
DTEND;TZID=America/New_York:20260924T120000
DTSTAMP:20260419T233039
CREATED:20260416T191246Z
LAST-MODIFIED:20260416T191246Z
UID:10004104-1790245800-1790251200@www.dempseycenter.org
SUMMARY:Dempsey Dog Meet + Greet: Forest [Rock Row]
DESCRIPTION:Therapy dogs can help to provide emotional support\, alleviate stress\, improve moods\, and help boost confidence. We are proud to encourage the animal-human bond through our teams of Dempsey Dogs\, trained and registered by Pet Partners.
URL:https://www.dempseycenter.org/event/dempsey-dog-meet-greet-forest-rock-row-2/2026-09-24/
LOCATION:Dempsey Center – Rock Row\, 11 Rock Row\, Westbrook\, ME\, 04092\, United States
CATEGORIES:Dempsey Dogs
ATTACH;FMTTYPE=image/png:https://www.dempseycenter.org/wp-content/uploads/2026/04/Demp-Dogs-Meet-Forest-RR.png
END:VEVENT
BEGIN:VEVENT
DTSTART;TZID=America/New_York:20261001T103000
DTEND;TZID=America/New_York:20261001T120000
DTSTAMP:20260419T233039
CREATED:20260416T191246Z
LAST-MODIFIED:20260416T191246Z
UID:10004105-1790850600-1790856000@www.dempseycenter.org
SUMMARY:Dempsey Dog Meet + Greet: Forest [Rock Row]
DESCRIPTION:Therapy dogs can help to provide emotional support\, alleviate stress\, improve moods\, and help boost confidence. We are proud to encourage the animal-human bond through our teams of Dempsey Dogs\, trained and registered by Pet Partners.
URL:https://www.dempseycenter.org/event/dempsey-dog-meet-greet-forest-rock-row-2/2026-10-01/
LOCATION:Dempsey Center – Rock Row\, 11 Rock Row\, Westbrook\, ME\, 04092\, United States
CATEGORIES:Dempsey Dogs
ATTACH;FMTTYPE=image/png:https://www.dempseycenter.org/wp-content/uploads/2026/04/Demp-Dogs-Meet-Forest-RR.png
END:VEVENT
BEGIN:VEVENT
DTSTART;TZID=America/New_York:20261008T103000
DTEND;TZID=America/New_York:20261008T120000
DTSTAMP:20260419T233039
CREATED:20260416T191246Z
LAST-MODIFIED:20260416T191246Z
UID:10004106-1791455400-1791460800@www.dempseycenter.org
SUMMARY:Dempsey Dog Meet + Greet: Forest [Rock Row]
DESCRIPTION:Therapy dogs can help to provide emotional support\, alleviate stress\, improve moods\, and help boost confidence. We are proud to encourage the animal-human bond through our teams of Dempsey Dogs\, trained and registered by Pet Partners.
URL:https://www.dempseycenter.org/event/dempsey-dog-meet-greet-forest-rock-row-2/2026-10-08/
LOCATION:Dempsey Center – Rock Row\, 11 Rock Row\, Westbrook\, ME\, 04092\, United States
CATEGORIES:Dempsey Dogs
ATTACH;FMTTYPE=image/png:https://www.dempseycenter.org/wp-content/uploads/2026/04/Demp-Dogs-Meet-Forest-RR.png
END:VEVENT
BEGIN:VEVENT
DTSTART;TZID=America/New_York:20261015T103000
DTEND;TZID=America/New_York:20261015T120000
DTSTAMP:20260419T233039
CREATED:20260416T191246Z
LAST-MODIFIED:20260416T191246Z
UID:10004107-1792060200-1792065600@www.dempseycenter.org
SUMMARY:Dempsey Dog Meet + Greet: Forest [Rock Row]
DESCRIPTION:Therapy dogs can help to provide emotional support\, alleviate stress\, improve moods\, and help boost confidence. We are proud to encourage the animal-human bond through our teams of Dempsey Dogs\, trained and registered by Pet Partners.
URL:https://www.dempseycenter.org/event/dempsey-dog-meet-greet-forest-rock-row-2/2026-10-15/
LOCATION:Dempsey Center – Rock Row\, 11 Rock Row\, Westbrook\, ME\, 04092\, United States
CATEGORIES:Dempsey Dogs
ATTACH;FMTTYPE=image/png:https://www.dempseycenter.org/wp-content/uploads/2026/04/Demp-Dogs-Meet-Forest-RR.png
END:VEVENT
BEGIN:VEVENT
DTSTART;TZID=America/New_York:20261022T103000
DTEND;TZID=America/New_York:20261022T120000
DTSTAMP:20260419T233039
CREATED:20260416T191246Z
LAST-MODIFIED:20260416T191246Z
UID:10004108-1792665000-1792670400@www.dempseycenter.org
SUMMARY:Dempsey Dog Meet + Greet: Forest [Rock Row]
DESCRIPTION:Therapy dogs can help to provide emotional support\, alleviate stress\, improve moods\, and help boost confidence. We are proud to encourage the animal-human bond through our teams of Dempsey Dogs\, trained and registered by Pet Partners.
URL:https://www.dempseycenter.org/event/dempsey-dog-meet-greet-forest-rock-row-2/2026-10-22/
LOCATION:Dempsey Center – Rock Row\, 11 Rock Row\, Westbrook\, ME\, 04092\, United States
CATEGORIES:Dempsey Dogs
ATTACH;FMTTYPE=image/png:https://www.dempseycenter.org/wp-content/uploads/2026/04/Demp-Dogs-Meet-Forest-RR.png
END:VEVENT
BEGIN:VEVENT
DTSTART;TZID=America/New_York:20261029T103000
DTEND;TZID=America/New_York:20261029T120000
DTSTAMP:20260419T233039
CREATED:20260416T191246Z
LAST-MODIFIED:20260416T191246Z
UID:10004109-1793269800-1793275200@www.dempseycenter.org
SUMMARY:Dempsey Dog Meet + Greet: Forest [Rock Row]
DESCRIPTION:Therapy dogs can help to provide emotional support\, alleviate stress\, improve moods\, and help boost confidence. We are proud to encourage the animal-human bond through our teams of Dempsey Dogs\, trained and registered by Pet Partners.
URL:https://www.dempseycenter.org/event/dempsey-dog-meet-greet-forest-rock-row-2/2026-10-29/
LOCATION:Dempsey Center – Rock Row\, 11 Rock Row\, Westbrook\, ME\, 04092\, United States
CATEGORIES:Dempsey Dogs
ATTACH;FMTTYPE=image/png:https://www.dempseycenter.org/wp-content/uploads/2026/04/Demp-Dogs-Meet-Forest-RR.png
END:VEVENT
BEGIN:VEVENT
DTSTART;TZID=America/New_York:20261105T103000
DTEND;TZID=America/New_York:20261105T120000
DTSTAMP:20260419T233039
CREATED:20260416T191246Z
LAST-MODIFIED:20260416T191246Z
UID:10004110-1793874600-1793880000@www.dempseycenter.org
SUMMARY:Dempsey Dog Meet + Greet: Forest [Rock Row]
DESCRIPTION:Therapy dogs can help to provide emotional support\, alleviate stress\, improve moods\, and help boost confidence. We are proud to encourage the animal-human bond through our teams of Dempsey Dogs\, trained and registered by Pet Partners.
URL:https://www.dempseycenter.org/event/dempsey-dog-meet-greet-forest-rock-row-2/2026-11-05/
LOCATION:Dempsey Center – Rock Row\, 11 Rock Row\, Westbrook\, ME\, 04092\, United States
CATEGORIES:Dempsey Dogs
ATTACH;FMTTYPE=image/png:https://www.dempseycenter.org/wp-content/uploads/2026/04/Demp-Dogs-Meet-Forest-RR.png
END:VEVENT
BEGIN:VEVENT
DTSTART;TZID=America/New_York:20261112T103000
DTEND;TZID=America/New_York:20261112T120000
DTSTAMP:20260419T233039
CREATED:20260416T191246Z
LAST-MODIFIED:20260416T191246Z
UID:10004111-1794479400-1794484800@www.dempseycenter.org
SUMMARY:Dempsey Dog Meet + Greet: Forest [Rock Row]
DESCRIPTION:Therapy dogs can help to provide emotional support\, alleviate stress\, improve moods\, and help boost confidence. We are proud to encourage the animal-human bond through our teams of Dempsey Dogs\, trained and registered by Pet Partners.
URL:https://www.dempseycenter.org/event/dempsey-dog-meet-greet-forest-rock-row-2/2026-11-12/
LOCATION:Dempsey Center – Rock Row\, 11 Rock Row\, Westbrook\, ME\, 04092\, United States
CATEGORIES:Dempsey Dogs
ATTACH;FMTTYPE=image/png:https://www.dempseycenter.org/wp-content/uploads/2026/04/Demp-Dogs-Meet-Forest-RR.png
END:VEVENT
BEGIN:VEVENT
DTSTART;TZID=America/New_York:20261119T103000
DTEND;TZID=America/New_York:20261119T120000
DTSTAMP:20260419T233039
CREATED:20260416T191246Z
LAST-MODIFIED:20260416T191246Z
UID:10004112-1795084200-1795089600@www.dempseycenter.org
SUMMARY:Dempsey Dog Meet + Greet: Forest [Rock Row]
DESCRIPTION:Therapy dogs can help to provide emotional support\, alleviate stress\, improve moods\, and help boost confidence. We are proud to encourage the animal-human bond through our teams of Dempsey Dogs\, trained and registered by Pet Partners.
URL:https://www.dempseycenter.org/event/dempsey-dog-meet-greet-forest-rock-row-2/2026-11-19/
LOCATION:Dempsey Center – Rock Row\, 11 Rock Row\, Westbrook\, ME\, 04092\, United States
CATEGORIES:Dempsey Dogs
ATTACH;FMTTYPE=image/png:https://www.dempseycenter.org/wp-content/uploads/2026/04/Demp-Dogs-Meet-Forest-RR.png
END:VEVENT
BEGIN:VEVENT
DTSTART;TZID=America/New_York:20261203T103000
DTEND;TZID=America/New_York:20261203T120000
DTSTAMP:20260419T233039
CREATED:20260416T191246Z
LAST-MODIFIED:20260416T191246Z
UID:10004113-1796293800-1796299200@www.dempseycenter.org
SUMMARY:Dempsey Dog Meet + Greet: Forest [Rock Row]
DESCRIPTION:Therapy dogs can help to provide emotional support\, alleviate stress\, improve moods\, and help boost confidence. We are proud to encourage the animal-human bond through our teams of Dempsey Dogs\, trained and registered by Pet Partners.
URL:https://www.dempseycenter.org/event/dempsey-dog-meet-greet-forest-rock-row-2/2026-12-03/
LOCATION:Dempsey Center – Rock Row\, 11 Rock Row\, Westbrook\, ME\, 04092\, United States
CATEGORIES:Dempsey Dogs
ATTACH;FMTTYPE=image/png:https://www.dempseycenter.org/wp-content/uploads/2026/04/Demp-Dogs-Meet-Forest-RR.png
END:VEVENT
BEGIN:VEVENT
DTSTART;TZID=America/New_York:20261210T103000
DTEND;TZID=America/New_York:20261210T120000
DTSTAMP:20260419T233039
CREATED:20260416T191246Z
LAST-MODIFIED:20260416T191246Z
UID:10004114-1796898600-1796904000@www.dempseycenter.org
SUMMARY:Dempsey Dog Meet + Greet: Forest [Rock Row]
DESCRIPTION:Therapy dogs can help to provide emotional support\, alleviate stress\, improve moods\, and help boost confidence. We are proud to encourage the animal-human bond through our teams of Dempsey Dogs\, trained and registered by Pet Partners.
URL:https://www.dempseycenter.org/event/dempsey-dog-meet-greet-forest-rock-row-2/2026-12-10/
LOCATION:Dempsey Center – Rock Row\, 11 Rock Row\, Westbrook\, ME\, 04092\, United States
CATEGORIES:Dempsey Dogs
ATTACH;FMTTYPE=image/png:https://www.dempseycenter.org/wp-content/uploads/2026/04/Demp-Dogs-Meet-Forest-RR.png
END:VEVENT
BEGIN:VEVENT
DTSTART;TZID=America/New_York:20261217T103000
DTEND;TZID=America/New_York:20261217T120000
DTSTAMP:20260419T233039
CREATED:20260416T191246Z
LAST-MODIFIED:20260416T191246Z
UID:10004115-1797503400-1797508800@www.dempseycenter.org
SUMMARY:Dempsey Dog Meet + Greet: Forest [Rock Row]
DESCRIPTION:Therapy dogs can help to provide emotional support\, alleviate stress\, improve moods\, and help boost confidence. We are proud to encourage the animal-human bond through our teams of Dempsey Dogs\, trained and registered by Pet Partners.
URL:https://www.dempseycenter.org/event/dempsey-dog-meet-greet-forest-rock-row-2/2026-12-17/
LOCATION:Dempsey Center – Rock Row\, 11 Rock Row\, Westbrook\, ME\, 04092\, United States
CATEGORIES:Dempsey Dogs
ATTACH;FMTTYPE=image/png:https://www.dempseycenter.org/wp-content/uploads/2026/04/Demp-Dogs-Meet-Forest-RR.png
END:VEVENT
END:VCALENDAR