BEGIN:VCALENDAR
VERSION:2.0
PRODID:-//Dempsey Center - ECPv6.15.15//NONSGML v1.0//EN
CALSCALE:GREGORIAN
METHOD:PUBLISH
X-WR-CALNAME:Dempsey Center
X-ORIGINAL-URL:https://www.dempseycenter.org
X-WR-CALDESC:Events for Dempsey Center
REFRESH-INTERVAL;VALUE=DURATION:PT1H
X-Robots-Tag:noindex
X-PUBLISHED-TTL:PT1H
BEGIN:VTIMEZONE
TZID:America/New_York
BEGIN:DAYLIGHT
TZOFFSETFROM:-0500
TZOFFSETTO:-0400
TZNAME:EDT
DTSTART:20250309T070000
END:DAYLIGHT
BEGIN:STANDARD
TZOFFSETFROM:-0400
TZOFFSETTO:-0500
TZNAME:EST
DTSTART:20251102T060000
END:STANDARD
BEGIN:DAYLIGHT
TZOFFSETFROM:-0500
TZOFFSETTO:-0400
TZNAME:EDT
DTSTART:20260308T070000
END:DAYLIGHT
BEGIN:STANDARD
TZOFFSETFROM:-0400
TZOFFSETTO:-0500
TZNAME:EST
DTSTART:20261101T060000
END:STANDARD
BEGIN:DAYLIGHT
TZOFFSETFROM:-0500
TZOFFSETTO:-0400
TZNAME:EDT
DTSTART:20270314T070000
END:DAYLIGHT
BEGIN:STANDARD
TZOFFSETFROM:-0400
TZOFFSETTO:-0500
TZNAME:EST
DTSTART:20271107T060000
END:STANDARD
END:VTIMEZONE
BEGIN:VEVENT
DTSTART;TZID=America/New_York:20260601T120000
DTEND;TZID=America/New_York:20260601T130000
DTSTAMP:20260424T015944
CREATED:20260423T161057Z
LAST-MODIFIED:20260423T161503Z
UID:10004198-1780315200-1780318800@www.dempseycenter.org
SUMMARY:Strength After Breast Cancer [Rock Row]
DESCRIPTION:No class June 29.\n \nStrength After Breast Cancer (SABC) is an 8-week exercise program open to clients with any cancer diagnosis in active or post-treatment. Presented by Seacoast Hand Therapy\, this series is designed to teach individuals about the benefits of slow\, progressive exercise and how it can reduce the onset and/or severity of lymphedema. SABC is also designed to improve strength and energy through safe upper and lower body stretches and strength exercises. Please note that this class is not restricted to clients with a breast cancer diagnosis and is open to all clients in active treatment or post-treatment.\nLed by June Leary PT\, CLT.\nOpen to Dempsey Center clients with any cancer diagnosis in active-treatment or post-treatment.
URL:https://www.dempseycenter.org/event/strength-after-breast-cancer-rock-row-4/2026-06-01/
LOCATION:Dempsey Center – Rock Row\, 11 Rock Row\, Westbrook\, ME\, 04092\, United States
CATEGORIES:Movement + Fitness
ATTACH;FMTTYPE=image/png:https://www.dempseycenter.org/wp-content/uploads/2025/05/Strength-after-Breast-cancer-RR.png
END:VEVENT
BEGIN:VEVENT
DTSTART;TZID=America/New_York:20260608T120000
DTEND;TZID=America/New_York:20260608T130000
DTSTAMP:20260424T015944
CREATED:20260423T161057Z
LAST-MODIFIED:20260423T161503Z
UID:10004199-1780920000-1780923600@www.dempseycenter.org
SUMMARY:Strength After Breast Cancer [Rock Row]
DESCRIPTION:No class June 29.\n \nStrength After Breast Cancer (SABC) is an 8-week exercise program open to clients with any cancer diagnosis in active or post-treatment. Presented by Seacoast Hand Therapy\, this series is designed to teach individuals about the benefits of slow\, progressive exercise and how it can reduce the onset and/or severity of lymphedema. SABC is also designed to improve strength and energy through safe upper and lower body stretches and strength exercises. Please note that this class is not restricted to clients with a breast cancer diagnosis and is open to all clients in active treatment or post-treatment.\nLed by June Leary PT\, CLT.\nOpen to Dempsey Center clients with any cancer diagnosis in active-treatment or post-treatment.
URL:https://www.dempseycenter.org/event/strength-after-breast-cancer-rock-row-4/2026-06-08/
LOCATION:Dempsey Center – Rock Row\, 11 Rock Row\, Westbrook\, ME\, 04092\, United States
CATEGORIES:Movement + Fitness
ATTACH;FMTTYPE=image/png:https://www.dempseycenter.org/wp-content/uploads/2025/05/Strength-after-Breast-cancer-RR.png
END:VEVENT
BEGIN:VEVENT
DTSTART;TZID=America/New_York:20260615T120000
DTEND;TZID=America/New_York:20260615T130000
DTSTAMP:20260424T015944
CREATED:20260423T161057Z
LAST-MODIFIED:20260423T161503Z
UID:10004200-1781524800-1781528400@www.dempseycenter.org
SUMMARY:Strength After Breast Cancer [Rock Row]
DESCRIPTION:No class June 29.\n \nStrength After Breast Cancer (SABC) is an 8-week exercise program open to clients with any cancer diagnosis in active or post-treatment. Presented by Seacoast Hand Therapy\, this series is designed to teach individuals about the benefits of slow\, progressive exercise and how it can reduce the onset and/or severity of lymphedema. SABC is also designed to improve strength and energy through safe upper and lower body stretches and strength exercises. Please note that this class is not restricted to clients with a breast cancer diagnosis and is open to all clients in active treatment or post-treatment.\nLed by June Leary PT\, CLT.\nOpen to Dempsey Center clients with any cancer diagnosis in active-treatment or post-treatment.
URL:https://www.dempseycenter.org/event/strength-after-breast-cancer-rock-row-4/2026-06-15/
LOCATION:Dempsey Center – Rock Row\, 11 Rock Row\, Westbrook\, ME\, 04092\, United States
CATEGORIES:Movement + Fitness
ATTACH;FMTTYPE=image/png:https://www.dempseycenter.org/wp-content/uploads/2025/05/Strength-after-Breast-cancer-RR.png
END:VEVENT
BEGIN:VEVENT
DTSTART;TZID=America/New_York:20260622T120000
DTEND;TZID=America/New_York:20260622T130000
DTSTAMP:20260424T015944
CREATED:20260423T161057Z
LAST-MODIFIED:20260423T161503Z
UID:10004201-1782129600-1782133200@www.dempseycenter.org
SUMMARY:Strength After Breast Cancer [Rock Row]
DESCRIPTION:No class June 29.\n \nStrength After Breast Cancer (SABC) is an 8-week exercise program open to clients with any cancer diagnosis in active or post-treatment. Presented by Seacoast Hand Therapy\, this series is designed to teach individuals about the benefits of slow\, progressive exercise and how it can reduce the onset and/or severity of lymphedema. SABC is also designed to improve strength and energy through safe upper and lower body stretches and strength exercises. Please note that this class is not restricted to clients with a breast cancer diagnosis and is open to all clients in active treatment or post-treatment.\nLed by June Leary PT\, CLT.\nOpen to Dempsey Center clients with any cancer diagnosis in active-treatment or post-treatment.
URL:https://www.dempseycenter.org/event/strength-after-breast-cancer-rock-row-4/2026-06-22/
LOCATION:Dempsey Center – Rock Row\, 11 Rock Row\, Westbrook\, ME\, 04092\, United States
CATEGORIES:Movement + Fitness
ATTACH;FMTTYPE=image/png:https://www.dempseycenter.org/wp-content/uploads/2025/05/Strength-after-Breast-cancer-RR.png
END:VEVENT
BEGIN:VEVENT
DTSTART;TZID=America/New_York:20260706T120000
DTEND;TZID=America/New_York:20260706T130000
DTSTAMP:20260424T015944
CREATED:20260423T161057Z
LAST-MODIFIED:20260423T161503Z
UID:10004202-1783339200-1783342800@www.dempseycenter.org
SUMMARY:Strength After Breast Cancer [Rock Row]
DESCRIPTION:No class June 29.\n \nStrength After Breast Cancer (SABC) is an 8-week exercise program open to clients with any cancer diagnosis in active or post-treatment. Presented by Seacoast Hand Therapy\, this series is designed to teach individuals about the benefits of slow\, progressive exercise and how it can reduce the onset and/or severity of lymphedema. SABC is also designed to improve strength and energy through safe upper and lower body stretches and strength exercises. Please note that this class is not restricted to clients with a breast cancer diagnosis and is open to all clients in active treatment or post-treatment.\nLed by June Leary PT\, CLT.\nOpen to Dempsey Center clients with any cancer diagnosis in active-treatment or post-treatment.
URL:https://www.dempseycenter.org/event/strength-after-breast-cancer-rock-row-4/2026-07-06/
LOCATION:Dempsey Center – Rock Row\, 11 Rock Row\, Westbrook\, ME\, 04092\, United States
CATEGORIES:Movement + Fitness
ATTACH;FMTTYPE=image/png:https://www.dempseycenter.org/wp-content/uploads/2025/05/Strength-after-Breast-cancer-RR.png
END:VEVENT
BEGIN:VEVENT
DTSTART;TZID=America/New_York:20260713T120000
DTEND;TZID=America/New_York:20260713T130000
DTSTAMP:20260424T015944
CREATED:20260423T161057Z
LAST-MODIFIED:20260423T161503Z
UID:10004203-1783944000-1783947600@www.dempseycenter.org
SUMMARY:Strength After Breast Cancer [Rock Row]
DESCRIPTION:No class June 29.\n \nStrength After Breast Cancer (SABC) is an 8-week exercise program open to clients with any cancer diagnosis in active or post-treatment. Presented by Seacoast Hand Therapy\, this series is designed to teach individuals about the benefits of slow\, progressive exercise and how it can reduce the onset and/or severity of lymphedema. SABC is also designed to improve strength and energy through safe upper and lower body stretches and strength exercises. Please note that this class is not restricted to clients with a breast cancer diagnosis and is open to all clients in active treatment or post-treatment.\nLed by June Leary PT\, CLT.\nOpen to Dempsey Center clients with any cancer diagnosis in active-treatment or post-treatment.
URL:https://www.dempseycenter.org/event/strength-after-breast-cancer-rock-row-4/2026-07-13/
LOCATION:Dempsey Center – Rock Row\, 11 Rock Row\, Westbrook\, ME\, 04092\, United States
CATEGORIES:Movement + Fitness
ATTACH;FMTTYPE=image/png:https://www.dempseycenter.org/wp-content/uploads/2025/05/Strength-after-Breast-cancer-RR.png
END:VEVENT
BEGIN:VEVENT
DTSTART;TZID=America/New_York:20260720T120000
DTEND;TZID=America/New_York:20260720T130000
DTSTAMP:20260424T015944
CREATED:20260423T161057Z
LAST-MODIFIED:20260423T161503Z
UID:10004204-1784548800-1784552400@www.dempseycenter.org
SUMMARY:Strength After Breast Cancer [Rock Row]
DESCRIPTION:No class June 29.\n \nStrength After Breast Cancer (SABC) is an 8-week exercise program open to clients with any cancer diagnosis in active or post-treatment. Presented by Seacoast Hand Therapy\, this series is designed to teach individuals about the benefits of slow\, progressive exercise and how it can reduce the onset and/or severity of lymphedema. SABC is also designed to improve strength and energy through safe upper and lower body stretches and strength exercises. Please note that this class is not restricted to clients with a breast cancer diagnosis and is open to all clients in active treatment or post-treatment.\nLed by June Leary PT\, CLT.\nOpen to Dempsey Center clients with any cancer diagnosis in active-treatment or post-treatment.
URL:https://www.dempseycenter.org/event/strength-after-breast-cancer-rock-row-4/2026-07-20/
LOCATION:Dempsey Center – Rock Row\, 11 Rock Row\, Westbrook\, ME\, 04092\, United States
CATEGORIES:Movement + Fitness
ATTACH;FMTTYPE=image/png:https://www.dempseycenter.org/wp-content/uploads/2025/05/Strength-after-Breast-cancer-RR.png
END:VEVENT
BEGIN:VEVENT
DTSTART;TZID=America/New_York:20260727T120000
DTEND;TZID=America/New_York:20260727T130000
DTSTAMP:20260424T015944
CREATED:20260423T161057Z
LAST-MODIFIED:20260423T161503Z
UID:10004205-1785153600-1785157200@www.dempseycenter.org
SUMMARY:Strength After Breast Cancer [Rock Row]
DESCRIPTION:No class June 29.\n \nStrength After Breast Cancer (SABC) is an 8-week exercise program open to clients with any cancer diagnosis in active or post-treatment. Presented by Seacoast Hand Therapy\, this series is designed to teach individuals about the benefits of slow\, progressive exercise and how it can reduce the onset and/or severity of lymphedema. SABC is also designed to improve strength and energy through safe upper and lower body stretches and strength exercises. Please note that this class is not restricted to clients with a breast cancer diagnosis and is open to all clients in active treatment or post-treatment.\nLed by June Leary PT\, CLT.\nOpen to Dempsey Center clients with any cancer diagnosis in active-treatment or post-treatment.
URL:https://www.dempseycenter.org/event/strength-after-breast-cancer-rock-row-4/2026-07-27/
LOCATION:Dempsey Center – Rock Row\, 11 Rock Row\, Westbrook\, ME\, 04092\, United States
CATEGORIES:Movement + Fitness
ATTACH;FMTTYPE=image/png:https://www.dempseycenter.org/wp-content/uploads/2025/05/Strength-after-Breast-cancer-RR.png
END:VEVENT
END:VCALENDAR