BEGIN:VCALENDAR
VERSION:2.0
PRODID:-//Dempsey Center - ECPv6.15.15//NONSGML v1.0//EN
CALSCALE:GREGORIAN
METHOD:PUBLISH
X-WR-CALNAME:Dempsey Center
X-ORIGINAL-URL:https://www.dempseycenter.org
X-WR-CALDESC:Events for Dempsey Center
REFRESH-INTERVAL;VALUE=DURATION:PT1H
X-Robots-Tag:noindex
X-PUBLISHED-TTL:PT1H
BEGIN:VTIMEZONE
TZID:America/New_York
BEGIN:DAYLIGHT
TZOFFSETFROM:-0500
TZOFFSETTO:-0400
TZNAME:EDT
DTSTART:20250309T070000
END:DAYLIGHT
BEGIN:STANDARD
TZOFFSETFROM:-0400
TZOFFSETTO:-0500
TZNAME:EST
DTSTART:20251102T060000
END:STANDARD
BEGIN:DAYLIGHT
TZOFFSETFROM:-0500
TZOFFSETTO:-0400
TZNAME:EDT
DTSTART:20260308T070000
END:DAYLIGHT
BEGIN:STANDARD
TZOFFSETFROM:-0400
TZOFFSETTO:-0500
TZNAME:EST
DTSTART:20261101T060000
END:STANDARD
BEGIN:DAYLIGHT
TZOFFSETFROM:-0500
TZOFFSETTO:-0400
TZNAME:EDT
DTSTART:20270314T070000
END:DAYLIGHT
BEGIN:STANDARD
TZOFFSETFROM:-0400
TZOFFSETTO:-0500
TZNAME:EST
DTSTART:20271107T060000
END:STANDARD
END:VTIMEZONE
BEGIN:VEVENT
DTSTART;TZID=America/New_York:20260722T130000
DTEND;TZID=America/New_York:20260722T143000
DTSTAMP:20260423T052212
CREATED:20260318T182249Z
LAST-MODIFIED:20260318T182249Z
UID:10003589-1784725200-1784730600@www.dempseycenter.org
SUMMARY:Women's Cancer Support Group Series [Dempsey Connects]
DESCRIPTION:No group May 13 or July 1.\n \nWomen facing cancer…you are not alone. This support group offers a compassionate space to share your thoughts\, feelings\, and worries with other women during any part of your cancer journey.\n\nLed by Paige Moore\, LCSW\, CAGC\, OSW-C.\n\nOpen to adult female Dempsey Center clients with a cancer diagnosis\, at any point in cancer journey.\nParticipants must be residents of Maine.
URL:https://www.dempseycenter.org/event/womens-cancer-support-group-series-dempsey-connects-2/2026-07-22/
LOCATION:Dempsey Connects
CATEGORIES:Counseling,Support Groups
ATTACH;FMTTYPE=image/png:https://www.dempseycenter.org/wp-content/uploads/2025/05/Womens-Support-Group-Connects-2.png
END:VEVENT
BEGIN:VEVENT
DTSTART;TZID=America/New_York:20260723T173000
DTEND;TZID=America/New_York:20260723T184500
DTSTAMP:20260423T052212
CREATED:20260416T163121Z
LAST-MODIFIED:20260416T163121Z
UID:10004039-1784827800-1784832300@www.dempseycenter.org
SUMMARY:Young Adult Cancer Support Group [Dempsey Connects]
DESCRIPTION:Meets 2nd + 4th Thursdays\, monthly.\n \nNo group November 26.\n\nWork\, relationships\, sexuality\, intimacy\, finances\, family\, parenting\, college…adulting is just different with a cancer diagnosis. This group is a place for young adults at any point in their cancer journey to connect and socialize with others who understand the challenges of diagnosis\, treatment\, and survivorship. We share stories\, struggles and laughter and identify ways to cope day to day.\n\nLed by Jen Dimond\, LCSW\, OSW-C\, and Libby Gordon\, Volunteer Facilitator.\n\nOpen to Dempsey Center clients ages 18-40ish with a cancer diagnosis\, at any point in their cancer journey.\n\nParticipants must be residents of Maine.young adult
URL:https://www.dempseycenter.org/event/young-adult-cancer-support-group-dempsey-connects-3/2026-07-23/
LOCATION:Dempsey Connects
CATEGORIES:Counseling,Support Groups
ATTACH;FMTTYPE=image/png:https://www.dempseycenter.org/wp-content/uploads/2025/05/Young-Adult-Support-Group-Connects.png
END:VEVENT
BEGIN:VEVENT
DTSTART;TZID=America/New_York:20260723T173000
DTEND;TZID=America/New_York:20260723T184500
DTSTAMP:20260423T052212
CREATED:20260416T163440Z
LAST-MODIFIED:20260416T163440Z
UID:10004052-1784827800-1784832300@www.dempseycenter.org
SUMMARY:Young Adult Cancer Support Group [Dempsey Connects]
DESCRIPTION:Meets 2nd + 4th Thursdays\n\nWork\, relationships\, sexuality\, intimacy\, finances\, family\, parenting\, college…adulting is just different with a cancer diagnosis. This group is a place for young adults at any point in their cancer journey to connect and socialize with others who understand the challenges of diagnosis\, treatment\, and survivorship. We share stories\, struggles and laughter and identify ways to cope day to day.\n\nLed by Jen Dimond and Libby Gordon\, Volunteer Support Group Facilitators.\n\nOpen to adult Dempsey Center clients ages 18-40ish with a cancer diagnosis\, at any point in their cancer journey.\n\nParticipants must be residents of Maine.\n \nThis group requires a screening. If you are interested in participating\, please call 877-336-7287 or email registration@dempseycenter.org.
URL:https://www.dempseycenter.org/event/young-adult-cancer-support-group-dempsey-connects-4/2026-07-23/
LOCATION:Dempsey Connects
CATEGORIES:Counseling,Support Groups
ATTACH;FMTTYPE=image/png:https://www.dempseycenter.org/wp-content/uploads/2025/05/Young-Adult-Support-Group-Connects.png
END:VEVENT
END:VCALENDAR