BEGIN:VCALENDAR
VERSION:2.0
PRODID:-//Dempsey Center - ECPv6.15.15//NONSGML v1.0//EN
CALSCALE:GREGORIAN
METHOD:PUBLISH
X-WR-CALNAME:Dempsey Center
X-ORIGINAL-URL:https://www.dempseycenter.org
X-WR-CALDESC:Events for Dempsey Center
REFRESH-INTERVAL;VALUE=DURATION:PT1H
X-Robots-Tag:noindex
X-PUBLISHED-TTL:PT1H
BEGIN:VTIMEZONE
TZID:America/New_York
BEGIN:DAYLIGHT
TZOFFSETFROM:-0500
TZOFFSETTO:-0400
TZNAME:EDT
DTSTART:20250309T070000
END:DAYLIGHT
BEGIN:STANDARD
TZOFFSETFROM:-0400
TZOFFSETTO:-0500
TZNAME:EST
DTSTART:20251102T060000
END:STANDARD
BEGIN:DAYLIGHT
TZOFFSETFROM:-0500
TZOFFSETTO:-0400
TZNAME:EDT
DTSTART:20260308T070000
END:DAYLIGHT
BEGIN:STANDARD
TZOFFSETFROM:-0400
TZOFFSETTO:-0500
TZNAME:EST
DTSTART:20261101T060000
END:STANDARD
BEGIN:DAYLIGHT
TZOFFSETFROM:-0500
TZOFFSETTO:-0400
TZNAME:EDT
DTSTART:20270314T070000
END:DAYLIGHT
BEGIN:STANDARD
TZOFFSETFROM:-0400
TZOFFSETTO:-0500
TZNAME:EST
DTSTART:20271107T060000
END:STANDARD
END:VTIMEZONE
BEGIN:VEVENT
DTSTART;TZID=America/New_York:20260113T130000
DTEND;TZID=America/New_York:20260113T140000
DTSTAMP:20260423T052905
CREATED:20251204T150032Z
LAST-MODIFIED:20251204T150032Z
UID:10003053-1768309200-1768312800@www.dempseycenter.org
SUMMARY:Anti-Inflammatory Diet [Lewiston]
DESCRIPTION:Reducing the amount of inflammation in your body can help to lower risks of chronic disease including cancer\, heart disease\, and more. Together in this workshop\, we will learn what an anti-inflammatory diet consists of\, including foods that help reduce and foods that may promote inflammation.\n\nLed by Judy Donnelly\, RDN\, CSO\, LD.\n\nOpen to all Dempsey Center clients.
URL:https://www.dempseycenter.org/event/anti-inflammatory-diet-lewiston/
LOCATION:Dempsey Center – Lewiston (17 High Street)\, 17 High Street\, Lewiston\, ME\, 04240\, United States
CATEGORIES:Nutrition
ATTACH;FMTTYPE=image/png:https://www.dempseycenter.org/wp-content/uploads/2025/12/Anti-Inflammatory-Diet-Lew.png
END:VEVENT
BEGIN:VEVENT
DTSTART;TZID=America/New_York:20260113T140000
DTEND;TZID=America/New_York:20260113T151500
DTSTAMP:20260423T052905
CREATED:20251204T151955Z
LAST-MODIFIED:20251204T151955Z
UID:10003054-1768312800-1768317300@www.dempseycenter.org
SUMMARY:Guided Meditation + Massage [Rock Row]
DESCRIPTION:Experience a serene session of guided meditation and restorative massage. Allow yourself to be guided through tranquil meditation while our massage therapists offer soothing hand\, foot\, back\, and neck massage. This distinctive blend provides an opportunity for deep relaxation\, comfort\, and rejuvenation.\nLed by Dempsey Center staff \nOpen to adult Dempsey Center clients
URL:https://www.dempseycenter.org/event/guided-meditation-massage-rock-row-6/
LOCATION:Dempsey Center – Rock Row\, 11 Rock Row\, Westbrook\, ME\, 04092\, United States
CATEGORIES:Complementary Therapies,Mindfulness + Meditation
ATTACH;FMTTYPE=image/png:https://www.dempseycenter.org/wp-content/uploads/2025/05/Guided-Meditation-Massage-RR.png
END:VEVENT
END:VCALENDAR