BEGIN:VCALENDAR
VERSION:2.0
PRODID:-//Dempsey Center - ECPv6.15.15//NONSGML v1.0//EN
CALSCALE:GREGORIAN
METHOD:PUBLISH
X-WR-CALNAME:Dempsey Center
X-ORIGINAL-URL:https://www.dempseycenter.org
X-WR-CALDESC:Events for Dempsey Center
REFRESH-INTERVAL;VALUE=DURATION:PT1H
X-Robots-Tag:noindex
X-PUBLISHED-TTL:PT1H
BEGIN:VTIMEZONE
TZID:America/New_York
BEGIN:DAYLIGHT
TZOFFSETFROM:-0500
TZOFFSETTO:-0400
TZNAME:EDT
DTSTART:20250309T070000
END:DAYLIGHT
BEGIN:STANDARD
TZOFFSETFROM:-0400
TZOFFSETTO:-0500
TZNAME:EST
DTSTART:20251102T060000
END:STANDARD
BEGIN:DAYLIGHT
TZOFFSETFROM:-0500
TZOFFSETTO:-0400
TZNAME:EDT
DTSTART:20260308T070000
END:DAYLIGHT
BEGIN:STANDARD
TZOFFSETFROM:-0400
TZOFFSETTO:-0500
TZNAME:EST
DTSTART:20261101T060000
END:STANDARD
BEGIN:DAYLIGHT
TZOFFSETFROM:-0500
TZOFFSETTO:-0400
TZNAME:EDT
DTSTART:20270314T070000
END:DAYLIGHT
BEGIN:STANDARD
TZOFFSETFROM:-0400
TZOFFSETTO:-0500
TZNAME:EST
DTSTART:20271107T060000
END:STANDARD
END:VTIMEZONE
BEGIN:VEVENT
DTSTART;TZID=America/New_York:20260520T100000
DTEND;TZID=America/New_York:20260520T113000
DTSTAMP:20260420T005241
CREATED:20260416T175037Z
LAST-MODIFIED:20260416T175037Z
UID:10004083-1779271200-1779276600@www.dempseycenter.org
SUMMARY:Eating for Energy [Rock Row]
DESCRIPTION:Fatigue is a common side effect of treatment and cancer diagnoses. Nutrition and eating certain foods are just one natural way to help combat this side effect before\, during\, and after treatment. Join us to learn nutrition strategies to improve energy levels\, create some easy meals\, and discover quick snack options.\n\nLed by Judy Donnelly\, RDN\, LD.\n\nOpen to Dempsey Center clients.
URL:https://www.dempseycenter.org/event/eating-for-energy-rock-row/
LOCATION:Dempsey Center – Rock Row\, 11 Rock Row\, Westbrook\, ME\, 04092\, United States
CATEGORIES:Nutrition
ATTACH;FMTTYPE=image/png:https://www.dempseycenter.org/wp-content/uploads/2026/04/Eating-for-Energy-RR-1.png
END:VEVENT
BEGIN:VEVENT
DTSTART;TZID=America/New_York:20260520T123000
DTEND;TZID=America/New_York:20260520T133000
DTSTAMP:20260420T005241
CREATED:20260416T172813Z
LAST-MODIFIED:20260416T172813Z
UID:10004070-1779280200-1779283800@www.dempseycenter.org
SUMMARY:Stretch + Strengthen [Dempsey Connects]
DESCRIPTION:Join us for a progressive series that combines Pilates and Yoga principles to enhance core strength and stability to promote better balance. We will also focus on improving flexibility\, muscular strength\, endurance\, posture\, and alignment.\nNo experience required.\n\nLed by Tish Caldwell\, Dempsey Center’s Movement + Fitness Manager\, Certified Oncology Yoga Instructor and Certified Pilates Instructor.\n\nOpen to all adult Dempsey Center clients.\n \nPlease note that participants must be able to lay on their backs and transition from floor to standing.\n \nThis class has a virtual and in person at Rock Row option. You are signing up to attend virtually. 
URL:https://www.dempseycenter.org/event/stretch-strengthen-dempsey-connects-3/2026-05-20/
LOCATION:Dempsey Connects
CATEGORIES:Movement + Fitness
ATTACH;FMTTYPE=image/png:https://www.dempseycenter.org/wp-content/uploads/2025/08/Stretch-Strengthen-Connects.png
END:VEVENT
BEGIN:VEVENT
DTSTART;TZID=America/New_York:20260522T100000
DTEND;TZID=America/New_York:20260522T110000
DTSTAMP:20260420T005241
CREATED:20260309T194355Z
LAST-MODIFIED:20260309T194355Z
UID:10003433-1779444000-1779447600@www.dempseycenter.org
SUMMARY:Qigong for Wellness [Rock Row]
DESCRIPTION:Qigong is a movement therapy that promotes the flow of energy in the body to improve health. Suitable for all ages\, this class will emphasize the practice and cultivation of different exercises that provide benefits such as improved balance\, range of motion\, and core strength\, as well as pain management and decreased stress and anxiety. \nOpen to Dempsey Center clients with a cancer diagnosis at any stage and their primary care partner. \nLed by Ronnie Wilson RN/NP Certified Tai Chi + Qigong instructor
URL:https://www.dempseycenter.org/event/qigong-for-wellness-rock-row-2/2026-05-22/
LOCATION:Dempsey Center – Rock Row\, 11 Rock Row\, Westbrook\, ME\, 04092\, United States
CATEGORIES:Movement + Fitness
ATTACH;FMTTYPE=image/png:https://www.dempseycenter.org/wp-content/uploads/2025/11/Qigong-for-Wellness-RR.png
END:VEVENT
END:VCALENDAR