BEGIN:VCALENDAR
VERSION:2.0
PRODID:-//Dempsey Center - ECPv6.15.15//NONSGML v1.0//EN
CALSCALE:GREGORIAN
METHOD:PUBLISH
X-WR-CALNAME:Dempsey Center
X-ORIGINAL-URL:https://www.dempseycenter.org
X-WR-CALDESC:Events for Dempsey Center
REFRESH-INTERVAL;VALUE=DURATION:PT1H
X-Robots-Tag:noindex
X-PUBLISHED-TTL:PT1H
BEGIN:VTIMEZONE
TZID:America/New_York
BEGIN:DAYLIGHT
TZOFFSETFROM:-0500
TZOFFSETTO:-0400
TZNAME:EDT
DTSTART:20240310T070000
END:DAYLIGHT
BEGIN:STANDARD
TZOFFSETFROM:-0400
TZOFFSETTO:-0500
TZNAME:EST
DTSTART:20241103T060000
END:STANDARD
BEGIN:DAYLIGHT
TZOFFSETFROM:-0500
TZOFFSETTO:-0400
TZNAME:EDT
DTSTART:20250309T070000
END:DAYLIGHT
BEGIN:STANDARD
TZOFFSETFROM:-0400
TZOFFSETTO:-0500
TZNAME:EST
DTSTART:20251102T060000
END:STANDARD
BEGIN:DAYLIGHT
TZOFFSETFROM:-0500
TZOFFSETTO:-0400
TZNAME:EDT
DTSTART:20260308T070000
END:DAYLIGHT
BEGIN:STANDARD
TZOFFSETFROM:-0400
TZOFFSETTO:-0500
TZNAME:EST
DTSTART:20261101T060000
END:STANDARD
END:VTIMEZONE
BEGIN:VEVENT
DTSTART;TZID=America/New_York:20251201T093000
DTEND;TZID=America/New_York:20251201T101500
DTSTAMP:20260423T061450
CREATED:20250930T204336Z
LAST-MODIFIED:20250930T204336Z
UID:10002313-1764581400-1764584100@www.dempseycenter.org
SUMMARY:Fitness for Life [Dempsey Connects]
DESCRIPTION:Exercise can help fight fatigue\, boost your energy level\, support your immune system\, relieve stress and tension\, make your muscles and heart stronger\, improve balance and help you sleep better. This 45-minute class will provide you with all the fundamentals of an exercise program\, adapting it to meet the needs of varying levels of fitness with a warm-up\, aerobic activity\, core and strength training exercises\, and finishing with a cooldown/stretch. Please wear comfortable clothes and supportive shoes or sneakers and have a sturdy chair available on a non-skid surface and small handheld weights.\n\nLed by Tish Caldwell\, Dempsey Center’s Movement + Fitness Manager\, Certified Oncology Yoga Instructor\, and Livestrong Cancer Exercise Trainer.\n\nOpen to adult Dempsey Center clients.
URL:https://www.dempseycenter.org/event/fitness-for-life-dempsey-connects-2/2025-12-01/
LOCATION:Dempsey Connects
CATEGORIES:Movement + Fitness
ATTACH;FMTTYPE=image/png:https://www.dempseycenter.org/wp-content/uploads/2025/05/Fitness-for-Life-Connects.png
END:VEVENT
BEGIN:VEVENT
DTSTART;TZID=America/New_York:20251204T100000
DTEND;TZID=America/New_York:20251204T110000
DTSTAMP:20260423T061450
CREATED:20250822T012125Z
LAST-MODIFIED:20250822T012125Z
UID:10002257-1764842400-1764846000@www.dempseycenter.org
SUMMARY:Tai Chi + Qigong for Energy + Health [Dempsey Connects]
DESCRIPTION:Tai Chi is a movement therapy that promotes the flow of energy in the body to improve health. Suitable for all ages\, this class will emphasize the practice and cultivation of different exercises that provide benefits such as improved balance\, range of motion\, and core strength\, as well as pain management and decreased stress and anxiety.\n\nLed by Jason Ames\, founder and owner of Maine Center for Taijiquan & Qigong.\n\nOpen to all adult Dempsey Center clients.
URL:https://www.dempseycenter.org/event/tai-chi-qigong-for-energy-health-dempsey-connects/2025-12-04/
LOCATION:Dempsey Connects
CATEGORIES:Movement + Fitness
ATTACH;FMTTYPE=image/png:https://www.dempseycenter.org/wp-content/uploads/2025/05/Tai-Chi-QiGong-for-Energy-Health-Connects.png
END:VEVENT
BEGIN:VEVENT
DTSTART;TZID=America/New_York:20251204T100000
DTEND;TZID=America/New_York:20251204T110000
DTSTAMP:20260423T061450
CREATED:20251031T181029Z
LAST-MODIFIED:20251031T181029Z
UID:10002556-1764842400-1764846000@www.dempseycenter.org
SUMMARY:Understanding Neuropathy [Dempsey Connects]
DESCRIPTION:Come learn about Chemo-Induced Peripheral Neuropathy\, a common side effect of cancer treatment. In this educational workshop\, we will share strategies for managing the hallmarks of neuropathy—tingling\, numbness\, and burning—and will offer insights to improve your or your loved one’s quality of life.\n\nLed by Nikki Langstaff and Maggie Miller.\n\nOpen to the public. Public sign up at\nhttps://www.dempseycenter.org/services/classes-workshops/public/.
URL:https://www.dempseycenter.org/event/understanding-neuropathy-dempsey-connects-2/
LOCATION:Dempsey Connects
CATEGORIES:Complementary Therapies,Education
ATTACH;FMTTYPE=image/png:https://www.dempseycenter.org/wp-content/uploads/2025/05/understanding-neuropathy-connects.png
END:VEVENT
END:VCALENDAR