BEGIN:VCALENDAR
VERSION:2.0
PRODID:-//Dempsey Center - ECPv6.15.15//NONSGML v1.0//EN
CALSCALE:GREGORIAN
METHOD:PUBLISH
X-ORIGINAL-URL:https://www.dempseycenter.org
X-WR-CALDESC:Events for Dempsey Center
REFRESH-INTERVAL;VALUE=DURATION:PT1H
X-Robots-Tag:noindex
X-PUBLISHED-TTL:PT1H
BEGIN:VTIMEZONE
TZID:America/New_York
BEGIN:DAYLIGHT
TZOFFSETFROM:-0500
TZOFFSETTO:-0400
TZNAME:EDT
DTSTART:20250309T070000
END:DAYLIGHT
BEGIN:STANDARD
TZOFFSETFROM:-0400
TZOFFSETTO:-0500
TZNAME:EST
DTSTART:20251102T060000
END:STANDARD
BEGIN:DAYLIGHT
TZOFFSETFROM:-0500
TZOFFSETTO:-0400
TZNAME:EDT
DTSTART:20260308T070000
END:DAYLIGHT
BEGIN:STANDARD
TZOFFSETFROM:-0400
TZOFFSETTO:-0500
TZNAME:EST
DTSTART:20261101T060000
END:STANDARD
BEGIN:DAYLIGHT
TZOFFSETFROM:-0500
TZOFFSETTO:-0400
TZNAME:EDT
DTSTART:20270314T070000
END:DAYLIGHT
BEGIN:STANDARD
TZOFFSETFROM:-0400
TZOFFSETTO:-0500
TZNAME:EST
DTSTART:20271107T060000
END:STANDARD
END:VTIMEZONE
BEGIN:VEVENT
DTSTART;TZID=America/New_York:20261221T100000
DTEND;TZID=America/New_York:20261221T113000
DTSTAMP:20260424T023811
CREATED:20260417T153029Z
LAST-MODIFIED:20260417T153029Z
UID:10004161-1797847200-1797852600@www.dempseycenter.org
SUMMARY:Dempsey Dog Meet + Greet: Louise Cheese [Lewiston]
DESCRIPTION:Therapy dogs can help to provide emotional support\, alleviate stress\, improve moods\, and help boost confidence. We are proud to encourage the animal-human bond through our teams of Dempsey Dogs\, trained and registered by Pet Partners.\n \nDrop in and say “hi” to our Dempsey Dog Teams. No sign up needed!\n \nLouise Cheese is expected most 1st + 3rd Mondays\, 10:00-11:30AM.
URL:https://www.dempseycenter.org/event/dempsey-dog-meet-greet-louise-cheese-lewiston-2/2026-12-21/
LOCATION:Dempsey Center – Lewiston (17 High Street)\, 17 High Street\, Lewiston\, ME\, 04240\, United States
CATEGORIES:Dempsey Dogs
ATTACH;FMTTYPE=image/png:https://www.dempseycenter.org/wp-content/uploads/2025/05/Demp-Dogs-Meet-Louise-Lew.png
END:VEVENT
BEGIN:VEVENT
DTSTART;TZID=America/New_York:20261222T160000
DTEND;TZID=America/New_York:20261222T170000
DTSTAMP:20260424T023811
CREATED:20260420T163020Z
LAST-MODIFIED:20260420T163020Z
UID:10004173-1797955200-1797958800@www.dempseycenter.org
SUMMARY:Dempsey Dog Meet + Greet: Meadow [Lewiston]
DESCRIPTION:Therapy dogs can help to provide emotional support\, alleviate stress\, improve moods\, and help boost confidence. We are proud to encourage the animal-human bond through our teams of Dempsey Dogs\, trained and registered by Pet Partners. \nDrop in and say “hi” to our Dempsey Dog Teams. No sign up needed! \nMeadow is expected most 2nd & 4th Tuesdays monthly.
URL:https://www.dempseycenter.org/event/dempsey-dog-meet-greet-meadow-lewiston-3/2026-12-22/
LOCATION:Dempsey Center – Lewiston (17 High Street)\, 17 High Street\, Lewiston\, ME\, 04240\, United States
CATEGORIES:Dempsey Dogs
ATTACH;FMTTYPE=image/png:https://www.dempseycenter.org/wp-content/uploads/2025/05/Demp-Dogs-Meet-Meadow-Lew.png
END:VEVENT
BEGIN:VEVENT
DTSTART;TZID=America/New_York:20261223T090000
DTEND;TZID=America/New_York:20261223T103000
DTSTAMP:20260424T023811
CREATED:20260417T144501Z
LAST-MODIFIED:20260417T144501Z
UID:10004150-1798016400-1798021800@www.dempseycenter.org
SUMMARY:Dempsey Dog Meet + Greet: Louise Cheese [Rock Row]
DESCRIPTION:Therapy dogs can help to provide emotional support\, alleviate stress\, improve moods\, and help boost confidence. We are proud to encourage the animal-human bond through our teams of Dempsey Dogs\, trained and registered by Pet Partners.\nDrop into our Rock Row center and say “hi” to our Dempsey Dog Teams. No sign up needed!\n\nLouise Cheese is expected most Wednesdays\, 9:00-10:30AM
URL:https://www.dempseycenter.org/event/dempsey-dog-meet-greet-louise-cheese-rock-row-3/2026-12-23/
LOCATION:Dempsey Center – Rock Row\, 11 Rock Row\, Westbrook\, ME\, 04092\, United States
CATEGORIES:Dempsey Dogs
ATTACH;FMTTYPE=image/png:https://www.dempseycenter.org/wp-content/uploads/2025/05/Demp-Dogs-Meet-Louise-RR.png
END:VEVENT
BEGIN:VEVENT
DTSTART;TZID=America/New_York:20261223T140000
DTEND;TZID=America/New_York:20261223T160000
DTSTAMP:20260424T023811
CREATED:20260420T175658Z
LAST-MODIFIED:20260420T175658Z
UID:10004196-1798034400-1798041600@www.dempseycenter.org
SUMMARY:Dempsey Dog Meet + Greet: Rudy [Rock Row]
DESCRIPTION:Therapy dogs can help to provide emotional support\, alleviate stress\, improve moods\, and help boost confidence. We are proud to encourage the animal-human bond through our teams of Dempsey Dogs\, trained and registered by Pet Partners.\n\nDrop in and say “hi” to our Dempsey Dog Teams. No sign up needed!\n \nRudy is expected most Wednesdays\, 2:00-4:00PM.
URL:https://www.dempseycenter.org/event/dempsey-dog-meet-greet-rudy-rock-row-2/2026-12-23/
LOCATION:Dempsey Center – Rock Row\, 11 Rock Row\, Westbrook\, ME\, 04092\, United States
CATEGORIES:Dempsey Dogs
ATTACH;FMTTYPE=image/png:https://www.dempseycenter.org/wp-content/uploads/2025/07/Demp-Dogs-Meet-Rudy-RR.png
END:VEVENT
END:VCALENDAR