BEGIN:VCALENDAR
VERSION:2.0
PRODID:-//Dempsey Center - ECPv6.15.15//NONSGML v1.0//EN
CALSCALE:GREGORIAN
METHOD:PUBLISH
X-WR-CALNAME:Dempsey Center
X-ORIGINAL-URL:https://www.dempseycenter.org
X-WR-CALDESC:Events for Dempsey Center
REFRESH-INTERVAL;VALUE=DURATION:PT1H
X-Robots-Tag:noindex
X-PUBLISHED-TTL:PT1H
BEGIN:VTIMEZONE
TZID:America/New_York
BEGIN:DAYLIGHT
TZOFFSETFROM:-0500
TZOFFSETTO:-0400
TZNAME:EDT
DTSTART:20240310T070000
END:DAYLIGHT
BEGIN:STANDARD
TZOFFSETFROM:-0400
TZOFFSETTO:-0500
TZNAME:EST
DTSTART:20241103T060000
END:STANDARD
BEGIN:DAYLIGHT
TZOFFSETFROM:-0500
TZOFFSETTO:-0400
TZNAME:EDT
DTSTART:20250309T070000
END:DAYLIGHT
BEGIN:STANDARD
TZOFFSETFROM:-0400
TZOFFSETTO:-0500
TZNAME:EST
DTSTART:20251102T060000
END:STANDARD
BEGIN:DAYLIGHT
TZOFFSETFROM:-0500
TZOFFSETTO:-0400
TZNAME:EDT
DTSTART:20260308T070000
END:DAYLIGHT
BEGIN:STANDARD
TZOFFSETFROM:-0400
TZOFFSETTO:-0500
TZNAME:EST
DTSTART:20261101T060000
END:STANDARD
END:VTIMEZONE
BEGIN:VEVENT
DTSTART;TZID=America/New_York:20250624T150000
DTEND;TZID=America/New_York:20250624T163000
DTSTAMP:20260423T054518
CREATED:20250507T155925Z
LAST-MODIFIED:20250507T155925Z
UID:10001066-1750777200-1750782600@www.dempseycenter.org
SUMMARY:Advanced Cancer Support Group - Afternoon [Dempsey Connects]
DESCRIPTION:If you are living with an advanced cancer diagnosis\, this is a safe place to explore ways to cope with the challenges of living with advanced illness and continue to find meaning and hope through discussion and connection.\n\nLed by Michelle Hayes\, LCSW\, OSW-C and Jen Keefe\, MSW Intern.\n\nOpen to Dempsey Center clients living with advanced cancer.\nParticipants must be residents of Maine\, New Hampshire\, or Massachusetts.\n\nOnline sign up is not available for this group. A telephone consult is required before attending. Please call us at (877)336-7287 or email registration@dempseycenter.org to request your consult.
URL:https://www.dempseycenter.org/event/advanced-cancer-support-group-afternoon-dempsey-connects/2025-06-24/
LOCATION:Dempsey Connects
CATEGORIES:Counseling,Support Groups
ATTACH;FMTTYPE=image/png:https://www.dempseycenter.org/wp-content/uploads/2025/05/Advanced-Cancer-Support-Group-Afternoon-Connects.png
END:VEVENT
BEGIN:VEVENT
DTSTART;TZID=America/New_York:20250625T110000
DTEND;TZID=America/New_York:20250625T123000
DTSTAMP:20260423T054518
CREATED:20250507T131942Z
LAST-MODIFIED:20250507T143753Z
UID:10000059-1750849200-1750854600@www.dempseycenter.org
SUMMARY:Cancer-Related Grief: Myths + Misconceptions [Dempsey Connects]
DESCRIPTION:Navigating a cancer diagnosis involves dealing with grief\, in one form or another. Whether it be anticipatory\, grief related to changes in executive or cognitive functioning\, or the death of a loved one; grief is a shared experience. \nJoin us for a 90-minute educational overview of some of the different ‘types’ of grief\, as you learn how to identify them\, discuss some common misunderstandings around grief and grieving\, and connect with others who get it. \nLed by Allison Burt\, LCSW\, OSW-C. Open to Dempsey Center Clients and the public.
URL:https://www.dempseycenter.org/event/cancer-related-grief-myths-misconceptions-dempsey-connects/
LOCATION:Dempsey Connects
CATEGORIES:Education,Grief + Bereavement
ATTACH;FMTTYPE=image/png:https://www.dempseycenter.org/wp-content/uploads/2025/05/Cancer-Related-Grief_-Myths-Misconceptions-Connects.png
END:VEVENT
BEGIN:VEVENT
DTSTART;TZID=America/New_York:20250625T130000
DTEND;TZID=America/New_York:20250625T143000
DTSTAMP:20260423T054518
CREATED:20250507T164511Z
LAST-MODIFIED:20250507T164912Z
UID:10001294-1750856400-1750861800@www.dempseycenter.org
SUMMARY:Women's Cancer Support Group Series [Dempsey Connects]
DESCRIPTION:Women facing cancer…you are not alone. This 12-week support group offers a compassionate space to share your thoughts\, feelings\, and worries with other women during any part of your cancer journey.\n\nLed by Paige Moore\, LCSW\, CAGC\, OSW-C.\n\nOpen to adult female Dempsey Center clients with a cancer diagnosis\, at any point in the cancer journey.\n\nParticipants must be residents of Maine.
URL:https://www.dempseycenter.org/event/womens-cancer-support-group-series-dempsey-connects/2025-06-25/
LOCATION:Dempsey Connects
CATEGORIES:Counseling,Support Groups
ATTACH;FMTTYPE=image/png:https://www.dempseycenter.org/wp-content/uploads/2025/05/Womens-Support-Group-Connects-2.png
END:VEVENT
END:VCALENDAR