BEGIN:VCALENDAR
VERSION:2.0
PRODID:-//Dempsey Center - ECPv6.15.15//NONSGML v1.0//EN
CALSCALE:GREGORIAN
METHOD:PUBLISH
X-WR-CALNAME:Dempsey Center
X-ORIGINAL-URL:https://www.dempseycenter.org
X-WR-CALDESC:Events for Dempsey Center
REFRESH-INTERVAL;VALUE=DURATION:PT1H
X-Robots-Tag:noindex
X-PUBLISHED-TTL:PT1H
BEGIN:VTIMEZONE
TZID:America/New_York
BEGIN:DAYLIGHT
TZOFFSETFROM:-0500
TZOFFSETTO:-0400
TZNAME:EDT
DTSTART:20240310T070000
END:DAYLIGHT
BEGIN:STANDARD
TZOFFSETFROM:-0400
TZOFFSETTO:-0500
TZNAME:EST
DTSTART:20241103T060000
END:STANDARD
BEGIN:DAYLIGHT
TZOFFSETFROM:-0500
TZOFFSETTO:-0400
TZNAME:EDT
DTSTART:20250309T070000
END:DAYLIGHT
BEGIN:STANDARD
TZOFFSETFROM:-0400
TZOFFSETTO:-0500
TZNAME:EST
DTSTART:20251102T060000
END:STANDARD
BEGIN:DAYLIGHT
TZOFFSETFROM:-0500
TZOFFSETTO:-0400
TZNAME:EDT
DTSTART:20260308T070000
END:DAYLIGHT
BEGIN:STANDARD
TZOFFSETFROM:-0400
TZOFFSETTO:-0500
TZNAME:EST
DTSTART:20261101T060000
END:STANDARD
END:VTIMEZONE
BEGIN:VEVENT
DTSTART;TZID=America/New_York:20250805T080000
DTEND;TZID=America/New_York:20250805T170000
DTSTAMP:20260423T041812
CREATED:20250714T152329Z
LAST-MODIFIED:20250724T153758Z
UID:10001840-1754380800-1754413200@www.dempseycenter.org
SUMMARY:Guided Meditation + Massage [Rock Row]
DESCRIPTION:Experience a serene session of guided meditation and restorative massage. Allow yourself to be guided through tranquil meditation while our massage therapists offer soothing hand\, foot\, back\, and neck massage. This distinctive blend provides an opportunity for deep relaxation\, comfort\, and rejuvenation.\nLed by Dempsey Center massage therapists Liz Como and Bambi Brosseau.\nOpen to all Dempsey Center clients.
URL:https://www.dempseycenter.org/event/guided-meditation-massage-lewiston/2025-08-05/1/
LOCATION:Dempsey Center – Rock Row\, 11 Rock Row\, Westbrook\, ME\, 04092\, United States
CATEGORIES:Movement + Fitness
ATTACH;FMTTYPE=image/png:https://www.dempseycenter.org/wp-content/uploads/2025/07/Guided-Meditation-Massage-Lew.png
END:VEVENT
BEGIN:VEVENT
DTSTART;TZID=America/New_York:20250805T170000
DTEND;TZID=America/New_York:20250805T183000
DTSTAMP:20260423T041812
CREATED:20250714T152329Z
LAST-MODIFIED:20250724T153758Z
UID:10001841-1754413200-1754418600@www.dempseycenter.org
SUMMARY:Guided Meditation + Massage [Rock Row]
DESCRIPTION:Experience a serene session of guided meditation and restorative massage. Allow yourself to be guided through tranquil meditation while our massage therapists offer soothing hand\, foot\, back\, and neck massage. This distinctive blend provides an opportunity for deep relaxation\, comfort\, and rejuvenation.\nLed by Dempsey Center massage therapists Liz Como and Bambi Brosseau.\nOpen to all Dempsey Center clients.
URL:https://www.dempseycenter.org/event/guided-meditation-massage-lewiston/2025-08-05/2/
LOCATION:Dempsey Center – Rock Row\, 11 Rock Row\, Westbrook\, ME\, 04092\, United States
CATEGORIES:Movement + Fitness
ATTACH;FMTTYPE=image/png:https://www.dempseycenter.org/wp-content/uploads/2025/07/Guided-Meditation-Massage-Lew.png
END:VEVENT
END:VCALENDAR