BEGIN:VCALENDAR
VERSION:2.0
PRODID:-//Dempsey Center - ECPv6.15.15//NONSGML v1.0//EN
CALSCALE:GREGORIAN
METHOD:PUBLISH
X-ORIGINAL-URL:https://www.dempseycenter.org
X-WR-CALDESC:Events for Dempsey Center
REFRESH-INTERVAL;VALUE=DURATION:PT1H
X-Robots-Tag:noindex
X-PUBLISHED-TTL:PT1H
BEGIN:VTIMEZONE
TZID:America/New_York
BEGIN:DAYLIGHT
TZOFFSETFROM:-0500
TZOFFSETTO:-0400
TZNAME:EDT
DTSTART:20250309T070000
END:DAYLIGHT
BEGIN:STANDARD
TZOFFSETFROM:-0400
TZOFFSETTO:-0500
TZNAME:EST
DTSTART:20251102T060000
END:STANDARD
BEGIN:DAYLIGHT
TZOFFSETFROM:-0500
TZOFFSETTO:-0400
TZNAME:EDT
DTSTART:20260308T070000
END:DAYLIGHT
BEGIN:STANDARD
TZOFFSETFROM:-0400
TZOFFSETTO:-0500
TZNAME:EST
DTSTART:20261101T060000
END:STANDARD
BEGIN:DAYLIGHT
TZOFFSETFROM:-0500
TZOFFSETTO:-0400
TZNAME:EDT
DTSTART:20270314T070000
END:DAYLIGHT
BEGIN:STANDARD
TZOFFSETFROM:-0400
TZOFFSETTO:-0500
TZNAME:EST
DTSTART:20271107T060000
END:STANDARD
END:VTIMEZONE
BEGIN:VEVENT
DTSTART;TZID=America/New_York:20260520T130000
DTEND;TZID=America/New_York:20260520T163000
DTSTAMP:20260420T041024
CREATED:20260416T183341Z
LAST-MODIFIED:20260416T183341Z
UID:10004084-1779282000-1779294600@www.dempseycenter.org
SUMMARY:Henna Crowns + Body Adornments [Rock Row]
DESCRIPTION:Henna is a natural\, plant-based art form with a long history across cultures as a symbol of beauty\, healing\, and self-expression. In this workshop\, you are invited to receive a custom henna crown (for those with bald heads) or body adornment (commonly on the hands or forearms) as a way to honor your experience and reconnect with your sense of self. Whether you’re navigating hair loss\, celebrating your body\, or simply seeking a meaningful moment of care\, henna offers a gentle\, creative way to express strength\, identity\, and renewal. Designs are temporary and typically last 1–2 weeks\, gradually fading over time.\nEach participant will have a private 25-minute session with the artist to create a design that feels personal and empowering.\n\nOpen to Dempsey Center clients with a cancer diagnosis. All genders welcome. Limited to 6 sessions.Henna art provided by Mary Numme of The Eye of Henna and 13 Moons Tattoo. \n\nOnline sign up is not available for this workshop. Please email registration@dempseycenter.org to sign-up.
URL:https://www.dempseycenter.org/event/henna-crowns-body-adornments-rock-row/
LOCATION:Dempsey Center – Rock Row\, 11 Rock Row\, Westbrook\, ME\, 04092\, United States
CATEGORIES:Comfort + Wellbeing
ATTACH;FMTTYPE=image/png:https://www.dempseycenter.org/wp-content/uploads/2026/04/Henna-Crowns-RR.png
END:VEVENT
END:VCALENDAR