BEGIN:VCALENDAR
VERSION:2.0
PRODID:-//Dempsey Center - ECPv6.15.15//NONSGML v1.0//EN
CALSCALE:GREGORIAN
METHOD:PUBLISH
X-WR-CALNAME:Dempsey Center
X-ORIGINAL-URL:https://www.dempseycenter.org
X-WR-CALDESC:Events for Dempsey Center
REFRESH-INTERVAL;VALUE=DURATION:PT1H
X-Robots-Tag:noindex
X-PUBLISHED-TTL:PT1H
BEGIN:VTIMEZONE
TZID:America/New_York
BEGIN:DAYLIGHT
TZOFFSETFROM:-0500
TZOFFSETTO:-0400
TZNAME:EDT
DTSTART:20250309T070000
END:DAYLIGHT
BEGIN:STANDARD
TZOFFSETFROM:-0400
TZOFFSETTO:-0500
TZNAME:EST
DTSTART:20251102T060000
END:STANDARD
BEGIN:DAYLIGHT
TZOFFSETFROM:-0500
TZOFFSETTO:-0400
TZNAME:EDT
DTSTART:20260308T070000
END:DAYLIGHT
BEGIN:STANDARD
TZOFFSETFROM:-0400
TZOFFSETTO:-0500
TZNAME:EST
DTSTART:20261101T060000
END:STANDARD
BEGIN:DAYLIGHT
TZOFFSETFROM:-0500
TZOFFSETTO:-0400
TZNAME:EDT
DTSTART:20270314T070000
END:DAYLIGHT
BEGIN:STANDARD
TZOFFSETFROM:-0400
TZOFFSETTO:-0500
TZNAME:EST
DTSTART:20271107T060000
END:STANDARD
END:VTIMEZONE
BEGIN:VEVENT
DTSTART;TZID=America/New_York:20260407T103000
DTEND;TZID=America/New_York:20260407T113000
DTSTAMP:20260423T053040
CREATED:20251106T222014Z
LAST-MODIFIED:20251106T222224Z
UID:10002882-1775557800-1775561400@www.dempseycenter.org
SUMMARY:Yoga for Cancer Care [Lewiston]
DESCRIPTION:Reduce stress\, manage treatment side-effects\, and aid cancer recovery through a unique evidence-based yoga method specifically for those diagnosed with cancer. Through movement\, breathing\, and mindfulness\, this practice aims to provide benefits such as muscular strength\, bone density\, immune support\, flexibility\, and improved posture.\nLed by Tish Caldwell\, Dempsey Center’s Movement + Fitness Manager\, Certified Oncology Yoga Instructor.\nOpen to Dempsey Center clients in active treatment or post-treatment and their primary care partner.\nPlease note that participants must be able to transition from floor to standing.\n \nThis series will be taking place at the YMCA located at 12 High Street (CMMC) in Lewiston.
URL:https://www.dempseycenter.org/event/yoga-for-cancer-care-lewiston-4/2026-04-07/
LOCATION:Dempsey Center – Lewiston (12 High Street)\, 12 High Street\, Lewiston\, ME\, 04240\, United States
CATEGORIES:Movement + Fitness
ATTACH;FMTTYPE=image/png:https://www.dempseycenter.org/wp-content/uploads/2025/04/Yoga-for-Cancer-Care-Lew.png
END:VEVENT
BEGIN:VEVENT
DTSTART;TZID=America/New_York:20260407T123000
DTEND;TZID=America/New_York:20260407T133000
DTSTAMP:20260423T053040
CREATED:20260227T153135Z
LAST-MODIFIED:20260227T154005Z
UID:10003349-1775565000-1775568600@www.dempseycenter.org
SUMMARY:Good Vibes Sound Bath [Lewiston]
DESCRIPTION:Relax into an age-old healing modality\, known today as a sound bath! In this vibrational sound immersion\, we will bask in the power of music and frequency – shown to reach deep into the brain to induce theta-wave meditation—to soothe\, de-stress\, and receive a myriad of other health benefits. Enjoy Tibetan and Chakra tuned Crystal Singing Bowls\, Native American Flute\, Solfeggio Chimes\, and more!\n\nLed by Rev. Myra Robinson\, Interfaith Chaplain and Sound Healer\, who is a Cancer survivor and former client of the Dempsey Center.\n\nOpen to all Dempsey Center Clients.
URL:https://www.dempseycenter.org/event/good-vibes-sound-bath-lewiston-2/
LOCATION:Dempsey Center – Lewiston (17 High Street)\, 17 High Street\, Lewiston\, ME\, 04240\, United States
CATEGORIES:Expressive Arts
ATTACH;FMTTYPE=image/png:https://www.dempseycenter.org/wp-content/uploads/2025/07/Good-Vibes-Sound-Bath-Lew.png
END:VEVENT
END:VCALENDAR