BEGIN:VCALENDAR
VERSION:2.0
PRODID:-//Dempsey Center - ECPv6.15.15//NONSGML v1.0//EN
CALSCALE:GREGORIAN
METHOD:PUBLISH
X-WR-CALNAME:Dempsey Center
X-ORIGINAL-URL:https://www.dempseycenter.org
X-WR-CALDESC:Events for Dempsey Center
REFRESH-INTERVAL;VALUE=DURATION:PT1H
X-Robots-Tag:noindex
X-PUBLISHED-TTL:PT1H
BEGIN:VTIMEZONE
TZID:America/New_York
BEGIN:DAYLIGHT
TZOFFSETFROM:-0500
TZOFFSETTO:-0400
TZNAME:EDT
DTSTART:20250309T070000
END:DAYLIGHT
BEGIN:STANDARD
TZOFFSETFROM:-0400
TZOFFSETTO:-0500
TZNAME:EST
DTSTART:20251102T060000
END:STANDARD
BEGIN:DAYLIGHT
TZOFFSETFROM:-0500
TZOFFSETTO:-0400
TZNAME:EDT
DTSTART:20260308T070000
END:DAYLIGHT
BEGIN:STANDARD
TZOFFSETFROM:-0400
TZOFFSETTO:-0500
TZNAME:EST
DTSTART:20261101T060000
END:STANDARD
BEGIN:DAYLIGHT
TZOFFSETFROM:-0500
TZOFFSETTO:-0400
TZNAME:EDT
DTSTART:20270314T070000
END:DAYLIGHT
BEGIN:STANDARD
TZOFFSETFROM:-0400
TZOFFSETTO:-0500
TZNAME:EST
DTSTART:20271107T060000
END:STANDARD
END:VTIMEZONE
BEGIN:VEVENT
DTSTART;TZID=America/New_York:20261019T100000
DTEND;TZID=America/New_York:20261019T113000
DTSTAMP:20260420T032212
CREATED:20260417T153029Z
LAST-MODIFIED:20260417T153029Z
UID:10004159-1792404000-1792409400@www.dempseycenter.org
SUMMARY:Dempsey Dog Meet + Greet: Louise Cheese [Lewiston]
DESCRIPTION:Therapy dogs can help to provide emotional support\, alleviate stress\, improve moods\, and help boost confidence. We are proud to encourage the animal-human bond through our teams of Dempsey Dogs\, trained and registered by Pet Partners.\n \nDrop in and say “hi” to our Dempsey Dog Teams. No sign up needed!\n \nLouise Cheese is expected most 1st + 3rd Mondays\, 10:00-11:30AM.
URL:https://www.dempseycenter.org/event/dempsey-dog-meet-greet-louise-cheese-lewiston-2/2026-10-19/
LOCATION:Dempsey Center – Lewiston (17 High Street)\, 17 High Street\, Lewiston\, ME\, 04240\, United States
CATEGORIES:Dempsey Dogs
ATTACH;FMTTYPE=image/png:https://www.dempseycenter.org/wp-content/uploads/2025/05/Demp-Dogs-Meet-Louise-Lew.png
END:VEVENT
BEGIN:VEVENT
DTSTART;TZID=America/New_York:20261020T100000
DTEND;TZID=America/New_York:20261020T113000
DTSTAMP:20260420T032212
CREATED:20250507T140457Z
LAST-MODIFIED:20251031T182752Z
UID:10002820-1792490400-1792495800@www.dempseycenter.org
SUMMARY:Dempsey Dog Meet + Greet: Louise Cheese [Lewiston]
DESCRIPTION:Therapy dogs can help to provide emotional support\, alleviate stress\, improve moods\, and help boost confidence. We are proud to encourage the animal-human bond through our teams of Dempsey Dogs\, trained and registered by Pet Partners.\n\nDrop in and say “hi” to our Dempsey Dog Teams. No sign up needed!\n\n\n\n\nInterested in spending some time with one of our Dempsey Dogs teams individually? Call 877-336-7287 to schedule your private Paws Together appointment with one of our therapy dog teams.
URL:https://www.dempseycenter.org/event/dempsey-dog-meet-greet-louise-cheese/2026-10-20/
LOCATION:Dempsey Center – Lewiston (17 High Street)\, 17 High Street\, Lewiston\, ME\, 04240\, United States
CATEGORIES:Comfort + Wellbeing,Dempsey Dogs
ATTACH;FMTTYPE=image/png:https://www.dempseycenter.org/wp-content/uploads/2025/05/Demp-Dogs-Meet-Louise-Lew.png
END:VEVENT
BEGIN:VEVENT
DTSTART;TZID=America/New_York:20261020T160000
DTEND;TZID=America/New_York:20261020T170000
DTSTAMP:20260420T032212
CREATED:20260416T194643Z
LAST-MODIFIED:20260416T194643Z
UID:10004125-1792512000-1792515600@www.dempseycenter.org
SUMMARY:Dempsey Dog Meet + Greet: Lilo [Lewiston]
DESCRIPTION:Therapy dogs can help to provide emotional support\, alleviate stress\, improve moods\, and help boost confidence. We are proud to encourage the animal-human bond through our teams of Dempsey Dogs\, trained and registered by Pet Partners.\nDrop in and say “hi” to our Dempsey Dog Teams. No sign up needed!\nLilo is expected the first and 1st + 3rd Tuesday monthly.lilo
URL:https://www.dempseycenter.org/event/dempsey-dog-meet-greet-lilo-lewiston-3/2026-10-20/
LOCATION:Dempsey Center – Lewiston (17 High Street)\, 17 High Street\, Lewiston\, ME\, 04240\, United States
CATEGORIES:Dempsey Dogs
ATTACH;FMTTYPE=image/png:https://www.dempseycenter.org/wp-content/uploads/2026/04/Dempsey-Doga-Lilo-Kat-Lew.png
END:VEVENT
END:VCALENDAR