BEGIN:VCALENDAR
VERSION:2.0
PRODID:-//Dempsey Center - ECPv6.15.15//NONSGML v1.0//EN
CALSCALE:GREGORIAN
METHOD:PUBLISH
X-WR-CALNAME:Dempsey Center
X-ORIGINAL-URL:https://www.dempseycenter.org
X-WR-CALDESC:Events for Dempsey Center
REFRESH-INTERVAL;VALUE=DURATION:PT1H
X-Robots-Tag:noindex
X-PUBLISHED-TTL:PT1H
BEGIN:VTIMEZONE
TZID:America/New_York
BEGIN:DAYLIGHT
TZOFFSETFROM:-0500
TZOFFSETTO:-0400
TZNAME:EDT
DTSTART:20240310T070000
END:DAYLIGHT
BEGIN:STANDARD
TZOFFSETFROM:-0400
TZOFFSETTO:-0500
TZNAME:EST
DTSTART:20241103T060000
END:STANDARD
BEGIN:DAYLIGHT
TZOFFSETFROM:-0500
TZOFFSETTO:-0400
TZNAME:EDT
DTSTART:20250309T070000
END:DAYLIGHT
BEGIN:STANDARD
TZOFFSETFROM:-0400
TZOFFSETTO:-0500
TZNAME:EST
DTSTART:20251102T060000
END:STANDARD
BEGIN:DAYLIGHT
TZOFFSETFROM:-0500
TZOFFSETTO:-0400
TZNAME:EDT
DTSTART:20260308T070000
END:DAYLIGHT
BEGIN:STANDARD
TZOFFSETFROM:-0400
TZOFFSETTO:-0500
TZNAME:EST
DTSTART:20261101T060000
END:STANDARD
END:VTIMEZONE
BEGIN:VEVENT
DTSTART;TZID=America/New_York:20250807T100000
DTEND;TZID=America/New_York:20250807T110000
DTSTAMP:20260423T204018
CREATED:20250507T150953Z
LAST-MODIFIED:20250507T184707Z
UID:10000945-1754560800-1754564400@www.dempseycenter.org
SUMMARY:Tai Chi + QiGong for Energy + Health [Rock Row]
DESCRIPTION:Tai Chi is a movement therapy that promotes the flow of energy in the body to improve health. Suitable for all ages\, this class will emphasize the practice and cultivation of different exercises that provide benefits such as improved balance\, range of motion\, and core strength\, as well as pain management and decreased stress and anxiety.\nLed by Cal Clark\, LMT\, Polarity Therapist\, Certified Qi Gong Instructor.\nOpen to Dempsey Center clients in active treatment or post-treatment and their primary care partner.
URL:https://www.dempseycenter.org/event/tai-chi-qigong-for-energy-health-rock-row/2025-08-07/
LOCATION:Dempsey Center – Rock Row\, 11 Rock Row\, Westbrook\, ME\, 04092\, United States
CATEGORIES:Movement + Fitness
ATTACH;FMTTYPE=image/png:https://www.dempseycenter.org/wp-content/uploads/2025/05/Tai-Chi-QiGong-for-Energy-Health-Connects-3.png
END:VEVENT
BEGIN:VEVENT
DTSTART;TZID=America/New_York:20250807T103000
DTEND;TZID=America/New_York:20250807T120000
DTSTAMP:20260423T204018
CREATED:20250507T135932Z
LAST-MODIFIED:20260416T190403Z
UID:10000206-1754562600-1754568000@www.dempseycenter.org
SUMMARY:Dempsey Dog Meet + Greet: Forest [Rock Row]
DESCRIPTION:Therapy dogs can help to provide emotional support\, alleviate stress\, improve moods\, and help boost confidence. We are proud to encourage the animal-human bond through our teams of Dempsey Dogs\, trained and registered by Pet Partners.\nDrop in and say “hi” to our Dempsey Dog Teams. No sign up needed!
URL:https://www.dempseycenter.org/event/dempsey-dog-meet-greet-forest-rock-row/2025-08-07/
LOCATION:Dempsey Center – Rock Row\, 11 Rock Row\, Westbrook\, ME\, 04092\, United States
CATEGORIES:Comfort + Wellbeing,Dempsey Dogs
ATTACH;FMTTYPE=image/png:https://www.dempseycenter.org/wp-content/uploads/2025/05/Demp-Dogs-Meet-Forest-RR.png
END:VEVENT
BEGIN:VEVENT
DTSTART;TZID=America/New_York:20250807T150000
DTEND;TZID=America/New_York:20250807T160000
DTSTAMP:20260423T204018
CREATED:20250724T145613Z
LAST-MODIFIED:20250724T145613Z
UID:10002010-1754578800-1754582400@www.dempseycenter.org
SUMMARY:Connect + Experience: Watercolor Mandalas [Lewiston]
DESCRIPTION:Have you been looking for a chance to connect with fellow individuals impacted by cancer and share your journey? Let’s gather with a cup of coffee or tea\, take a deep breath\, and lose ourselves in the meditative art of simple watercolor mandalas. This session is perfect for beginners—no drawing or meditation experience needed. All supplies will be provided. Come ready to relax and leave with a beautiful piece of art that you’ve created!\n\nLed by Michelle Small.\n\nOpen to the public ages 12+.
URL:https://www.dempseycenter.org/event/connect-experience-watercolor-mandalas-lewiston/
LOCATION:Dempsey Center – Lewiston (17 High Street)\, 17 High Street\, Lewiston\, ME\, 04240\, United States
CATEGORIES:Expressive Arts,Connect + Experience
ATTACH;FMTTYPE=image/png:https://www.dempseycenter.org/wp-content/uploads/2025/07/Connect-Experience_-Watercolor-Mandalas-Lew.png
END:VEVENT
END:VCALENDAR