BEGIN:VCALENDAR
VERSION:2.0
PRODID:-//Dempsey Center - ECPv6.15.15//NONSGML v1.0//EN
CALSCALE:GREGORIAN
METHOD:PUBLISH
X-WR-CALNAME:Dempsey Center
X-ORIGINAL-URL:https://www.dempseycenter.org
X-WR-CALDESC:Events for Dempsey Center
REFRESH-INTERVAL;VALUE=DURATION:PT1H
X-Robots-Tag:noindex
X-PUBLISHED-TTL:PT1H
BEGIN:VTIMEZONE
TZID:America/New_York
BEGIN:DAYLIGHT
TZOFFSETFROM:-0500
TZOFFSETTO:-0400
TZNAME:EDT
DTSTART:20240310T070000
END:DAYLIGHT
BEGIN:STANDARD
TZOFFSETFROM:-0400
TZOFFSETTO:-0500
TZNAME:EST
DTSTART:20241103T060000
END:STANDARD
BEGIN:DAYLIGHT
TZOFFSETFROM:-0500
TZOFFSETTO:-0400
TZNAME:EDT
DTSTART:20250309T070000
END:DAYLIGHT
BEGIN:STANDARD
TZOFFSETFROM:-0400
TZOFFSETTO:-0500
TZNAME:EST
DTSTART:20251102T060000
END:STANDARD
BEGIN:DAYLIGHT
TZOFFSETFROM:-0500
TZOFFSETTO:-0400
TZNAME:EDT
DTSTART:20260308T070000
END:DAYLIGHT
BEGIN:STANDARD
TZOFFSETFROM:-0400
TZOFFSETTO:-0500
TZNAME:EST
DTSTART:20261101T060000
END:STANDARD
END:VTIMEZONE
BEGIN:VEVENT
DTSTART;TZID=America/New_York:20250813T090000
DTEND;TZID=America/New_York:20250813T100000
DTSTAMP:20260423T071707
CREATED:20250604T141934Z
LAST-MODIFIED:20251009T204403Z
UID:10000138-1755075600-1755079200@www.dempseycenter.org
SUMMARY:Dempsey Dog Meet + Greet: Louise Cheese [Rock Row]
DESCRIPTION:Therapy dogs can help to provide emotional support\, alleviate stress\, improve moods\, and help boost confidence. We are proud to encourage the animal-human bond through our teams of Dempsey Dogs\, trained and registered by Pet Partners. \nDrop into our Rock Row center and say “hi” to our Dempsey Dog Teams. No sign up needed! \n\n\n\nInterested in spending some time with one of our Dempsey Dogs teams individually? Call 877-336-7287 to schedule your private Paws Together appointment with one of our therapy dog teams.
URL:https://www.dempseycenter.org/event/dempsey-dog-meet-greet-louise-cheese-rock-row-2/2025-08-13/
LOCATION:Dempsey Center – Rock Row\, 11 Rock Row\, Westbrook\, ME\, 04092\, United States
CATEGORIES:Comfort + Wellbeing,Dempsey Dogs
ATTACH;FMTTYPE=image/png:https://www.dempseycenter.org/wp-content/uploads/2025/05/Demp-Dogs-Meet-Louise-RR.png
END:VEVENT
BEGIN:VEVENT
DTSTART;TZID=America/New_York:20250813T094500
DTEND;TZID=America/New_York:20250813T103000
DTSTAMP:20260423T071707
CREATED:20250507T162933Z
LAST-MODIFIED:20250507T162933Z
UID:10001145-1755078300-1755081000@www.dempseycenter.org
SUMMARY:Chair Yoga [Rock Row]
DESCRIPTION:Join us for a gentle\, accessible form of yoga\, open to all levels of experience. Chair Yoga utilizes both seated and standing poses using a chair for support to provide all the benefits of a traditional yoga practice. We will use movement\, breathing\, and mindfulness to improve muscular strength\, bone density\, immune support\, flexibility\, energy\, sleep\, and posture.\n\nLed by Tish Caldwell\, Dempsey Center’s Movement + Fitness Manager\, Certified Oncology Yoga Instructor.\n\nOpen to Dempsey Center clients in active treatment or post-treatment and their primary care partner.
URL:https://www.dempseycenter.org/event/chair-yoga-rock-row/2025-08-13/
LOCATION:Dempsey Center – Rock Row\, 11 Rock Row\, Westbrook\, ME\, 04092\, United States
CATEGORIES:Movement + Fitness
ATTACH;FMTTYPE=image/png:https://www.dempseycenter.org/wp-content/uploads/2025/05/Chair-Yoga-RR-2.png
END:VEVENT
BEGIN:VEVENT
DTSTART;TZID=America/New_York:20250813T110000
DTEND;TZID=America/New_York:20250813T120000
DTSTAMP:20260423T071707
CREATED:20250507T163918Z
LAST-MODIFIED:20250507T163918Z
UID:10001235-1755082800-1755086400@www.dempseycenter.org
SUMMARY:Yoga for Cancer Care [Rock Row]
DESCRIPTION:Reduce stress\, manage treatment side-effects\, and aid cancer recovery through a unique evidence-based yoga method specifically for those diagnosed with cancer. Through movement\, breathing\, and mindfulness\, this practice aims to provide benefits such as muscular strength\, bone density\, immune support\, flexibility\, and improved posture.\n\nLed by Tish Caldwell\, Dempsey Center’s Movement + Fitness Manager\, Certified Oncology Yoga Instructor.\n\nOpen to Dempsey Center clients in active treatment or post-treatment and their primary care partner.\n\n\n\nPlease note that participants must be able to transition from floor to standing.
URL:https://www.dempseycenter.org/event/yoga-for-cancer-care-rock-row/2025-08-13/
LOCATION:Dempsey Center – Rock Row\, 11 Rock Row\, Westbrook\, ME\, 04092\, United States
CATEGORIES:Movement + Fitness
ATTACH;FMTTYPE=image/png:https://www.dempseycenter.org/wp-content/uploads/2025/05/Yoga-for-Cancer-Care-RR-2.png
END:VEVENT
BEGIN:VEVENT
DTSTART;TZID=America/New_York:20250813T121500
DTEND;TZID=America/New_York:20250813T124500
DTSTAMP:20260423T071707
CREATED:20250521T175431Z
LAST-MODIFIED:20250521T175431Z
UID:10001668-1755087300-1755089100@www.dempseycenter.org
SUMMARY:Celebrate the Harvest [Rock Row]
DESCRIPTION:Want to spruce up your vegetable repertoire this summer? Our Dempsey Garden Volunteers harvest fresh produce for the Center each week from mid-July until the last of the squash ripens in September. If you are looking for new recipes or want to sample a vegetable you haven’t had before\, drop in to Celebrate the Harvest! Join us to try something new courtesy of our guest cook!\n\nSign up for one week or every week!\n\nLed by Judy Donnelly\, RDN\, CSO\, LD\, Nutrition Program Manager.\n\nOpen to the public. Public sign up at https://www.dempseycenter.org/services/classes-workshops/public/.
URL:https://www.dempseycenter.org/event/celebrate-the-harvest-rock-row/2025-08-13/
LOCATION:Dempsey Center – Rock Row\, 11 Rock Row\, Westbrook\, ME\, 04092\, United States
CATEGORIES:Nutrition
ATTACH;FMTTYPE=image/png:https://www.dempseycenter.org/wp-content/uploads/2025/05/Celebrate-the-Harvest-RR.png
END:VEVENT
BEGIN:VEVENT
DTSTART;TZID=America/New_York:20250813T140000
DTEND;TZID=America/New_York:20250813T160000
DTSTAMP:20260423T071707
CREATED:20250507T165257Z
LAST-MODIFIED:20251009T204431Z
UID:10001312-1755093600-1755100800@www.dempseycenter.org
SUMMARY:Dempsey Dog Meet + Greet: Rudy [Rock Row]
DESCRIPTION:Therapy dogs can help to provide emotional support\, alleviate stress\, improve moods\, and help boost confidence. We are proud to encourage the animal-human bond through our teams of Dempsey Dogs\, trained and registered by Pet Partners.\nDrop in and say “hi” to our Dempsey Dog Teams. No sign up needed!
URL:https://www.dempseycenter.org/event/dempsey-dog-meet-greet-rudy-rock-row/2025-08-13/
LOCATION:Dempsey Center – Rock Row\, 11 Rock Row\, Westbrook\, ME\, 04092\, United States
CATEGORIES:Comfort + Wellbeing,Dempsey Dogs
ATTACH;FMTTYPE=image/png:https://www.dempseycenter.org/wp-content/uploads/2025/05/Demp-Dogs-Meet-Louise-RR-1.png
END:VEVENT
BEGIN:VEVENT
DTSTART;TZID=America/New_York:20250813T150000
DTEND;TZID=America/New_York:20250813T160000
DTSTAMP:20260423T071707
CREATED:20250724T152431Z
LAST-MODIFIED:20250724T152431Z
UID:10002016-1755097200-1755100800@www.dempseycenter.org
SUMMARY:Post-Mastectomy Essentials [Rock Row]
DESCRIPTION:If you are preparing for an upcoming mastectomy surgery\, or are in the post-op recovery period\, meet with the professionals from MedCor to learn more about what can help you during recovery. They provide information and offer products to review hands on that may be necessary to support your individual process including how a bra and/or breast prosthetic fitting may be right for you and provide advice on navigating insurance. Come and learn more about the supplies and services available.\n\nLed by Maeghan Fortier and Robyn Stanley of MedCor Professionals.\n\nOpen to all Dempsey Center adult clients.
URL:https://www.dempseycenter.org/event/post-mastectomy-essentials-rock-row/
LOCATION:Dempsey Center – Rock Row\, 11 Rock Row\, Westbrook\, ME\, 04092\, United States
CATEGORIES:Education
ATTACH;FMTTYPE=image/png:https://www.dempseycenter.org/wp-content/uploads/2025/07/Post-Mastectomy-Essentials-RR.png
END:VEVENT
END:VCALENDAR