BEGIN:VCALENDAR
VERSION:2.0
PRODID:-//Dempsey Center - ECPv6.15.15//NONSGML v1.0//EN
CALSCALE:GREGORIAN
METHOD:PUBLISH
X-WR-CALNAME:Dempsey Center
X-ORIGINAL-URL:https://www.dempseycenter.org
X-WR-CALDESC:Events for Dempsey Center
REFRESH-INTERVAL;VALUE=DURATION:PT1H
X-Robots-Tag:noindex
X-PUBLISHED-TTL:PT1H
BEGIN:VTIMEZONE
TZID:America/New_York
BEGIN:DAYLIGHT
TZOFFSETFROM:-0500
TZOFFSETTO:-0400
TZNAME:EDT
DTSTART:20240310T070000
END:DAYLIGHT
BEGIN:STANDARD
TZOFFSETFROM:-0400
TZOFFSETTO:-0500
TZNAME:EST
DTSTART:20241103T060000
END:STANDARD
BEGIN:DAYLIGHT
TZOFFSETFROM:-0500
TZOFFSETTO:-0400
TZNAME:EDT
DTSTART:20250309T070000
END:DAYLIGHT
BEGIN:STANDARD
TZOFFSETFROM:-0400
TZOFFSETTO:-0500
TZNAME:EST
DTSTART:20251102T060000
END:STANDARD
BEGIN:DAYLIGHT
TZOFFSETFROM:-0500
TZOFFSETTO:-0400
TZNAME:EDT
DTSTART:20260308T070000
END:DAYLIGHT
BEGIN:STANDARD
TZOFFSETFROM:-0400
TZOFFSETTO:-0500
TZNAME:EST
DTSTART:20261101T060000
END:STANDARD
END:VTIMEZONE
BEGIN:VEVENT
DTSTART;TZID=America/New_York:20250917T150000
DTEND;TZID=America/New_York:20251014T160000
DTSTAMP:20260423T081204
CREATED:20250821T205736Z
LAST-MODIFIED:20250821T205736Z
UID:10002183-1758121200-1760457600@www.dempseycenter.org
SUMMARY:Connect + Experience: Junk Journaling [Rock Row]
DESCRIPTION:Enjoy a cup of tea or coffee\, connect with others impacted by cancer\, and learn about how journaling can reduce stress levels. Everyone that attends will be gifted a Junk Journal! Learn about the artist who created these Junk Journals and discuss some basic ways to utilize it.\n\nIdeas include:\n• Dedicate it to honoring a loved one\n  • Self-care by writing\, short notes and memories\n• Documenting a trip\n• Tracking garden planting\, harvest or tips and tricks\n\nLed by Michelle Small.\n\nOpen to the public.
URL:https://www.dempseycenter.org/event/connect-experience-junk-journaling-rock-row/
LOCATION:Dempsey Center – Rock Row\, 11 Rock Row\, Westbrook\, ME\, 04092\, United States
CATEGORIES:Expressive Arts,Connect + Experience
ATTACH;FMTTYPE=image/png:https://www.dempseycenter.org/wp-content/uploads/2025/08/Connect-Experience-Junk-Journaling-RR.png
END:VEVENT
BEGIN:VEVENT
DTSTART;TZID=America/New_York:20250918T103000
DTEND;TZID=America/New_York:20250918T120000
DTSTAMP:20260423T081204
CREATED:20250507T135932Z
LAST-MODIFIED:20260416T190403Z
UID:10002452-1758191400-1758196800@www.dempseycenter.org
SUMMARY:Dempsey Dog Meet + Greet: Forest [Rock Row]
DESCRIPTION:Therapy dogs can help to provide emotional support\, alleviate stress\, improve moods\, and help boost confidence. We are proud to encourage the animal-human bond through our teams of Dempsey Dogs\, trained and registered by Pet Partners.\nDrop in and say “hi” to our Dempsey Dog Teams. No sign up needed!
URL:https://www.dempseycenter.org/event/dempsey-dog-meet-greet-forest-rock-row/2025-09-18/
LOCATION:Dempsey Center – Rock Row\, 11 Rock Row\, Westbrook\, ME\, 04092\, United States
CATEGORIES:Comfort + Wellbeing,Dempsey Dogs
ATTACH;FMTTYPE=image/png:https://www.dempseycenter.org/wp-content/uploads/2025/05/Demp-Dogs-Meet-Forest-RR.png
END:VEVENT
BEGIN:VEVENT
DTSTART;TZID=America/New_York:20250918T130000
DTEND;TZID=America/New_York:20250918T143000
DTSTAMP:20260423T081204
CREATED:20250731T145445Z
LAST-MODIFIED:20250731T145445Z
UID:10002071-1758200400-1758205800@www.dempseycenter.org
SUMMARY:Rejuvenate: Yoga + Massage [Rock Row]
DESCRIPTION:Experience the harmonious fusion of restorative yoga and massage with our gentle yoga and massage session. You will be led into a variety of restorative yoga postures\, and while you breathe\, stretch and relax\, you’ll receive gentle hand\, foot\, back and neck massage from a member of our massage team. This unique combination offers a chance for profound relaxation\, comfort\, and rejuvenation.\nNo prior experience with yoga or massage is necessary\, however\, participants must be able to transition from floor to standing.\n\nLed by Dempsey Center staff. \nOpen to all adult Dempsey Center clients.
URL:https://www.dempseycenter.org/event/rejuvenate-yoga-massage-rock-row-4/
LOCATION:Dempsey Center – Rock Row\, 11 Rock Row\, Westbrook\, ME\, 04092\, United States
CATEGORIES:Complementary Therapies,Movement + Fitness
ATTACH;FMTTYPE=image/png:https://www.dempseycenter.org/wp-content/uploads/2025/05/Rejuvenate_-Yoga-Reiki-and-Massage-Lew-2-1.png
END:VEVENT
END:VCALENDAR