BEGIN:VCALENDAR
VERSION:2.0
PRODID:-//Dempsey Center - ECPv6.15.15//NONSGML v1.0//EN
CALSCALE:GREGORIAN
METHOD:PUBLISH
X-WR-CALNAME:Dempsey Center
X-ORIGINAL-URL:https://www.dempseycenter.org
X-WR-CALDESC:Events for Dempsey Center
REFRESH-INTERVAL;VALUE=DURATION:PT1H
X-Robots-Tag:noindex
X-PUBLISHED-TTL:PT1H
BEGIN:VTIMEZONE
TZID:America/New_York
BEGIN:DAYLIGHT
TZOFFSETFROM:-0500
TZOFFSETTO:-0400
TZNAME:EDT
DTSTART:20240310T070000
END:DAYLIGHT
BEGIN:STANDARD
TZOFFSETFROM:-0400
TZOFFSETTO:-0500
TZNAME:EST
DTSTART:20241103T060000
END:STANDARD
BEGIN:DAYLIGHT
TZOFFSETFROM:-0500
TZOFFSETTO:-0400
TZNAME:EDT
DTSTART:20250309T070000
END:DAYLIGHT
BEGIN:STANDARD
TZOFFSETFROM:-0400
TZOFFSETTO:-0500
TZNAME:EST
DTSTART:20251102T060000
END:STANDARD
BEGIN:DAYLIGHT
TZOFFSETFROM:-0500
TZOFFSETTO:-0400
TZNAME:EDT
DTSTART:20260308T070000
END:DAYLIGHT
BEGIN:STANDARD
TZOFFSETFROM:-0400
TZOFFSETTO:-0500
TZNAME:EST
DTSTART:20261101T060000
END:STANDARD
END:VTIMEZONE
BEGIN:VEVENT
DTSTART;TZID=America/New_York:20251023T103000
DTEND;TZID=America/New_York:20251023T120000
DTSTAMP:20260423T100802
CREATED:20250507T135932Z
LAST-MODIFIED:20260416T190403Z
UID:10002457-1761215400-1761220800@www.dempseycenter.org
SUMMARY:Dempsey Dog Meet + Greet: Forest [Rock Row]
DESCRIPTION:Therapy dogs can help to provide emotional support\, alleviate stress\, improve moods\, and help boost confidence. We are proud to encourage the animal-human bond through our teams of Dempsey Dogs\, trained and registered by Pet Partners.\nDrop in and say “hi” to our Dempsey Dog Teams. No sign up needed!
URL:https://www.dempseycenter.org/event/dempsey-dog-meet-greet-forest-rock-row/2025-10-23/
LOCATION:Dempsey Center – Rock Row\, 11 Rock Row\, Westbrook\, ME\, 04092\, United States
CATEGORIES:Comfort + Wellbeing,Dempsey Dogs
ATTACH;FMTTYPE=image/png:https://www.dempseycenter.org/wp-content/uploads/2025/05/Demp-Dogs-Meet-Forest-RR.png
END:VEVENT
BEGIN:VEVENT
DTSTART;TZID=America/New_York:20251023T130000
DTEND;TZID=America/New_York:20251023T143000
DTSTAMP:20260423T100802
CREATED:20251009T193835Z
LAST-MODIFIED:20251009T193835Z
UID:10002320-1761224400-1761229800@www.dempseycenter.org
SUMMARY:Rejuvenate: Yoga + Massage [Rock Row]
DESCRIPTION:Experience the harmonious fusion of restorative yoga and massage with our gentle yoga and massage session. You will be led into a variety of restorative yoga postures\, and while you breathe\, stretch and relax\, you’ll receive gentle hand\, foot\, back and neck massage from a member of our massage team. This unique combination offers a chance for profound relaxation\, comfort\, and rejuvenation.\nNo prior experience with yoga or massage is necessary\, however\, participants must be able to transition from floor to standing.\n\nLed by Maggie Miller\, Kelcy McNamara\, and Kelli DuBose. \nOpen to Dempsey Center clients in active or post treatment.
URL:https://www.dempseycenter.org/event/rejuvenate-yoga-massage-rock-row-5/
LOCATION:Dempsey Center – Rock Row\, 11 Rock Row\, Westbrook\, ME\, 04092\, United States
CATEGORIES:Complementary Therapies,Movement + Fitness
ATTACH;FMTTYPE=image/png:https://www.dempseycenter.org/wp-content/uploads/2025/05/Rejuvenate_-Yoga-Reiki-and-Massage-Lew-2.png
END:VEVENT
END:VCALENDAR