BEGIN:VCALENDAR
VERSION:2.0
PRODID:-//Dempsey Center - ECPv6.15.15//NONSGML v1.0//EN
CALSCALE:GREGORIAN
METHOD:PUBLISH
X-WR-CALNAME:Dempsey Center
X-ORIGINAL-URL:https://www.dempseycenter.org
X-WR-CALDESC:Events for Dempsey Center
REFRESH-INTERVAL;VALUE=DURATION:PT1H
X-Robots-Tag:noindex
X-PUBLISHED-TTL:PT1H
BEGIN:VTIMEZONE
TZID:America/New_York
BEGIN:DAYLIGHT
TZOFFSETFROM:-0500
TZOFFSETTO:-0400
TZNAME:EDT
DTSTART:20240310T070000
END:DAYLIGHT
BEGIN:STANDARD
TZOFFSETFROM:-0400
TZOFFSETTO:-0500
TZNAME:EST
DTSTART:20241103T060000
END:STANDARD
BEGIN:DAYLIGHT
TZOFFSETFROM:-0500
TZOFFSETTO:-0400
TZNAME:EDT
DTSTART:20250309T070000
END:DAYLIGHT
BEGIN:STANDARD
TZOFFSETFROM:-0400
TZOFFSETTO:-0500
TZNAME:EST
DTSTART:20251102T060000
END:STANDARD
BEGIN:DAYLIGHT
TZOFFSETFROM:-0500
TZOFFSETTO:-0400
TZNAME:EDT
DTSTART:20260308T070000
END:DAYLIGHT
BEGIN:STANDARD
TZOFFSETFROM:-0400
TZOFFSETTO:-0500
TZNAME:EST
DTSTART:20261101T060000
END:STANDARD
END:VTIMEZONE
BEGIN:VEVENT
DTSTART;TZID=America/New_York:20251030T103000
DTEND;TZID=America/New_York:20251030T120000
DTSTAMP:20260423T173524
CREATED:20250507T135932Z
LAST-MODIFIED:20260416T190403Z
UID:10002458-1761820200-1761825600@www.dempseycenter.org
SUMMARY:Dempsey Dog Meet + Greet: Forest [Rock Row]
DESCRIPTION:Therapy dogs can help to provide emotional support\, alleviate stress\, improve moods\, and help boost confidence. We are proud to encourage the animal-human bond through our teams of Dempsey Dogs\, trained and registered by Pet Partners.\nDrop in and say “hi” to our Dempsey Dog Teams. No sign up needed!
URL:https://www.dempseycenter.org/event/dempsey-dog-meet-greet-forest-rock-row/2025-10-30/
LOCATION:Dempsey Center – Rock Row\, 11 Rock Row\, Westbrook\, ME\, 04092\, United States
CATEGORIES:Comfort + Wellbeing,Dempsey Dogs
ATTACH;FMTTYPE=image/png:https://www.dempseycenter.org/wp-content/uploads/2025/05/Demp-Dogs-Meet-Forest-RR.png
END:VEVENT
BEGIN:VEVENT
DTSTART;TZID=America/New_York:20251030T170000
DTEND;TZID=America/New_York:20251030T183000
DTSTAMP:20260423T173524
CREATED:20250904T193304Z
LAST-MODIFIED:20251009T203200Z
UID:10002361-1761843600-1761849000@www.dempseycenter.org
SUMMARY:Soups On! [Rock Row]
DESCRIPTION:Calling all soup lovers! Learn the art of making delicious soup and adjusting the flavor to meet your personal taste bud needs. Discover new recipes and tricks to freeze your favorites for later meals.\nLed by Judy Donnelly\, RDN\, LD.\nOpen to adult Dempsey Center clients.
URL:https://www.dempseycenter.org/event/soups-on-rock-row/2025-10-30/
LOCATION:Dempsey Center – Rock Row\, 11 Rock Row\, Westbrook\, ME\, 04092\, United States
CATEGORIES:Nutrition
ATTACH;FMTTYPE=image/png:https://www.dempseycenter.org/wp-content/uploads/2025/09/Soups-On-RR.png
END:VEVENT
END:VCALENDAR