BEGIN:VCALENDAR
VERSION:2.0
PRODID:-//Dempsey Center - ECPv6.15.15//NONSGML v1.0//EN
CALSCALE:GREGORIAN
METHOD:PUBLISH
X-WR-CALNAME:Dempsey Center
X-ORIGINAL-URL:https://www.dempseycenter.org
X-WR-CALDESC:Events for Dempsey Center
REFRESH-INTERVAL;VALUE=DURATION:PT1H
X-Robots-Tag:noindex
X-PUBLISHED-TTL:PT1H
BEGIN:VTIMEZONE
TZID:America/New_York
BEGIN:DAYLIGHT
TZOFFSETFROM:-0500
TZOFFSETTO:-0400
TZNAME:EDT
DTSTART:20240310T070000
END:DAYLIGHT
BEGIN:STANDARD
TZOFFSETFROM:-0400
TZOFFSETTO:-0500
TZNAME:EST
DTSTART:20241103T060000
END:STANDARD
BEGIN:DAYLIGHT
TZOFFSETFROM:-0500
TZOFFSETTO:-0400
TZNAME:EDT
DTSTART:20250309T070000
END:DAYLIGHT
BEGIN:STANDARD
TZOFFSETFROM:-0400
TZOFFSETTO:-0500
TZNAME:EST
DTSTART:20251102T060000
END:STANDARD
BEGIN:DAYLIGHT
TZOFFSETFROM:-0500
TZOFFSETTO:-0400
TZNAME:EDT
DTSTART:20260308T070000
END:DAYLIGHT
BEGIN:STANDARD
TZOFFSETFROM:-0400
TZOFFSETTO:-0500
TZNAME:EST
DTSTART:20261101T060000
END:STANDARD
END:VTIMEZONE
BEGIN:VEVENT
DTSTART;TZID=America/New_York:20251104T100000
DTEND;TZID=America/New_York:20251104T111500
DTSTAMP:20260423T191458
CREATED:20250724T144411Z
LAST-MODIFIED:20250724T144411Z
UID:10001945-1762250400-1762254900@www.dempseycenter.org
SUMMARY:Rock Row Cancer Support Group Series [Rock Row]
DESCRIPTION:Meet in person at our Rock Row location with others impacted by cancer in this 12-week support group. Whether you were recently diagnosed\, in the midst of treatment\, or are now with no evidence of disease\, this group is a place to discuss your diagnosis and its lingering impact with those who truly understand.\n\nLed by Jennifer Keefe\, MSW Intern.\n\nOpen to adult Dempsey Center clients with a cancer diagnosis at any stage.\nParticipants must be residents of Maine.
URL:https://www.dempseycenter.org/event/rock-row-cancer-support-group-series-rock-row/2025-11-04/
LOCATION:Dempsey Center – Rock Row\, 11 Rock Row\, Westbrook\, ME\, 04092\, United States
CATEGORIES:Counseling,Support Groups
ATTACH;FMTTYPE=image/png:https://www.dempseycenter.org/wp-content/uploads/2025/05/Rock-Row-Support-Group-3.png
END:VEVENT
BEGIN:VEVENT
DTSTART;TZID=America/New_York:20251104T140000
DTEND;TZID=America/New_York:20251104T151500
DTSTAMP:20260423T191458
CREATED:20250930T202739Z
LAST-MODIFIED:20251106T223023Z
UID:10002303-1762264800-1762269300@www.dempseycenter.org
SUMMARY:Guided Meditation + Massage [Rock Row]
DESCRIPTION:Experience a serene session of guided meditation and restorative massage. Allow yourself to be guided through tranquil meditation while our massage therapists offer soothing hand\, foot\, back\, and neck massage. This distinctive blend provides an opportunity for deep relaxation\, comfort\, and rejuvenation.\nLed by Dempsey Center Staff.\nOpen to Dempsey Center clients in active treatment or post-treatment.
URL:https://www.dempseycenter.org/event/guided-meditation-massage-rock-row-5/2025-11-04/
LOCATION:Dempsey Center – Rock Row\, 11 Rock Row\, Westbrook\, ME\, 04092\, United States
CATEGORIES:Complementary Therapies,Mindfulness + Meditation
ATTACH;FMTTYPE=image/png:https://www.dempseycenter.org/wp-content/uploads/2025/05/Guided-Meditation-Massage-RR-2.png
END:VEVENT
END:VCALENDAR