BEGIN:VCALENDAR
VERSION:2.0
PRODID:-//Dempsey Center - ECPv6.15.15//NONSGML v1.0//EN
CALSCALE:GREGORIAN
METHOD:PUBLISH
X-WR-CALNAME:Dempsey Center
X-ORIGINAL-URL:https://www.dempseycenter.org
X-WR-CALDESC:Events for Dempsey Center
REFRESH-INTERVAL;VALUE=DURATION:PT1H
X-Robots-Tag:noindex
X-PUBLISHED-TTL:PT1H
BEGIN:VTIMEZONE
TZID:America/New_York
BEGIN:DAYLIGHT
TZOFFSETFROM:-0500
TZOFFSETTO:-0400
TZNAME:EDT
DTSTART:20240310T070000
END:DAYLIGHT
BEGIN:STANDARD
TZOFFSETFROM:-0400
TZOFFSETTO:-0500
TZNAME:EST
DTSTART:20241103T060000
END:STANDARD
BEGIN:DAYLIGHT
TZOFFSETFROM:-0500
TZOFFSETTO:-0400
TZNAME:EDT
DTSTART:20250309T070000
END:DAYLIGHT
BEGIN:STANDARD
TZOFFSETFROM:-0400
TZOFFSETTO:-0500
TZNAME:EST
DTSTART:20251102T060000
END:STANDARD
BEGIN:DAYLIGHT
TZOFFSETFROM:-0500
TZOFFSETTO:-0400
TZNAME:EDT
DTSTART:20260308T070000
END:DAYLIGHT
BEGIN:STANDARD
TZOFFSETFROM:-0400
TZOFFSETTO:-0500
TZNAME:EST
DTSTART:20261101T060000
END:STANDARD
END:VTIMEZONE
BEGIN:VEVENT
DTSTART;TZID=America/New_York:20251110T110000
DTEND;TZID=America/New_York:20251110T123000
DTSTAMP:20260423T191532
CREATED:20251009T200204Z
LAST-MODIFIED:20251009T200204Z
UID:10002340-1762772400-1762777800@www.dempseycenter.org
SUMMARY:Care Partner Support Group Series [Rock Row]
DESCRIPTION:If you are providing emotional and/or physical support to someone with cancer\, this is the place for you. This 10-week group provides a safe\, comfortable place to find the support\, information\, and understanding you need to continue caring for your loved one. We will discuss how to reduce isolation\, worry\, and fear.\n\nLed by Sarah Kelley\, LMSW-cc\n\nOpen to Dempsey Center clients who are care partners to a loved one diagnosed with cancer.
URL:https://www.dempseycenter.org/event/care-partner-support-group-series-rock-row/2025-11-10/
LOCATION:Dempsey Center – Rock Row\, 11 Rock Row\, Westbrook\, ME\, 04092\, United States
CATEGORIES:Support Groups
ATTACH;FMTTYPE=image/png:https://www.dempseycenter.org/wp-content/uploads/2025/10/Care-Partner-Support-Group-Series-RR.png
END:VEVENT
BEGIN:VEVENT
DTSTART;TZID=America/New_York:20251110T150000
DTEND;TZID=America/New_York:20251110T163000
DTSTAMP:20260423T191532
CREATED:20251009T193558Z
LAST-MODIFIED:20251009T193558Z
UID:10002319-1762786800-1762792200@www.dempseycenter.org
SUMMARY:Good Vibes Sound Bath [Rock Row]
DESCRIPTION:Relax into an age-old healing modality\, known today as a sound bath! In this vibrational sound immersion\, we will bask in the power of music and frequency – shown to reach deep into the brain to induce theta-wave meditation—to soothe\, de-stress\, and receive a myriad of other health benefits. Enjoy Tibetan and Chakra tuned Crystal Singing Bowls\, Native American Flute\, Solfeggio Chimes\, and more!\n\nLed by Rev. Myra Robinson\, Interfaith Chaplain and Sound Healer\, who is a Cancer survivor and former client of the Dempsey Center.\n\nOpen to all Dempsey Center Clients.
URL:https://www.dempseycenter.org/event/good-vibes-sound-bath-rock-row-3/
LOCATION:Dempsey Center – Rock Row\, 11 Rock Row\, Westbrook\, ME\, 04092\, United States
CATEGORIES:Complementary Therapies
ATTACH;FMTTYPE=image/png:https://www.dempseycenter.org/wp-content/uploads/2025/07/Good-Vibes-Sound-Bath-RR.png
END:VEVENT
END:VCALENDAR