BEGIN:VCALENDAR
VERSION:2.0
PRODID:-//Dempsey Center - ECPv6.15.15//NONSGML v1.0//EN
CALSCALE:GREGORIAN
METHOD:PUBLISH
X-WR-CALNAME:Dempsey Center
X-ORIGINAL-URL:https://www.dempseycenter.org
X-WR-CALDESC:Events for Dempsey Center
REFRESH-INTERVAL;VALUE=DURATION:PT1H
X-Robots-Tag:noindex
X-PUBLISHED-TTL:PT1H
BEGIN:VTIMEZONE
TZID:America/New_York
BEGIN:DAYLIGHT
TZOFFSETFROM:-0500
TZOFFSETTO:-0400
TZNAME:EDT
DTSTART:20240310T070000
END:DAYLIGHT
BEGIN:STANDARD
TZOFFSETFROM:-0400
TZOFFSETTO:-0500
TZNAME:EST
DTSTART:20241103T060000
END:STANDARD
BEGIN:DAYLIGHT
TZOFFSETFROM:-0500
TZOFFSETTO:-0400
TZNAME:EDT
DTSTART:20250309T070000
END:DAYLIGHT
BEGIN:STANDARD
TZOFFSETFROM:-0400
TZOFFSETTO:-0500
TZNAME:EST
DTSTART:20251102T060000
END:STANDARD
BEGIN:DAYLIGHT
TZOFFSETFROM:-0500
TZOFFSETTO:-0400
TZNAME:EDT
DTSTART:20260308T070000
END:DAYLIGHT
BEGIN:STANDARD
TZOFFSETFROM:-0400
TZOFFSETTO:-0500
TZNAME:EST
DTSTART:20261101T060000
END:STANDARD
END:VTIMEZONE
BEGIN:VEVENT
DTSTART;TZID=America/New_York:20251113T090000
DTEND;TZID=America/New_York:20251113T103000
DTSTAMP:20260424T041245
CREATED:20251023T153123Z
LAST-MODIFIED:20251023T153123Z
UID:10002539-1763024400-1763029800@www.dempseycenter.org
SUMMARY:EFT Tapping 101 for Stress Relief [Rock Row]
DESCRIPTION:Join us for an introductory class on Emotional Freedom Technique (EFT)\, commonly referred to as Tapping. EFT is a simple\, calming practice that combines gentle tapping on acupressure points with mindful awareness. This technique can help ease anxiety\, manage stress\, and support emotional well-being. This introductory class will teach you the basic tapping points\, how the technique works\, and guide you through simple practice rounds. No prior experience needed- just a willingness to explore a supportive tool for healing.\n\nLed by Tricia Gilbert.\n\nOpen to all adult Dempsey Center clients.
URL:https://www.dempseycenter.org/event/eft-tapping-101-for-stress-relief-rock-row-2/
LOCATION:Dempsey Center – Rock Row\, 11 Rock Row\, Westbrook\, ME\, 04092\, United States
CATEGORIES:Complementary Therapies
ATTACH;FMTTYPE=image/png:https://www.dempseycenter.org/wp-content/uploads/2025/07/Emotional-Freedom-Technique-EFT-Tapping-101-for-Stress-Relief-RR-1.png
END:VEVENT
BEGIN:VEVENT
DTSTART;TZID=America/New_York:20251113T103000
DTEND;TZID=America/New_York:20251113T120000
DTSTAMP:20260424T041245
CREATED:20250507T135932Z
LAST-MODIFIED:20260416T190403Z
UID:10002460-1763029800-1763035200@www.dempseycenter.org
SUMMARY:Dempsey Dog Meet + Greet: Forest [Rock Row]
DESCRIPTION:Therapy dogs can help to provide emotional support\, alleviate stress\, improve moods\, and help boost confidence. We are proud to encourage the animal-human bond through our teams of Dempsey Dogs\, trained and registered by Pet Partners.\nDrop in and say “hi” to our Dempsey Dog Teams. No sign up needed!
URL:https://www.dempseycenter.org/event/dempsey-dog-meet-greet-forest-rock-row/2025-11-13/
LOCATION:Dempsey Center – Rock Row\, 11 Rock Row\, Westbrook\, ME\, 04092\, United States
CATEGORIES:Comfort + Wellbeing,Dempsey Dogs
ATTACH;FMTTYPE=image/png:https://www.dempseycenter.org/wp-content/uploads/2025/05/Demp-Dogs-Meet-Forest-RR.png
END:VEVENT
BEGIN:VEVENT
DTSTART;TZID=America/New_York:20251113T130000
DTEND;TZID=America/New_York:20251113T143000
DTSTAMP:20260424T041245
CREATED:20251009T193840Z
LAST-MODIFIED:20251009T193908Z
UID:10002321-1763038800-1763044200@www.dempseycenter.org
SUMMARY:Rejuvenate: Yoga + Massage [Rock Row]
DESCRIPTION:Experience the harmonious fusion of restorative yoga and massage with our gentle yoga and massage session. You will be led into a variety of restorative yoga postures\, and while you breathe\, stretch and relax\, you’ll receive gentle hand\, foot\, back and neck massage from a member of our massage team. This unique combination offers a chance for profound relaxation\, comfort\, and rejuvenation.\nNo prior experience with yoga or massage is necessary\, however\, participants must be able to transition from floor to standing.\nLed by Maggie Miller\, Kelcy McNamara\, and Kelli DuBose.Open to Dempsey Center clients in active or post treatment.
URL:https://www.dempseycenter.org/event/rejuvenate-yoga-massage-rock-row-6/
LOCATION:Dempsey Center – Rock Row\, 11 Rock Row\, Westbrook\, ME\, 04092\, United States
CATEGORIES:Complementary Therapies,Movement + Fitness
ATTACH;FMTTYPE=image/png:https://www.dempseycenter.org/wp-content/uploads/2025/05/Rejuvenate_-Yoga-Reiki-and-Massage-Lew-2.png
END:VEVENT
END:VCALENDAR