BEGIN:VCALENDAR
VERSION:2.0
PRODID:-//Dempsey Center - ECPv6.15.15//NONSGML v1.0//EN
CALSCALE:GREGORIAN
METHOD:PUBLISH
X-WR-CALNAME:Dempsey Center
X-ORIGINAL-URL:https://www.dempseycenter.org
X-WR-CALDESC:Events for Dempsey Center
REFRESH-INTERVAL;VALUE=DURATION:PT1H
X-Robots-Tag:noindex
X-PUBLISHED-TTL:PT1H
BEGIN:VTIMEZONE
TZID:America/New_York
BEGIN:DAYLIGHT
TZOFFSETFROM:-0500
TZOFFSETTO:-0400
TZNAME:EDT
DTSTART:20240310T070000
END:DAYLIGHT
BEGIN:STANDARD
TZOFFSETFROM:-0400
TZOFFSETTO:-0500
TZNAME:EST
DTSTART:20241103T060000
END:STANDARD
BEGIN:DAYLIGHT
TZOFFSETFROM:-0500
TZOFFSETTO:-0400
TZNAME:EDT
DTSTART:20250309T070000
END:DAYLIGHT
BEGIN:STANDARD
TZOFFSETFROM:-0400
TZOFFSETTO:-0500
TZNAME:EST
DTSTART:20251102T060000
END:STANDARD
BEGIN:DAYLIGHT
TZOFFSETFROM:-0500
TZOFFSETTO:-0400
TZNAME:EDT
DTSTART:20260308T070000
END:DAYLIGHT
BEGIN:STANDARD
TZOFFSETFROM:-0400
TZOFFSETTO:-0500
TZNAME:EST
DTSTART:20261101T060000
END:STANDARD
END:VTIMEZONE
BEGIN:VEVENT
DTSTART;TZID=America/New_York:20251118T100000
DTEND;TZID=America/New_York:20251118T111500
DTSTAMP:20260423T191927
CREATED:20250724T144411Z
LAST-MODIFIED:20250724T144411Z
UID:10001946-1763460000-1763464500@www.dempseycenter.org
SUMMARY:Rock Row Cancer Support Group Series [Rock Row]
DESCRIPTION:Meet in person at our Rock Row location with others impacted by cancer in this 12-week support group. Whether you were recently diagnosed\, in the midst of treatment\, or are now with no evidence of disease\, this group is a place to discuss your diagnosis and its lingering impact with those who truly understand.\n\nLed by Jennifer Keefe\, MSW Intern.\n\nOpen to adult Dempsey Center clients with a cancer diagnosis at any stage.\nParticipants must be residents of Maine.
URL:https://www.dempseycenter.org/event/rock-row-cancer-support-group-series-rock-row/2025-11-18/
LOCATION:Dempsey Center – Rock Row\, 11 Rock Row\, Westbrook\, ME\, 04092\, United States
CATEGORIES:Counseling,Support Groups
ATTACH;FMTTYPE=image/png:https://www.dempseycenter.org/wp-content/uploads/2025/05/Rock-Row-Support-Group-3.png
END:VEVENT
BEGIN:VEVENT
DTSTART;TZID=America/New_York:20251118T113000
DTEND;TZID=America/New_York:20251118T123000
DTSTAMP:20260423T191927
CREATED:20251023T153508Z
LAST-MODIFIED:20251023T153508Z
UID:10002540-1763465400-1763469000@www.dempseycenter.org
SUMMARY:Financial Matters: Tools\, Tips + Support [Rock Row]
DESCRIPTION:Cancer is expensive — and managing finances during treatment can quickly become overwhelming. Between medical bills\, lost income\, and unexpected costs\, it’s easy to feel unprepared. This workshop offers practical tools and guidance to help you navigate income changes\, prioritize expenses\, make difficult financial decisions\, work with financial advisors\, and plan for the future. Feel more confident about your financial planning through an open discussion designed to make a tough topic easier to face.\n\nLed by Ted Gaiser.\n\nOpen to adult Dempsey Center clients.
URL:https://www.dempseycenter.org/event/financial-matters-tools-tips-support-rock-row/
LOCATION:Dempsey Center – Rock Row\, 11 Rock Row\, Westbrook\, ME\, 04092\, United States
CATEGORIES:Education
ATTACH;FMTTYPE=image/png:https://www.dempseycenter.org/wp-content/uploads/2025/10/Financial-Matters-Tools-Tips-Support-RR.png
END:VEVENT
END:VCALENDAR