BEGIN:VCALENDAR
VERSION:2.0
PRODID:-//Dempsey Center - ECPv6.15.15//NONSGML v1.0//EN
CALSCALE:GREGORIAN
METHOD:PUBLISH
X-WR-CALNAME:Dempsey Center
X-ORIGINAL-URL:https://www.dempseycenter.org
X-WR-CALDESC:Events for Dempsey Center
REFRESH-INTERVAL;VALUE=DURATION:PT1H
X-Robots-Tag:noindex
X-PUBLISHED-TTL:PT1H
BEGIN:VTIMEZONE
TZID:America/New_York
BEGIN:DAYLIGHT
TZOFFSETFROM:-0500
TZOFFSETTO:-0400
TZNAME:EDT
DTSTART:20250309T070000
END:DAYLIGHT
BEGIN:STANDARD
TZOFFSETFROM:-0400
TZOFFSETTO:-0500
TZNAME:EST
DTSTART:20251102T060000
END:STANDARD
BEGIN:DAYLIGHT
TZOFFSETFROM:-0500
TZOFFSETTO:-0400
TZNAME:EDT
DTSTART:20260308T070000
END:DAYLIGHT
BEGIN:STANDARD
TZOFFSETFROM:-0400
TZOFFSETTO:-0500
TZNAME:EST
DTSTART:20261101T060000
END:STANDARD
BEGIN:DAYLIGHT
TZOFFSETFROM:-0500
TZOFFSETTO:-0400
TZNAME:EDT
DTSTART:20270314T070000
END:DAYLIGHT
BEGIN:STANDARD
TZOFFSETFROM:-0400
TZOFFSETTO:-0500
TZNAME:EST
DTSTART:20271107T060000
END:STANDARD
END:VTIMEZONE
BEGIN:VEVENT
DTSTART;TZID=America/New_York:20260320T090000
DTEND;TZID=America/New_York:20260320T103000
DTSTAMP:20260424T073731
CREATED:20260205T194117Z
LAST-MODIFIED:20260205T194117Z
UID:10003241-1773997200-1774002600@www.dempseycenter.org
SUMMARY:EFT Tapping 101 for Stress Relief [Rock Row]
DESCRIPTION:Join us for an introductory class on Emotional Freedom Technique (EFT)\, commonly referred to as Tapping. EFT is a simple\, calming practice that combines gentle tapping on acupressure points with mindful awareness. This technique can help ease anxiety\, manage stress and support emotional well-being. This introductory class will teach you the basic tapping points\, how the technique works\, and guide you through simple practice rounds. No prior experience needed- just a willingness to explore a supportive tool for healing.\n\nLed by Tricia Gilbert.\n\nOpen to all adult Dempsey Center clients.
URL:https://www.dempseycenter.org/event/eft-tapping-101-for-stress-relief-rock-row-3/
LOCATION:Dempsey Center – Rock Row\, 11 Rock Row\, Westbrook\, ME\, 04092\, United States
CATEGORIES:Complementary Therapies
ATTACH;FMTTYPE=image/png:https://www.dempseycenter.org/wp-content/uploads/2025/07/Emotional-Freedom-Technique-EFT-Tapping-101-for-Stress-Relief-RR-1.png
END:VEVENT
BEGIN:VEVENT
DTSTART;TZID=America/New_York:20260320T100000
DTEND;TZID=America/New_York:20260320T110000
DTSTAMP:20260424T073731
CREATED:20251126T173318Z
LAST-MODIFIED:20251126T174637Z
UID:10002979-1774000800-1774004400@www.dempseycenter.org
SUMMARY:Qigong for Wellness [Rock Row]
DESCRIPTION:Qigong is a movement therapy that promotes the flow of energy in the body to improve health. Suitable for all ages\, this class will emphasize the practice and cultivation of different exercises that provide benefits such as improved balance\, range of motion\, and core strength\, as well as pain management and decreased stress and anxiety. \nOpen to Dempsey Center clients with a cancer diagnosis at any stage and their primary care partner. \nLed by Ronnie Wilson RN/NP Certified Tai Chi + Qigong instructor
URL:https://www.dempseycenter.org/event/qigong-for-wellness-rock-row/2026-03-20/
LOCATION:Dempsey Center – Rock Row\, 11 Rock Row\, Westbrook\, ME\, 04092\, United States
CATEGORIES:Movement + Fitness
ATTACH;FMTTYPE=image/png:https://www.dempseycenter.org/wp-content/uploads/2025/11/Qigong-for-Wellness-RR.png
END:VEVENT
END:VCALENDAR