BEGIN:VCALENDAR
VERSION:2.0
PRODID:-//Dempsey Center - ECPv6.15.15//NONSGML v1.0//EN
CALSCALE:GREGORIAN
METHOD:PUBLISH
X-WR-CALNAME:Dempsey Center
X-ORIGINAL-URL:https://www.dempseycenter.org
X-WR-CALDESC:Events for Dempsey Center
REFRESH-INTERVAL;VALUE=DURATION:PT1H
X-Robots-Tag:noindex
X-PUBLISHED-TTL:PT1H
BEGIN:VTIMEZONE
TZID:America/New_York
BEGIN:DAYLIGHT
TZOFFSETFROM:-0500
TZOFFSETTO:-0400
TZNAME:EDT
DTSTART:20240310T070000
END:DAYLIGHT
BEGIN:STANDARD
TZOFFSETFROM:-0400
TZOFFSETTO:-0500
TZNAME:EST
DTSTART:20241103T060000
END:STANDARD
BEGIN:DAYLIGHT
TZOFFSETFROM:-0500
TZOFFSETTO:-0400
TZNAME:EDT
DTSTART:20250309T070000
END:DAYLIGHT
BEGIN:STANDARD
TZOFFSETFROM:-0400
TZOFFSETTO:-0500
TZNAME:EST
DTSTART:20251102T060000
END:STANDARD
BEGIN:DAYLIGHT
TZOFFSETFROM:-0500
TZOFFSETTO:-0400
TZNAME:EDT
DTSTART:20260308T070000
END:DAYLIGHT
BEGIN:STANDARD
TZOFFSETFROM:-0400
TZOFFSETTO:-0500
TZNAME:EST
DTSTART:20261101T060000
END:STANDARD
END:VTIMEZONE
BEGIN:VEVENT
DTSTART;TZID=America/New_York:20250707T100000
DTEND;TZID=America/New_York:20250707T113000
DTSTAMP:20260423T054120
CREATED:20250521T180900Z
LAST-MODIFIED:20250521T180955Z
UID:10001674-1751882400-1751887800@www.dempseycenter.org
SUMMARY:Dempsey Dog Meet + Greet: Rocco [Rock Row]
DESCRIPTION:Therapy dogs can help to provide emotional support\, alleviate stress\, improve moods\, and help boost confidence. We are proud to encourage the animal-human bond through our teams of Dempsey Dogs\, trained and registered by Pet Partners.\nDrop into our Rock Row center and say “hi” to our Dempsey Dog Teams. No sign-up needed!\n\nRocco is expected most 1st + 3rd Mondays\, 10:00-11:30AM.
URL:https://www.dempseycenter.org/event/dempsey-dog-meet-greet-rocco-rock-row/2025-07-07/
LOCATION:Dempsey Center – Rock Row\, 11 Rock Row\, Westbrook\, ME\, 04092\, United States
CATEGORIES:Comfort + Wellbeing,Dempsey Dogs
ATTACH;FMTTYPE=image/png:https://www.dempseycenter.org/wp-content/uploads/2025/05/Demp-Dogs-Meet-Rocco-RR.png
END:VEVENT
BEGIN:VEVENT
DTSTART;TZID=America/New_York:20250707T120000
DTEND;TZID=America/New_York:20250707T130000
DTSTAMP:20260423T054120
CREATED:20250507T180112Z
LAST-MODIFIED:20250507T180112Z
UID:10001486-1751889600-1751893200@www.dempseycenter.org
SUMMARY:Strength After Breast Cancer [Rock Row]
DESCRIPTION:Strength After Breast Cancer (SABC) is an 8-week exercise program open to clients with any cancer diagnosis in active or post-treatment. Presented by Seacoast Hand Therapy\, this series is designed to teach individuals about the benefits of slow\, progressive exercise and how it can reduce the onset and/or severity of lymphedema. SABC is also designed to improve strength and energy through safe upper and lower body stretches and strength exercises. Please note that this class is not restricted to clients with a breast cancer diagnosis.\n\nLed by Hilary Hayner MS\, OTR/L\, CHT\, CLT and June Leary PT\, CLT.\n\nOpen to Dempsey Center clients with any cancer diagnosis in active-treatment or post-treatment.
URL:https://www.dempseycenter.org/event/strength-after-breast-cancer-rock-row/2025-07-07/
LOCATION:Dempsey Center – Rock Row\, 11 Rock Row\, Westbrook\, ME\, 04092\, United States
CATEGORIES:Movement + Fitness
ATTACH;FMTTYPE=image/png:https://www.dempseycenter.org/wp-content/uploads/2025/05/Strength-after-Breast-cancer-RR.png
END:VEVENT
BEGIN:VEVENT
DTSTART;TZID=America/New_York:20250708T140000
DTEND;TZID=America/New_York:20250708T151500
DTSTAMP:20260423T054120
CREATED:20250516T175629Z
LAST-MODIFIED:20250516T175629Z
UID:10001551-1751983200-1751987700@www.dempseycenter.org
SUMMARY:Guided Meditation + Massage [Rock Row]
DESCRIPTION:Experience a serene session of guided meditation and restorative massage. Allow yourself to be guided through tranquil meditation while our massage therapists offer soothing hand\, foot\, back\, and neck massage. This distinctive blend provides an opportunity for deep relaxation\, comfort\, and rejuvenation.\n\nLed by Dempsey Center Maggie Miller\, Kelcy McNamara\, and Tricia Gilbert.\n\nOpen to Dempsey Center clients in active treatment or post-treatment.
URL:https://www.dempseycenter.org/event/guided-meditation-massage-rock-row-2/
LOCATION:Dempsey Center – Rock Row\, 11 Rock Row\, Westbrook\, ME\, 04092\, United States
CATEGORIES:Complementary Therapies,Mindfulness + Meditation
ATTACH;FMTTYPE=image/png:https://www.dempseycenter.org/wp-content/uploads/2025/05/Guided-Meditation-Massage-RR.png
END:VEVENT
BEGIN:VEVENT
DTSTART;TZID=America/New_York:20250709T090000
DTEND;TZID=America/New_York:20250709T100000
DTSTAMP:20260423T054120
CREATED:20250604T141934Z
LAST-MODIFIED:20251009T204403Z
UID:10000133-1752051600-1752055200@www.dempseycenter.org
SUMMARY:Dempsey Dog Meet + Greet: Louise Cheese [Rock Row]
DESCRIPTION:Therapy dogs can help to provide emotional support\, alleviate stress\, improve moods\, and help boost confidence. We are proud to encourage the animal-human bond through our teams of Dempsey Dogs\, trained and registered by Pet Partners. \nDrop into our Rock Row center and say “hi” to our Dempsey Dog Teams. No sign up needed! \n\n\n\nInterested in spending some time with one of our Dempsey Dogs teams individually? Call 877-336-7287 to schedule your private Paws Together appointment with one of our therapy dog teams.
URL:https://www.dempseycenter.org/event/dempsey-dog-meet-greet-louise-cheese-rock-row-2/2025-07-09/
LOCATION:Dempsey Center – Rock Row\, 11 Rock Row\, Westbrook\, ME\, 04092\, United States
CATEGORIES:Comfort + Wellbeing,Dempsey Dogs
ATTACH;FMTTYPE=image/png:https://www.dempseycenter.org/wp-content/uploads/2025/05/Demp-Dogs-Meet-Louise-RR.png
END:VEVENT
BEGIN:VEVENT
DTSTART;TZID=America/New_York:20250709T094500
DTEND;TZID=America/New_York:20250709T103000
DTSTAMP:20260423T054120
CREATED:20250507T162933Z
LAST-MODIFIED:20250507T162933Z
UID:10001140-1752054300-1752057000@www.dempseycenter.org
SUMMARY:Chair Yoga [Rock Row]
DESCRIPTION:Join us for a gentle\, accessible form of yoga\, open to all levels of experience. Chair Yoga utilizes both seated and standing poses using a chair for support to provide all the benefits of a traditional yoga practice. We will use movement\, breathing\, and mindfulness to improve muscular strength\, bone density\, immune support\, flexibility\, energy\, sleep\, and posture.\n\nLed by Tish Caldwell\, Dempsey Center’s Movement + Fitness Manager\, Certified Oncology Yoga Instructor.\n\nOpen to Dempsey Center clients in active treatment or post-treatment and their primary care partner.
URL:https://www.dempseycenter.org/event/chair-yoga-rock-row/2025-07-09/
LOCATION:Dempsey Center – Rock Row\, 11 Rock Row\, Westbrook\, ME\, 04092\, United States
CATEGORIES:Movement + Fitness
ATTACH;FMTTYPE=image/png:https://www.dempseycenter.org/wp-content/uploads/2025/05/Chair-Yoga-RR-2.png
END:VEVENT
BEGIN:VEVENT
DTSTART;TZID=America/New_York:20250709T100000
DTEND;TZID=America/New_York:20250709T111500
DTSTAMP:20260423T054120
CREATED:20250507T163431Z
LAST-MODIFIED:20250604T141850Z
UID:10001169-1752055200-1752059700@www.dempseycenter.org
SUMMARY:In-Person Cancer Support Group Series [Rock Row]
DESCRIPTION:Meet in person at our Rock Row location with others impacted by cancer in this 12-week support group. Whether you were recently diagnosed\, in the midst of treatment\, or are now with no evidence of disease\, this group is a place to discuss your diagnosis and its lingering impact with those who truly understand.\nLed by Christine Brome\, LCSW\, OSW-C and Jennifer Keefe\, MSW Intern.\nOpen to adult Dempsey Center clients with a cancer diagnosis at any stage.\nParticipants must be residents of Maine.
URL:https://www.dempseycenter.org/event/in-person-cancer-support-group-series-rock-row/2025-07-09/
LOCATION:Dempsey Center – Rock Row\, 11 Rock Row\, Westbrook\, ME\, 04092\, United States
CATEGORIES:Counseling,Support Groups
ATTACH;FMTTYPE=image/png:https://www.dempseycenter.org/wp-content/uploads/2025/05/Rock-Row-Support-Group-3.png
END:VEVENT
BEGIN:VEVENT
DTSTART;TZID=America/New_York:20250709T110000
DTEND;TZID=America/New_York:20250709T120000
DTSTAMP:20260423T054120
CREATED:20250507T163918Z
LAST-MODIFIED:20250507T163918Z
UID:10001230-1752058800-1752062400@www.dempseycenter.org
SUMMARY:Yoga for Cancer Care [Rock Row]
DESCRIPTION:Reduce stress\, manage treatment side-effects\, and aid cancer recovery through a unique evidence-based yoga method specifically for those diagnosed with cancer. Through movement\, breathing\, and mindfulness\, this practice aims to provide benefits such as muscular strength\, bone density\, immune support\, flexibility\, and improved posture.\n\nLed by Tish Caldwell\, Dempsey Center’s Movement + Fitness Manager\, Certified Oncology Yoga Instructor.\n\nOpen to Dempsey Center clients in active treatment or post-treatment and their primary care partner.\n\n\n\nPlease note that participants must be able to transition from floor to standing.
URL:https://www.dempseycenter.org/event/yoga-for-cancer-care-rock-row/2025-07-09/
LOCATION:Dempsey Center – Rock Row\, 11 Rock Row\, Westbrook\, ME\, 04092\, United States
CATEGORIES:Movement + Fitness
ATTACH;FMTTYPE=image/png:https://www.dempseycenter.org/wp-content/uploads/2025/05/Yoga-for-Cancer-Care-RR-2.png
END:VEVENT
BEGIN:VEVENT
DTSTART;TZID=America/New_York:20250709T120000
DTEND;TZID=America/New_York:20250709T133000
DTSTAMP:20260423T054120
CREATED:20250516T180001Z
LAST-MODIFIED:20250516T180001Z
UID:10001552-1752062400-1752067800@www.dempseycenter.org
SUMMARY:Transitioning to Survivorship for Care Partners [Rock Row]
DESCRIPTION:Being a care partner to a loved one with cancer can be challenging. Entering into a post-treatment\, survivorship phase with them can bring new and different challenges leaving you wondering\, ‘what’s next?’ In this 90-minute workshop\, we’ll explore ways to manage feelings of anxiety\, fear\, and uncertainty that may arise for you as your loved one transitions into survivorship… and you do too.\n\nLed by Michelle Hayes\, LCSW\, OSW-C.\n\nOpen to adult Dempsey Center clients caring for someone who is post-treatment\, NED or in remission.\nParticipants must be residents of Maine.
URL:https://www.dempseycenter.org/event/transitioning-to-survivorship-for-care-partners-rock-row/
LOCATION:Dempsey Center – Rock Row\, 11 Rock Row\, Westbrook\, ME\, 04092\, United States
CATEGORIES:Counseling,Support Groups
ATTACH;FMTTYPE=image/png:https://www.dempseycenter.org/wp-content/uploads/2025/05/Transitioning-Into-Survivorship-for-Care-Partners-RR.png
END:VEVENT
BEGIN:VEVENT
DTSTART;TZID=America/New_York:20250709T140000
DTEND;TZID=America/New_York:20250709T160000
DTSTAMP:20260423T054120
CREATED:20250507T165257Z
LAST-MODIFIED:20251009T204431Z
UID:10001307-1752069600-1752076800@www.dempseycenter.org
SUMMARY:Dempsey Dog Meet + Greet: Rudy [Rock Row]
DESCRIPTION:Therapy dogs can help to provide emotional support\, alleviate stress\, improve moods\, and help boost confidence. We are proud to encourage the animal-human bond through our teams of Dempsey Dogs\, trained and registered by Pet Partners.\nDrop in and say “hi” to our Dempsey Dog Teams. No sign up needed!
URL:https://www.dempseycenter.org/event/dempsey-dog-meet-greet-rudy-rock-row/2025-07-09/
LOCATION:Dempsey Center – Rock Row\, 11 Rock Row\, Westbrook\, ME\, 04092\, United States
CATEGORIES:Comfort + Wellbeing,Dempsey Dogs
ATTACH;FMTTYPE=image/png:https://www.dempseycenter.org/wp-content/uploads/2025/05/Demp-Dogs-Meet-Louise-RR-1.png
END:VEVENT
BEGIN:VEVENT
DTSTART;TZID=America/New_York:20250710T100000
DTEND;TZID=America/New_York:20250710T110000
DTSTAMP:20260423T054120
CREATED:20250507T150953Z
LAST-MODIFIED:20250507T184707Z
UID:10000941-1752141600-1752145200@www.dempseycenter.org
SUMMARY:Tai Chi + QiGong for Energy + Health [Rock Row]
DESCRIPTION:Tai Chi is a movement therapy that promotes the flow of energy in the body to improve health. Suitable for all ages\, this class will emphasize the practice and cultivation of different exercises that provide benefits such as improved balance\, range of motion\, and core strength\, as well as pain management and decreased stress and anxiety.\nLed by Cal Clark\, LMT\, Polarity Therapist\, Certified Qi Gong Instructor.\nOpen to Dempsey Center clients in active treatment or post-treatment and their primary care partner.
URL:https://www.dempseycenter.org/event/tai-chi-qigong-for-energy-health-rock-row/2025-07-10/
LOCATION:Dempsey Center – Rock Row\, 11 Rock Row\, Westbrook\, ME\, 04092\, United States
CATEGORIES:Movement + Fitness
ATTACH;FMTTYPE=image/png:https://www.dempseycenter.org/wp-content/uploads/2025/05/Tai-Chi-QiGong-for-Energy-Health-Connects-3.png
END:VEVENT
BEGIN:VEVENT
DTSTART;TZID=America/New_York:20250710T103000
DTEND;TZID=America/New_York:20250710T120000
DTSTAMP:20260423T054120
CREATED:20250507T135932Z
LAST-MODIFIED:20260416T190403Z
UID:10000202-1752143400-1752148800@www.dempseycenter.org
SUMMARY:Dempsey Dog Meet + Greet: Forest [Rock Row]
DESCRIPTION:Therapy dogs can help to provide emotional support\, alleviate stress\, improve moods\, and help boost confidence. We are proud to encourage the animal-human bond through our teams of Dempsey Dogs\, trained and registered by Pet Partners.\nDrop in and say “hi” to our Dempsey Dog Teams. No sign up needed!
URL:https://www.dempseycenter.org/event/dempsey-dog-meet-greet-forest-rock-row/2025-07-10/
LOCATION:Dempsey Center – Rock Row\, 11 Rock Row\, Westbrook\, ME\, 04092\, United States
CATEGORIES:Comfort + Wellbeing,Dempsey Dogs
ATTACH;FMTTYPE=image/png:https://www.dempseycenter.org/wp-content/uploads/2025/05/Demp-Dogs-Meet-Forest-RR.png
END:VEVENT
BEGIN:VEVENT
DTSTART;TZID=America/New_York:20250710T150000
DTEND;TZID=America/New_York:20250710T163000
DTSTAMP:20260423T054120
CREATED:20250516T180202Z
LAST-MODIFIED:20250516T180446Z
UID:10001553-1752159600-1752165000@www.dempseycenter.org
SUMMARY:Making the Move to a Plant-Based Diet [Rock Row]
DESCRIPTION:Are you considering a move to a plant-based diet? Moving away from animal-based foods can result in nutrient deficiencies and discovering new sources of protein and other micronutrients is important. This two-part workshop will look at different types of vegetarian diets and the benefits they offer to those with a cancer diagnosis or those looking to improve their health. Follow along as we demonstrate the preparation of plant-based items to get you started!\nLed by Judy Donnelly\, RDN\, LD.\nOpen to the public.\n\nPublic sign up at https://www.dempseycenter.org/services/classes-workshops/public/.\n\nThis series will have both an in-person and virtual audience. 
URL:https://www.dempseycenter.org/event/making-the-move-to-a-plant-based-diet-rock-row/2025-07-10/
LOCATION:Dempsey Center – Rock Row\, 11 Rock Row\, Westbrook\, ME\, 04092\, United States
CATEGORIES:Nutrition
ATTACH;FMTTYPE=image/png:https://www.dempseycenter.org/wp-content/uploads/2025/05/Cooking-for-Health-Healing-RR.png
END:VEVENT
BEGIN:VEVENT
DTSTART;TZID=America/New_York:20250710T150000
DTEND;TZID=America/New_York:20250710T163000
DTSTAMP:20260423T054120
CREATED:20250516T180356Z
LAST-MODIFIED:20250516T180356Z
UID:10001607-1752159600-1752165000@www.dempseycenter.org
SUMMARY:Making the Move to a Plant-Based Diet [Dempsey Connects]
DESCRIPTION:Are you considering a move to a plant-based diet? Moving away from animal-based foods can result in nutrient deficiencies and discovering new sources of protein and other micronutrients is important. This two-part workshop will look at different types of vegetarian diets and the benefits they offer to those with a cancer diagnosis or those looking to improve their health. Follow along as we demonstrate the preparation of plant-based items to get you started!\nLed by Judy Donnelly\, RDN\, LD.\nOpen to the public.\n\nPublic sign up at https://www.dempseycenter.org/services/classes-workshops/public/.\n\nThis series will have both an in-person and virtual audience. 
URL:https://www.dempseycenter.org/event/making-the-move-to-a-plant-based-diet-dempsey-connects/2025-07-10/
LOCATION:Dempsey Connects
CATEGORIES:Nutrition
ATTACH;FMTTYPE=image/png:https://www.dempseycenter.org/wp-content/uploads/2025/05/Plant-Based-Diet-Connects.png
END:VEVENT
END:VCALENDAR