BEGIN:VCALENDAR
VERSION:2.0
PRODID:-//Dempsey Center - ECPv6.15.15//NONSGML v1.0//EN
CALSCALE:GREGORIAN
METHOD:PUBLISH
X-ORIGINAL-URL:https://www.dempseycenter.org
X-WR-CALDESC:Events for Dempsey Center
REFRESH-INTERVAL;VALUE=DURATION:PT1H
X-Robots-Tag:noindex
X-PUBLISHED-TTL:PT1H
BEGIN:VTIMEZONE
TZID:America/New_York
BEGIN:DAYLIGHT
TZOFFSETFROM:-0500
TZOFFSETTO:-0400
TZNAME:EDT
DTSTART:20240310T070000
END:DAYLIGHT
BEGIN:STANDARD
TZOFFSETFROM:-0400
TZOFFSETTO:-0500
TZNAME:EST
DTSTART:20241103T060000
END:STANDARD
BEGIN:DAYLIGHT
TZOFFSETFROM:-0500
TZOFFSETTO:-0400
TZNAME:EDT
DTSTART:20250309T070000
END:DAYLIGHT
BEGIN:STANDARD
TZOFFSETFROM:-0400
TZOFFSETTO:-0500
TZNAME:EST
DTSTART:20251102T060000
END:STANDARD
BEGIN:DAYLIGHT
TZOFFSETFROM:-0500
TZOFFSETTO:-0400
TZNAME:EDT
DTSTART:20260308T070000
END:DAYLIGHT
BEGIN:STANDARD
TZOFFSETFROM:-0400
TZOFFSETTO:-0500
TZNAME:EST
DTSTART:20261101T060000
END:STANDARD
END:VTIMEZONE
BEGIN:VEVENT
DTSTART;TZID=America/New_York:20250728T100000
DTEND;TZID=America/New_York:20250728T113000
DTSTAMP:20260423T142247
CREATED:20250612T205454Z
LAST-MODIFIED:20250612T205454Z
UID:10001830-1753696800-1753702200@www.dempseycenter.org
SUMMARY:Rock Row Rocks [Rock Row]
DESCRIPTION:Find a creative\, calming space during our “Rock Row Rocks” Expressive Art Group! Here\, we’ll explore seasonal themes create painted rocks that reflect each season.\n\nOur first Rock Row Rocks class will dive into the calming energy of the sea with Summer Ocean Stone\, a creative mindfulness class designed to help you embrace the ebb and flow of life. Inspired by the ocean’s ever-changing rhythm\, this session invites participants to paint ocean-themed designs onto smooth rocks.\nAs we create\, we’ll reflect on the emotional tides we each experience\, recognizing both the peaceful lulls and powerful surges that shape our journeys. Reconnect with your inner flow and honor the wisdom found in life’s waves through a guided mindfulness focus\, where we explore the parallels between the ocean’s movement and our own emotional landscapes.\n\nLed by Tricia Gilbert.\n\nOpen to adult Dempsey Center clients.
URL:https://www.dempseycenter.org/event/rock-row-rocks-rock-row/
LOCATION:Dempsey Center – Rock Row\, 11 Rock Row\, Westbrook\, ME\, 04092\, United States
CATEGORIES:Expressive Arts
ATTACH;FMTTYPE=image/png:https://www.dempseycenter.org/wp-content/uploads/2025/06/Rock-Row-Rocks-RR.png
END:VEVENT
BEGIN:VEVENT
DTSTART;TZID=America/New_York:20250728T120000
DTEND;TZID=America/New_York:20250728T130000
DTSTAMP:20260423T142247
CREATED:20250507T180112Z
LAST-MODIFIED:20250507T180112Z
UID:10001489-1753704000-1753707600@www.dempseycenter.org
SUMMARY:Strength After Breast Cancer [Rock Row]
DESCRIPTION:Strength After Breast Cancer (SABC) is an 8-week exercise program open to clients with any cancer diagnosis in active or post-treatment. Presented by Seacoast Hand Therapy\, this series is designed to teach individuals about the benefits of slow\, progressive exercise and how it can reduce the onset and/or severity of lymphedema. SABC is also designed to improve strength and energy through safe upper and lower body stretches and strength exercises. Please note that this class is not restricted to clients with a breast cancer diagnosis.\n\nLed by Hilary Hayner MS\, OTR/L\, CHT\, CLT and June Leary PT\, CLT.\n\nOpen to Dempsey Center clients with any cancer diagnosis in active-treatment or post-treatment.
URL:https://www.dempseycenter.org/event/strength-after-breast-cancer-rock-row/2025-07-28/
LOCATION:Dempsey Center – Rock Row\, 11 Rock Row\, Westbrook\, ME\, 04092\, United States
CATEGORIES:Movement + Fitness
ATTACH;FMTTYPE=image/png:https://www.dempseycenter.org/wp-content/uploads/2025/05/Strength-after-Breast-cancer-RR.png
END:VEVENT
BEGIN:VEVENT
DTSTART;TZID=America/New_York:20250730T090000
DTEND;TZID=America/New_York:20250730T100000
DTSTAMP:20260423T142247
CREATED:20250604T141934Z
LAST-MODIFIED:20251009T204403Z
UID:10000136-1753866000-1753869600@www.dempseycenter.org
SUMMARY:Dempsey Dog Meet + Greet: Louise Cheese [Rock Row]
DESCRIPTION:Therapy dogs can help to provide emotional support\, alleviate stress\, improve moods\, and help boost confidence. We are proud to encourage the animal-human bond through our teams of Dempsey Dogs\, trained and registered by Pet Partners. \nDrop into our Rock Row center and say “hi” to our Dempsey Dog Teams. No sign up needed! \n\n\n\nInterested in spending some time with one of our Dempsey Dogs teams individually? Call 877-336-7287 to schedule your private Paws Together appointment with one of our therapy dog teams.
URL:https://www.dempseycenter.org/event/dempsey-dog-meet-greet-louise-cheese-rock-row-2/2025-07-30/
LOCATION:Dempsey Center – Rock Row\, 11 Rock Row\, Westbrook\, ME\, 04092\, United States
CATEGORIES:Comfort + Wellbeing,Dempsey Dogs
ATTACH;FMTTYPE=image/png:https://www.dempseycenter.org/wp-content/uploads/2025/05/Demp-Dogs-Meet-Louise-RR.png
END:VEVENT
BEGIN:VEVENT
DTSTART;TZID=America/New_York:20250730T094500
DTEND;TZID=America/New_York:20250730T103000
DTSTAMP:20260423T142247
CREATED:20250507T162933Z
LAST-MODIFIED:20250507T162933Z
UID:10001143-1753868700-1753871400@www.dempseycenter.org
SUMMARY:Chair Yoga [Rock Row]
DESCRIPTION:Join us for a gentle\, accessible form of yoga\, open to all levels of experience. Chair Yoga utilizes both seated and standing poses using a chair for support to provide all the benefits of a traditional yoga practice. We will use movement\, breathing\, and mindfulness to improve muscular strength\, bone density\, immune support\, flexibility\, energy\, sleep\, and posture.\n\nLed by Tish Caldwell\, Dempsey Center’s Movement + Fitness Manager\, Certified Oncology Yoga Instructor.\n\nOpen to Dempsey Center clients in active treatment or post-treatment and their primary care partner.
URL:https://www.dempseycenter.org/event/chair-yoga-rock-row/2025-07-30/
LOCATION:Dempsey Center – Rock Row\, 11 Rock Row\, Westbrook\, ME\, 04092\, United States
CATEGORIES:Movement + Fitness
ATTACH;FMTTYPE=image/png:https://www.dempseycenter.org/wp-content/uploads/2025/05/Chair-Yoga-RR-2.png
END:VEVENT
BEGIN:VEVENT
DTSTART;TZID=America/New_York:20250730T110000
DTEND;TZID=America/New_York:20250730T120000
DTSTAMP:20260423T142247
CREATED:20250507T163918Z
LAST-MODIFIED:20250507T163918Z
UID:10001233-1753873200-1753876800@www.dempseycenter.org
SUMMARY:Yoga for Cancer Care [Rock Row]
DESCRIPTION:Reduce stress\, manage treatment side-effects\, and aid cancer recovery through a unique evidence-based yoga method specifically for those diagnosed with cancer. Through movement\, breathing\, and mindfulness\, this practice aims to provide benefits such as muscular strength\, bone density\, immune support\, flexibility\, and improved posture.\n\nLed by Tish Caldwell\, Dempsey Center’s Movement + Fitness Manager\, Certified Oncology Yoga Instructor.\n\nOpen to Dempsey Center clients in active treatment or post-treatment and their primary care partner.\n\n\n\nPlease note that participants must be able to transition from floor to standing.
URL:https://www.dempseycenter.org/event/yoga-for-cancer-care-rock-row/2025-07-30/
LOCATION:Dempsey Center – Rock Row\, 11 Rock Row\, Westbrook\, ME\, 04092\, United States
CATEGORIES:Movement + Fitness
ATTACH;FMTTYPE=image/png:https://www.dempseycenter.org/wp-content/uploads/2025/05/Yoga-for-Cancer-Care-RR-2.png
END:VEVENT
BEGIN:VEVENT
DTSTART;TZID=America/New_York:20250730T121500
DTEND;TZID=America/New_York:20250730T124500
DTSTAMP:20260423T142247
CREATED:20250521T175431Z
LAST-MODIFIED:20250521T175431Z
UID:10001666-1753877700-1753879500@www.dempseycenter.org
SUMMARY:Celebrate the Harvest [Rock Row]
DESCRIPTION:Want to spruce up your vegetable repertoire this summer? Our Dempsey Garden Volunteers harvest fresh produce for the Center each week from mid-July until the last of the squash ripens in September. If you are looking for new recipes or want to sample a vegetable you haven’t had before\, drop in to Celebrate the Harvest! Join us to try something new courtesy of our guest cook!\n\nSign up for one week or every week!\n\nLed by Judy Donnelly\, RDN\, CSO\, LD\, Nutrition Program Manager.\n\nOpen to the public. Public sign up at https://www.dempseycenter.org/services/classes-workshops/public/.
URL:https://www.dempseycenter.org/event/celebrate-the-harvest-rock-row/2025-07-30/
LOCATION:Dempsey Center – Rock Row\, 11 Rock Row\, Westbrook\, ME\, 04092\, United States
CATEGORIES:Nutrition
ATTACH;FMTTYPE=image/png:https://www.dempseycenter.org/wp-content/uploads/2025/05/Celebrate-the-Harvest-RR.png
END:VEVENT
BEGIN:VEVENT
DTSTART;TZID=America/New_York:20250730T140000
DTEND;TZID=America/New_York:20250730T160000
DTSTAMP:20260423T142247
CREATED:20250507T165257Z
LAST-MODIFIED:20251009T204431Z
UID:10001310-1753884000-1753891200@www.dempseycenter.org
SUMMARY:Dempsey Dog Meet + Greet: Rudy [Rock Row]
DESCRIPTION:Therapy dogs can help to provide emotional support\, alleviate stress\, improve moods\, and help boost confidence. We are proud to encourage the animal-human bond through our teams of Dempsey Dogs\, trained and registered by Pet Partners.\nDrop in and say “hi” to our Dempsey Dog Teams. No sign up needed!
URL:https://www.dempseycenter.org/event/dempsey-dog-meet-greet-rudy-rock-row/2025-07-30/
LOCATION:Dempsey Center – Rock Row\, 11 Rock Row\, Westbrook\, ME\, 04092\, United States
CATEGORIES:Comfort + Wellbeing,Dempsey Dogs
ATTACH;FMTTYPE=image/png:https://www.dempseycenter.org/wp-content/uploads/2025/05/Demp-Dogs-Meet-Louise-RR-1.png
END:VEVENT
BEGIN:VEVENT
DTSTART;TZID=America/New_York:20250731T100000
DTEND;TZID=America/New_York:20250731T110000
DTSTAMP:20260423T142247
CREATED:20250507T150953Z
LAST-MODIFIED:20250507T184707Z
UID:10000944-1753956000-1753959600@www.dempseycenter.org
SUMMARY:Tai Chi + QiGong for Energy + Health [Rock Row]
DESCRIPTION:Tai Chi is a movement therapy that promotes the flow of energy in the body to improve health. Suitable for all ages\, this class will emphasize the practice and cultivation of different exercises that provide benefits such as improved balance\, range of motion\, and core strength\, as well as pain management and decreased stress and anxiety.\nLed by Cal Clark\, LMT\, Polarity Therapist\, Certified Qi Gong Instructor.\nOpen to Dempsey Center clients in active treatment or post-treatment and their primary care partner.
URL:https://www.dempseycenter.org/event/tai-chi-qigong-for-energy-health-rock-row/2025-07-31/
LOCATION:Dempsey Center – Rock Row\, 11 Rock Row\, Westbrook\, ME\, 04092\, United States
CATEGORIES:Movement + Fitness
ATTACH;FMTTYPE=image/png:https://www.dempseycenter.org/wp-content/uploads/2025/05/Tai-Chi-QiGong-for-Energy-Health-Connects-3.png
END:VEVENT
BEGIN:VEVENT
DTSTART;TZID=America/New_York:20250731T103000
DTEND;TZID=America/New_York:20250731T120000
DTSTAMP:20260423T142247
CREATED:20250507T135932Z
LAST-MODIFIED:20260416T190403Z
UID:10000205-1753957800-1753963200@www.dempseycenter.org
SUMMARY:Dempsey Dog Meet + Greet: Forest [Rock Row]
DESCRIPTION:Therapy dogs can help to provide emotional support\, alleviate stress\, improve moods\, and help boost confidence. We are proud to encourage the animal-human bond through our teams of Dempsey Dogs\, trained and registered by Pet Partners.\nDrop in and say “hi” to our Dempsey Dog Teams. No sign up needed!
URL:https://www.dempseycenter.org/event/dempsey-dog-meet-greet-forest-rock-row/2025-07-31/
LOCATION:Dempsey Center – Rock Row\, 11 Rock Row\, Westbrook\, ME\, 04092\, United States
CATEGORIES:Comfort + Wellbeing,Dempsey Dogs
ATTACH;FMTTYPE=image/png:https://www.dempseycenter.org/wp-content/uploads/2025/05/Demp-Dogs-Meet-Forest-RR.png
END:VEVENT
BEGIN:VEVENT
DTSTART;TZID=America/New_York:20250801T090000
DTEND;TZID=America/New_York:20250801T130000
DTSTAMP:20260423T142247
CREATED:20250612T210103Z
LAST-MODIFIED:20250625T151415Z
UID:10001832-1754038800-1754053200@www.dempseycenter.org
SUMMARY:Restorative Wellness Retreat: Summer Sanctuary [Rock Row]
DESCRIPTION:Join us for a half-day restorative wellness retreat specifically designed for those affected by cancer. We’ll enjoy a calming sound bath\, gentle stretching\, and a workshop that delves into the healing power of awe. Through moments of reflection\, movement\, and connection\, this retreat provides a nurturing space to rejuvenate your energy\, calm your mind\, and enhance your sense of well-being.\nLed by Dempsey Center staff members.\nOpen to all adult Dempsey Center clients.
URL:https://www.dempseycenter.org/event/18059/
LOCATION:Dempsey Center – Rock Row\, 11 Rock Row\, Westbrook\, ME\, 04092\, United States
CATEGORIES:Complementary Therapies
ATTACH;FMTTYPE=image/png:https://www.dempseycenter.org/wp-content/uploads/2025/06/Restorative-Wellness-Retreat-RR.png
END:VEVENT
END:VCALENDAR