BEGIN:VCALENDAR
VERSION:2.0
PRODID:-//Dempsey Center - ECPv6.15.15//NONSGML v1.0//EN
CALSCALE:GREGORIAN
METHOD:PUBLISH
X-WR-CALNAME:Dempsey Center
X-ORIGINAL-URL:https://www.dempseycenter.org
X-WR-CALDESC:Events for Dempsey Center
REFRESH-INTERVAL;VALUE=DURATION:PT1H
X-Robots-Tag:noindex
X-PUBLISHED-TTL:PT1H
BEGIN:VTIMEZONE
TZID:America/New_York
BEGIN:DAYLIGHT
TZOFFSETFROM:-0500
TZOFFSETTO:-0400
TZNAME:EDT
DTSTART:20250309T070000
END:DAYLIGHT
BEGIN:STANDARD
TZOFFSETFROM:-0400
TZOFFSETTO:-0500
TZNAME:EST
DTSTART:20251102T060000
END:STANDARD
BEGIN:DAYLIGHT
TZOFFSETFROM:-0500
TZOFFSETTO:-0400
TZNAME:EDT
DTSTART:20260308T070000
END:DAYLIGHT
BEGIN:STANDARD
TZOFFSETFROM:-0400
TZOFFSETTO:-0500
TZNAME:EST
DTSTART:20261101T060000
END:STANDARD
BEGIN:DAYLIGHT
TZOFFSETFROM:-0500
TZOFFSETTO:-0400
TZNAME:EDT
DTSTART:20270314T070000
END:DAYLIGHT
BEGIN:STANDARD
TZOFFSETFROM:-0400
TZOFFSETTO:-0500
TZNAME:EST
DTSTART:20271107T060000
END:STANDARD
END:VTIMEZONE
BEGIN:VEVENT
DTSTART;TZID=America/New_York:20260519T080000
DTEND;TZID=America/New_York:20260519T083000
DTSTAMP:20260419T151225
CREATED:20260318T173713Z
LAST-MODIFIED:20260318T173713Z
UID:10003529-1779177600-1779179400@www.dempseycenter.org
SUMMARY:Morning Guided Meditation [Dempsey Connects]
DESCRIPTION:Start your day with presence of mind and improved focus through a guided meditation session. These ongoing series will help you incorporate meditation as part of your daily routine and is designed for both beginners and those looking to establish a more consistent practice.\n\nLed by Kerry Irish\, LCSW\, OSW-C\, FAOSW.\n\nOpen to all Dempsey Center clients.
URL:https://www.dempseycenter.org/event/morning-guided-meditation-dempsey-connects-3/2026-05-19/
LOCATION:Dempsey Connects
CATEGORIES:Complementary Therapies,Mindfulness + Meditation
ATTACH;FMTTYPE=image/png:https://www.dempseycenter.org/wp-content/uploads/2025/05/Guided-Meditation-Connects.png
END:VEVENT
BEGIN:VEVENT
DTSTART;TZID=America/New_York:20260519T103000
DTEND;TZID=America/New_York:20260519T120000
DTSTAMP:20260419T151225
CREATED:20250724T152713Z
LAST-MODIFIED:20250724T153000Z
UID:10002059-1779186600-1779192000@www.dempseycenter.org
SUMMARY:Advanced Cancer Support Group [Dempsey Connects]
DESCRIPTION:If you are living with an advanced cancer diagnosis\, this is a safe place to explore ways to cope with the challenges of living with advanced illness and continue to find meaning and hope through discussion and connection. \nLed by Kerry Irish\, LCSW\, OSW-C. \nOpen to adult Dempsey Center clients living with advanced cancer.\nParticipants must be residents of Maine. \n\nOnline sign up is not available for this group. A telephone consult is required before attending. Please call us at (877)336-7287 or email registration@dempseycenter.org to request your consult.
URL:https://www.dempseycenter.org/event/advanced-cancer-support-group-dempsey-connects-tues/2026-05-19/
LOCATION:Dempsey Connects
CATEGORIES:Counseling,Support Groups
ATTACH;FMTTYPE=image/png:https://www.dempseycenter.org/wp-content/uploads/2025/05/Advanced-Cancer-Support-Group-Wednesday-Connects.png
END:VEVENT
BEGIN:VEVENT
DTSTART;TZID=America/New_York:20260519T110000
DTEND;TZID=America/New_York:20260519T121500
DTSTAMP:20260419T151225
CREATED:20260416T165232Z
LAST-MODIFIED:20260416T165232Z
UID:10004068-1779188400-1779192900@www.dempseycenter.org
SUMMARY:After Diagnosis - Now What? [Dempsey Connects]
DESCRIPTION:Being diagnosed with cancer can quickly turn your world upside down. You have questions\, anxieties\, and uncertainty about what to do next – and it’s important to know that you’re not alone. \nIf you have been newly diagnosed with cancer\, we invite you to join us for a 75-minute educational workshop designed to offer you a framework for navigating life through this experience. \nOpen to adult Dempsey Center clients. \nLed by Allison Burt\, LCSW\, OSW-C.
URL:https://www.dempseycenter.org/event/after-diagnosis-now-what-dempsey-connects/
LOCATION:Dempsey Connects
CATEGORIES:Education
ATTACH;FMTTYPE=image/png:https://www.dempseycenter.org/wp-content/uploads/2026/04/After-Diagnosis-Now-What.png
END:VEVENT
BEGIN:VEVENT
DTSTART;TZID=America/New_York:20260519T140000
DTEND;TZID=America/New_York:20260519T144500
DTSTAMP:20260419T151225
CREATED:20260410T132229Z
LAST-MODIFIED:20260410T132229Z
UID:10003988-1779199200-1779201900@www.dempseycenter.org
SUMMARY:Tai Chi + Qigong for Energy + Health [Dempsey Connects]
DESCRIPTION:No class June 30.\n \nTai Chi is a movement therapy that promotes the flow of energy in the body to improve health. Suitable for all ages\, this class will emphasize the practice and cultivation of different exercises that provide benefits such as improved balance\, range of motion\, and core strength\, as well as pain management and decreased stress and anxiety.\n\nLed by Jason Ames\, founder and owner of Maine Center for Taijiquan & Qigong.\n\nOpen to all adult Dempsey Center clients.
URL:https://www.dempseycenter.org/event/tai-chi-qigong-for-energy-health-dempsey-connects-3/2026-05-19/
LOCATION:Dempsey Connects
CATEGORIES:Movement + Fitness
ATTACH;FMTTYPE=image/png:https://www.dempseycenter.org/wp-content/uploads/2025/05/Tai-Chi-QiGong-for-Energy-Health-Connects.png
END:VEVENT
BEGIN:VEVENT
DTSTART;TZID=America/New_York:20260519T150000
DTEND;TZID=America/New_York:20260519T163000
DTSTAMP:20260419T151225
CREATED:20260327T142106Z
LAST-MODIFIED:20260327T142106Z
UID:10003658-1779202800-1779208200@www.dempseycenter.org
SUMMARY:Advanced Cancer Support Group - Afternoon [Dempsey Connects]
DESCRIPTION:No group June 30.\n \nIf you are living with an advanced cancer diagnosis\, this is a safe place to explore ways to cope with the challenges of living with advanced illness and continue to find meaning and hope through discussion and connection.\n\nLed by Michelle Hayes\, LCSW\, OSW-C.\n\nOpen to adult Dempsey Center clients living with advanced cancer.\n\nParticipants must be residents of Maine\, New Hampshire\, or Massachusetts.\n\nOnline sign up is not available for this group. A telephone consult is required before attending. Please call us at (877)336-7287 or email registration@dempseycenter.org to request your consult.
URL:https://www.dempseycenter.org/event/advanced-cancer-support-group-afternoon-dempsey-connects-2/2026-05-19/
LOCATION:Dempsey Connects
CATEGORIES:Counseling,Support Groups
ATTACH;FMTTYPE=image/png:https://www.dempseycenter.org/wp-content/uploads/2025/05/Advanced-Cancer-Support-Group-Afternoon-Connects.png
END:VEVENT
BEGIN:VEVENT
DTSTART;TZID=America/New_York:20260519T173000
DTEND;TZID=America/New_York:20260519T190000
DTSTAMP:20260419T151225
CREATED:20260416T164747Z
LAST-MODIFIED:20260416T164747Z
UID:10004062-1779211800-1779217200@www.dempseycenter.org
SUMMARY:Transitioning into Survivorship [Dempsey Connects]
DESCRIPTION:Physical\, emotional\, and financial difficulties can often continue on after cancer treatment has ended. And for some\, those difficulties can be lifelong challenges. Join others who are navigating life post-cancer treatment for this 6-week series to discuss strategies for managing anxiety and planning for life after cancer.\nLed by Michelle S. Hayes\, LCSW\, OSW-C. \nOpen to adult Dempsey Center clients who are post-treatment. \nParticipants must be residents of Maine\, New Hampshire\, or Massachusetts.
URL:https://www.dempseycenter.org/event/transitioning-into-survivorship-dempsey-connects-3/2026-05-19/
LOCATION:Dempsey Connects
CATEGORIES:Counseling
ATTACH;FMTTYPE=image/png:https://www.dempseycenter.org/wp-content/uploads/2025/05/Transitioning-Into-Survivorship-Connects-2.png
END:VEVENT
END:VCALENDAR